BEGIN:VCALENDAR
PRODID:-//WikiCFP//wenfeng2047 1.0//EN
VERSION:2.0
CALSCALE:GREGORIAN
BEGIN:VEVENT
DTSTAMP:20260420T174612Z
DTSTART;VALUE=DATE:20161017
DTEND;VALUE=DATE:20161020
SUMMARY:DSAA 2016
DESCRIPTION: IEEE Conference on Data Science and Advanced Analytics
URL:http://www.wikicfp.com/cfp/servlet/event.showcfp?eventid=52838&copyow
 nerid=86366
UID:cfp587663-E@wikicfp.com
END:VEVENT
BEGIN:VEVENT
DTSTAMP:20260420T174612Z
DTSTART;VALUE=DATE:20160520
SUMMARY:DSAA 2016 Deadline
DESCRIPTION: IEEE Conference on Data Science and Advanced Analytics
URL:http://www.wikicfp.com/cfp/servlet/event.showcfp?eventid=52838&copyow
 nerid=86366
UID:cfp587663-D@wikicfp.com
END:VEVENT
BEGIN:VEVENT
DTSTAMP:20260420T174612Z
DTSTART;VALUE=DATE:20160715
SUMMARY:DSAA 2016 Notification Due
DESCRIPTION: IEEE Conference on Data Science and Advanced Analytics
URL:http://www.wikicfp.com/cfp/servlet/event.showcfp?eventid=52838&copyow
 nerid=86366
UID:cfp587663-N@wikicfp.com
END:VEVENT
BEGIN:VEVENT
DTSTAMP:20260420T174612Z
DTSTART;VALUE=DATE:20160819
SUMMARY:DSAA 2016 Final Version Due
DESCRIPTION: IEEE Conference on Data Science and Advanced Analytics
URL:http://www.wikicfp.com/cfp/servlet/event.showcfp?eventid=52838&copyow
 nerid=86366
UID:cfp587663-N@wikicfp.com
END:VEVENT
END:VCALENDAR
