BEGIN:VCALENDAR
PRODID:-//WikiCFP//icsoc2016 1.0//EN
VERSION:2.0
CALSCALE:GREGORIAN
BEGIN:VEVENT
DTSTAMP:20260424T115140Z
DTSTART;VALUE=DATE:20120905
DTEND;VALUE=DATE:20120909
SUMMARY:UBICOMP 2012
DESCRIPTION:14th ACM International Conference on Ubiquitous Computing
URL:http://www.wikicfp.com/cfp/servlet/event.showcfp?eventid=20697&copyow
 nerid=86153
UID:cfp586299-E@wikicfp.com
END:VEVENT
BEGIN:VEVENT
DTSTAMP:20260424T115140Z
DTSTART;VALUE=DATE:20120323
SUMMARY:UBICOMP 2012 Deadline
DESCRIPTION:14th ACM International Conference on Ubiquitous Computing
URL:http://www.wikicfp.com/cfp/servlet/event.showcfp?eventid=20697&copyow
 nerid=86153
UID:cfp586299-D@wikicfp.com
END:VEVENT
BEGIN:VEVENT
DTSTAMP:20260424T115140Z
DTSTART;VALUE=DATE:20120510
SUMMARY:UBICOMP 2012 Notification Due
DESCRIPTION:14th ACM International Conference on Ubiquitous Computing
URL:http://www.wikicfp.com/cfp/servlet/event.showcfp?eventid=20697&copyow
 nerid=86153
UID:cfp586299-N@wikicfp.com
END:VEVENT
BEGIN:VEVENT
DTSTAMP:20260424T115140Z
DTSTART;VALUE=DATE:20161010
DTEND;VALUE=DATE:20161014
SUMMARY:2016 2016
DESCRIPTION:The 14th International Conference on Service-Oriented Computi
 ng (ICSOC 2016) Call for Papers
URL:http://www.wikicfp.com/cfp/servlet/event.showcfp?eventid=52616&copyow
 nerid=86153
UID:cfp586300-E@wikicfp.com
END:VEVENT
BEGIN:VEVENT
DTSTAMP:20260424T115140Z
DTSTART;VALUE=DATE:20160515
SUMMARY:2016 2016 Deadline
DESCRIPTION:The 14th International Conference on Service-Oriented Computi
 ng (ICSOC 2016) Call for Papers
URL:http://www.wikicfp.com/cfp/servlet/event.showcfp?eventid=52616&copyow
 nerid=86153
UID:cfp586300-D@wikicfp.com
END:VEVENT
BEGIN:VEVENT
DTSTAMP:20260424T115140Z
DTSTART;VALUE=DATE:20160630
SUMMARY:2016 2016 Notification Due
DESCRIPTION:The 14th International Conference on Service-Oriented Computi
 ng (ICSOC 2016) Call for Papers
URL:http://www.wikicfp.com/cfp/servlet/event.showcfp?eventid=52616&copyow
 nerid=86153
UID:cfp586300-N@wikicfp.com
END:VEVENT
BEGIN:VEVENT
DTSTAMP:20260424T115140Z
DTSTART;VALUE=DATE:20160715
SUMMARY:2016 2016 Final Version Due
DESCRIPTION:The 14th International Conference on Service-Oriented Computi
 ng (ICSOC 2016) Call for Papers
URL:http://www.wikicfp.com/cfp/servlet/event.showcfp?eventid=52616&copyow
 nerid=86153
UID:cfp586300-N@wikicfp.com
END:VEVENT
BEGIN:VEVENT
DTSTAMP:20260424T115140Z
DTSTART;VALUE=DATE:20170131
DTEND;VALUE=DATE:20170204
SUMMARY:AWC 2017
DESCRIPTION:The Australasian Web Conference 2017 Call For Papers
URL:http://www.wikicfp.com/cfp/servlet/event.showcfp?eventid=55881&copyow
 nerid=86153
UID:cfp608394-E@wikicfp.com
END:VEVENT
BEGIN:VEVENT
DTSTAMP:20260424T115140Z
DTSTART;VALUE=DATE:20160806
SUMMARY:AWC 2017 Deadline
DESCRIPTION:The Australasian Web Conference 2017 Call For Papers
URL:http://www.wikicfp.com/cfp/servlet/event.showcfp?eventid=55881&copyow
 nerid=86153
UID:cfp608394-D@wikicfp.com
END:VEVENT
BEGIN:VEVENT
DTSTAMP:20260424T115140Z
DTSTART;VALUE=DATE:20161017
SUMMARY:AWC 2017 Notification Due
DESCRIPTION:The Australasian Web Conference 2017 Call For Papers
URL:http://www.wikicfp.com/cfp/servlet/event.showcfp?eventid=55881&copyow
 nerid=86153
UID:cfp608394-N@wikicfp.com
END:VEVENT
BEGIN:VEVENT
DTSTAMP:20260424T115140Z
DTSTART;VALUE=DATE:20161107
SUMMARY:AWC 2017 Final Version Due
DESCRIPTION:The Australasian Web Conference 2017 Call For Papers
URL:http://www.wikicfp.com/cfp/servlet/event.showcfp?eventid=55881&copyow
 nerid=86153
UID:cfp608394-N@wikicfp.com
END:VEVENT
END:VCALENDAR
