BEGIN:VCALENDAR
PRODID:-//WikiCFP//ashwin2491 1.0//EN
VERSION:2.0
CALSCALE:GREGORIAN
BEGIN:VEVENT
DTSTAMP:20260419T212159Z
DTSTART;VALUE=DATE:20110122
SUMMARY:IJRRCS 2011 Deadline
DESCRIPTION:International Journal of Research and Reviews in Computer Sci
 ence Special Issue: Simulation\, Benchmarking and Modeling of Systems an
 d Communication Networks
URL:http://www.wikicfp.com/cfp/servlet/event.showcfp?eventid=13598&copyow
 nerid=85932
UID:cfp585120-D@wikicfp.com
END:VEVENT
BEGIN:VEVENT
DTSTAMP:20260419T212159Z
DTSTART;VALUE=DATE:20110201
SUMMARY:IJRRCS 2011 Notification Due
DESCRIPTION:International Journal of Research and Reviews in Computer Sci
 ence Special Issue: Simulation\, Benchmarking and Modeling of Systems an
 d Communication Networks
URL:http://www.wikicfp.com/cfp/servlet/event.showcfp?eventid=13598&copyow
 nerid=85932
UID:cfp585120-N@wikicfp.com
END:VEVENT
BEGIN:VEVENT
DTSTAMP:20260419T212159Z
DTSTART;VALUE=DATE:20110215
SUMMARY:IJRRCS 2011 Final Version Due
DESCRIPTION:International Journal of Research and Reviews in Computer Sci
 ence Special Issue: Simulation\, Benchmarking and Modeling of Systems an
 d Communication Networks
URL:http://www.wikicfp.com/cfp/servlet/event.showcfp?eventid=13598&copyow
 nerid=85932
UID:cfp585120-N@wikicfp.com
END:VEVENT
END:VCALENDAR
