BEGIN:VCALENDAR
PRODID:-//WikiCFP//dimoBrockhoff 1.0//EN
VERSION:2.0
CALSCALE:GREGORIAN
BEGIN:VEVENT
DTSTAMP:20260424T193810Z
DTSTART;VALUE=DATE:20100324
DTEND;VALUE=DATE:20100326
SUMMARY:ThRaSH 2010
DESCRIPTION:Workshop on Theory of Randomized Search Heuristics
URL:http://www.wikicfp.com/cfp/servlet/event.showcfp?eventid=7915&copyown
 erid=8546
UID:cfp62932-E@wikicfp.com
END:VEVENT
BEGIN:VEVENT
DTSTAMP:20260424T193810Z
DTSTART;VALUE=DATE:20100208
SUMMARY:ThRaSH 2010 Deadline
DESCRIPTION:Workshop on Theory of Randomized Search Heuristics
URL:http://www.wikicfp.com/cfp/servlet/event.showcfp?eventid=7915&copyown
 erid=8546
UID:cfp62932-D@wikicfp.com
END:VEVENT
BEGIN:VEVENT
DTSTAMP:20260424T193810Z
DTSTART;VALUE=DATE:20100212
SUMMARY:ThRaSH 2010 Notification Due
DESCRIPTION:Workshop on Theory of Randomized Search Heuristics
URL:http://www.wikicfp.com/cfp/servlet/event.showcfp?eventid=7915&copyown
 erid=8546
UID:cfp62932-N@wikicfp.com
END:VEVENT
BEGIN:VEVENT
DTSTAMP:20260424T193810Z
DTSTART;VALUE=DATE:20100707
DTEND;VALUE=DATE:20100709
SUMMARY:TAEMO 2010
DESCRIPTION:Workshop on Theoretical Aspects of Evolutionary Multiobjectiv
 e Optimization
URL:http://www.wikicfp.com/cfp/servlet/event.showcfp?eventid=8792&copyown
 erid=8546
UID:cfp74420-E@wikicfp.com
END:VEVENT
BEGIN:VEVENT
DTSTAMP:20260424T193810Z
DTSTART;VALUE=DATE:20100325
SUMMARY:TAEMO 2010 Deadline
DESCRIPTION:Workshop on Theoretical Aspects of Evolutionary Multiobjectiv
 e Optimization
URL:http://www.wikicfp.com/cfp/servlet/event.showcfp?eventid=8792&copyown
 erid=8546
UID:cfp74420-D@wikicfp.com
END:VEVENT
BEGIN:VEVENT
DTSTAMP:20260424T193810Z
DTSTART;VALUE=DATE:20100401
SUMMARY:TAEMO 2010 Notification Due
DESCRIPTION:Workshop on Theoretical Aspects of Evolutionary Multiobjectiv
 e Optimization
URL:http://www.wikicfp.com/cfp/servlet/event.showcfp?eventid=8792&copyown
 erid=8546
UID:cfp74420-N@wikicfp.com
END:VEVENT
BEGIN:VEVENT
DTSTAMP:20260424T193810Z
DTSTART;VALUE=DATE:20100413
SUMMARY:TAEMO 2010 Final Version Due
DESCRIPTION:Workshop on Theoretical Aspects of Evolutionary Multiobjectiv
 e Optimization
URL:http://www.wikicfp.com/cfp/servlet/event.showcfp?eventid=8792&copyown
 erid=8546
UID:cfp74420-N@wikicfp.com
END:VEVENT
END:VCALENDAR
