BEGIN:VCALENDAR
PRODID:-//WikiCFP//DrPantera 1.0//EN
VERSION:2.0
CALSCALE:GREGORIAN
BEGIN:VEVENT
DTSTAMP:20260423T113926Z
DTSTART;VALUE=DATE:20160915
DTEND;VALUE=DATE:20160914
SUMMARY:SIIE 2016
DESCRIPTION:Simposio Internacional de InformÃ¡tica Educativa
URL:http://www.wikicfp.com/cfp/servlet/event.showcfp?eventid=51797&copyow
 nerid=85326
UID:cfp580911-E@wikicfp.com
END:VEVENT
BEGIN:VEVENT
DTSTAMP:20260423T113926Z
DTSTART;VALUE=DATE:20160509
SUMMARY:SIIE 2016 Deadline
DESCRIPTION:Simposio Internacional de InformÃ¡tica Educativa
URL:http://www.wikicfp.com/cfp/servlet/event.showcfp?eventid=51797&copyow
 nerid=85326
UID:cfp580911-D@wikicfp.com
END:VEVENT
BEGIN:VEVENT
DTSTAMP:20260423T113926Z
DTSTART;VALUE=DATE:20160606
SUMMARY:SIIE 2016 Notification Due
DESCRIPTION:Simposio Internacional de InformÃ¡tica Educativa
URL:http://www.wikicfp.com/cfp/servlet/event.showcfp?eventid=51797&copyow
 nerid=85326
UID:cfp580911-N@wikicfp.com
END:VEVENT
BEGIN:VEVENT
DTSTAMP:20260423T113926Z
DTSTART;VALUE=DATE:20160627
SUMMARY:SIIE 2016 Final Version Due
DESCRIPTION:Simposio Internacional de InformÃ¡tica Educativa
URL:http://www.wikicfp.com/cfp/servlet/event.showcfp?eventid=51797&copyow
 nerid=85326
UID:cfp580911-N@wikicfp.com
END:VEVENT
BEGIN:VEVENT
DTSTAMP:20260423T113926Z
DTSTART;VALUE=DATE:20160921
DTEND;VALUE=DATE:20160924
SUMMARY:CUIEET 2016
DESCRIPTION:24Âª ediciÃ³n del Congreso Universitario de InnovaciÃ³n Educa
 tiva en las EnseÃ±anzas TÃ©cnicas
URL:http://www.wikicfp.com/cfp/servlet/event.showcfp?eventid=53644&copyow
 nerid=85326
UID:cfp593791-E@wikicfp.com
END:VEVENT
BEGIN:VEVENT
DTSTAMP:20260423T113926Z
DTSTART;VALUE=DATE:20160429
SUMMARY:CUIEET 2016 Abstract Due
DESCRIPTION:24Âª ediciÃ³n del Congreso Universitario de InnovaciÃ³n Educa
 tiva en las EnseÃ±anzas TÃ©cnicas
URL:http://www.wikicfp.com/cfp/servlet/event.showcfp?eventid=53644&copyow
 nerid=85326
UID:cfp593791-A@wikicfp.com
END:VEVENT
BEGIN:VEVENT
DTSTAMP:20260423T113926Z
DTSTART;VALUE=DATE:20160520
SUMMARY:CUIEET 2016 Deadline
DESCRIPTION:24Âª ediciÃ³n del Congreso Universitario de InnovaciÃ³n Educa
 tiva en las EnseÃ±anzas TÃ©cnicas
URL:http://www.wikicfp.com/cfp/servlet/event.showcfp?eventid=53644&copyow
 nerid=85326
UID:cfp593791-D@wikicfp.com
END:VEVENT
BEGIN:VEVENT
DTSTAMP:20260423T113926Z
DTSTART;VALUE=DATE:20160531
SUMMARY:CUIEET 2016 Notification Due
DESCRIPTION:24Âª ediciÃ³n del Congreso Universitario de InnovaciÃ³n Educa
 tiva en las EnseÃ±anzas TÃ©cnicas
URL:http://www.wikicfp.com/cfp/servlet/event.showcfp?eventid=53644&copyow
 nerid=85326
UID:cfp593791-N@wikicfp.com
END:VEVENT
BEGIN:VEVENT
DTSTAMP:20260423T113926Z
DTSTART;VALUE=DATE:20160630
SUMMARY:CUIEET 2016 Final Version Due
DESCRIPTION:24Âª ediciÃ³n del Congreso Universitario de InnovaciÃ³n Educa
 tiva en las EnseÃ±anzas TÃ©cnicas
URL:http://www.wikicfp.com/cfp/servlet/event.showcfp?eventid=53644&copyow
 nerid=85326
UID:cfp593791-N@wikicfp.com
END:VEVENT
BEGIN:VEVENT
DTSTAMP:20260423T113926Z
DTSTART;VALUE=DATE:20161102
DTEND;VALUE=DATE:20161105
SUMMARY:TEEM 2016
DESCRIPTION: International Conference Technological Ecosystems for Enhanc
 ing Multiculturality
URL:http://www.wikicfp.com/cfp/servlet/event.showcfp?eventid=51796&copyow
 nerid=85326
UID:cfp580910-E@wikicfp.com
END:VEVENT
BEGIN:VEVENT
DTSTAMP:20260423T113926Z
DTSTART;VALUE=DATE:20160715
SUMMARY:TEEM 2016 Deadline
DESCRIPTION: International Conference Technological Ecosystems for Enhanc
 ing Multiculturality
URL:http://www.wikicfp.com/cfp/servlet/event.showcfp?eventid=51796&copyow
 nerid=85326
UID:cfp580910-D@wikicfp.com
END:VEVENT
BEGIN:VEVENT
DTSTAMP:20260423T113926Z
DTSTART;VALUE=DATE:20160730
SUMMARY:TEEM 2016 Notification Due
DESCRIPTION: International Conference Technological Ecosystems for Enhanc
 ing Multiculturality
URL:http://www.wikicfp.com/cfp/servlet/event.showcfp?eventid=51796&copyow
 nerid=85326
UID:cfp580910-N@wikicfp.com
END:VEVENT
BEGIN:VEVENT
DTSTAMP:20260423T113926Z
DTSTART;VALUE=DATE:20160913
SUMMARY:TEEM 2016 Final Version Due
DESCRIPTION: International Conference Technological Ecosystems for Enhanc
 ing Multiculturality
URL:http://www.wikicfp.com/cfp/servlet/event.showcfp?eventid=51796&copyow
 nerid=85326
UID:cfp580910-N@wikicfp.com
END:VEVENT
BEGIN:VEVENT
DTSTAMP:20260423T113926Z
DTSTART;VALUE=DATE:20171018
DTEND;VALUE=DATE:20171021
SUMMARY:TEEM 2017
DESCRIPTION:International Conference Technological Ecosystems for Enhanci
 ng Multiculturality
URL:http://www.wikicfp.com/cfp/servlet/event.showcfp?eventid=64378&copyow
 nerid=85326
UID:cfp667452-E@wikicfp.com
END:VEVENT
BEGIN:VEVENT
DTSTAMP:20260423T113926Z
DTSTART;VALUE=DATE:20170701
SUMMARY:TEEM 2017 Deadline
DESCRIPTION:International Conference Technological Ecosystems for Enhanci
 ng Multiculturality
URL:http://www.wikicfp.com/cfp/servlet/event.showcfp?eventid=64378&copyow
 nerid=85326
UID:cfp667452-D@wikicfp.com
END:VEVENT
BEGIN:VEVENT
DTSTAMP:20260423T113926Z
DTSTART;VALUE=DATE:20170731
SUMMARY:TEEM 2017 Notification Due
DESCRIPTION:International Conference Technological Ecosystems for Enhanci
 ng Multiculturality
URL:http://www.wikicfp.com/cfp/servlet/event.showcfp?eventid=64378&copyow
 nerid=85326
UID:cfp667452-N@wikicfp.com
END:VEVENT
BEGIN:VEVENT
DTSTAMP:20260423T113926Z
DTSTART;VALUE=DATE:20170904
SUMMARY:TEEM 2017 Final Version Due
DESCRIPTION:International Conference Technological Ecosystems for Enhanci
 ng Multiculturality
URL:http://www.wikicfp.com/cfp/servlet/event.showcfp?eventid=64378&copyow
 nerid=85326
UID:cfp667452-N@wikicfp.com
END:VEVENT
BEGIN:VEVENT
DTSTAMP:20260423T113926Z
DTSTART;VALUE=DATE:20180919
DTEND;VALUE=DATE:20180922
SUMMARY:SIIE 2018
DESCRIPTION:20th International Symposium on Computers in Education SIIE 2
 018
URL:http://www.wikicfp.com/cfp/servlet/event.showcfp?eventid=73094&copyow
 nerid=85326
UID:cfp711558-E@wikicfp.com
END:VEVENT
BEGIN:VEVENT
DTSTAMP:20260423T113926Z
DTSTART;VALUE=DATE:20180521
SUMMARY:SIIE 2018 Deadline
DESCRIPTION:20th International Symposium on Computers in Education SIIE 2
 018
URL:http://www.wikicfp.com/cfp/servlet/event.showcfp?eventid=73094&copyow
 nerid=85326
UID:cfp711558-D@wikicfp.com
END:VEVENT
BEGIN:VEVENT
DTSTAMP:20260423T113926Z
DTSTART;VALUE=DATE:20180611
SUMMARY:SIIE 2018 Notification Due
DESCRIPTION:20th International Symposium on Computers in Education SIIE 2
 018
URL:http://www.wikicfp.com/cfp/servlet/event.showcfp?eventid=73094&copyow
 nerid=85326
UID:cfp711558-N@wikicfp.com
END:VEVENT
BEGIN:VEVENT
DTSTAMP:20260423T113926Z
DTSTART;VALUE=DATE:20180627
SUMMARY:SIIE 2018 Final Version Due
DESCRIPTION:20th International Symposium on Computers in Education SIIE 2
 018
URL:http://www.wikicfp.com/cfp/servlet/event.showcfp?eventid=73094&copyow
 nerid=85326
UID:cfp711558-N@wikicfp.com
END:VEVENT
BEGIN:VEVENT
DTSTAMP:20260423T113926Z
DTSTART;VALUE=DATE:20210521
SUMMARY:Electronics (SI Open Souce Learning) 2021 Deadline
DESCRIPTION:Electronics Special issue: Open Source Software in Learning E
 nvironments (IF 2.412\, ISSN 2079-9292)
URL:http://www.wikicfp.com/cfp/servlet/event.showcfp?eventid=115743&copyo
 wnerid=85326
UID:cfp858419-D@wikicfp.com
END:VEVENT
END:VCALENDAR
