BEGIN:VCALENDAR
PRODID:-//WikiCFP//kk1153 1.0//EN
VERSION:2.0
CALSCALE:GREGORIAN
BEGIN:VEVENT
DTSTAMP:20260421T174018Z
DTSTART;VALUE=DATE:20151231
SUMMARY:SCIP 2015 Deadline
DESCRIPTION:Special Issue Soft Computing in Image Processing
URL:http://www.wikicfp.com/cfp/servlet/event.showcfp?eventid=47055&copyow
 nerid=85223
UID:cfp580367-D@wikicfp.com
END:VEVENT
BEGIN:VEVENT
DTSTAMP:20260421T174018Z
DTSTART;VALUE=DATE:20160925
DTEND;VALUE=DATE:20160929
SUMMARY:ICIP 2016
DESCRIPTION:International Conference on Image Processing
URL:http://www.wikicfp.com/cfp/servlet/event.showcfp?eventid=47057&copyow
 nerid=85223
UID:cfp580368-E@wikicfp.com
END:VEVENT
BEGIN:VEVENT
DTSTAMP:20260421T174018Z
DTSTART;VALUE=DATE:20160125
SUMMARY:ICIP 2016 Deadline
DESCRIPTION:International Conference on Image Processing
URL:http://www.wikicfp.com/cfp/servlet/event.showcfp?eventid=47057&copyow
 nerid=85223
UID:cfp580368-D@wikicfp.com
END:VEVENT
BEGIN:VEVENT
DTSTAMP:20260421T174018Z
DTSTART;VALUE=DATE:20160430
SUMMARY:ICIP 2016 Notification Due
DESCRIPTION:International Conference on Image Processing
URL:http://www.wikicfp.com/cfp/servlet/event.showcfp?eventid=47057&copyow
 nerid=85223
UID:cfp580368-N@wikicfp.com
END:VEVENT
BEGIN:VEVENT
DTSTAMP:20260421T174018Z
DTSTART;VALUE=DATE:20160530
SUMMARY:ICIP 2016 Final Version Due
DESCRIPTION:International Conference on Image Processing
URL:http://www.wikicfp.com/cfp/servlet/event.showcfp?eventid=47057&copyow
 nerid=85223
UID:cfp580368-N@wikicfp.com
END:VEVENT
BEGIN:VEVENT
DTSTAMP:20260421T174018Z
DTSTART;VALUE=DATE:20160922
DTEND;VALUE=DATE:20160925
SUMMARY:ICACNI 2016
DESCRIPTION:4th International Conference on Advanced Computing\, Networki
 ng\, and Informatics\, Springer
URL:http://www.wikicfp.com/cfp/servlet/event.showcfp?eventid=51358&copyow
 nerid=85223
UID:cfp580381-E@wikicfp.com
END:VEVENT
BEGIN:VEVENT
DTSTAMP:20260421T174018Z
DTSTART;VALUE=DATE:20160210
SUMMARY:ICACNI 2016 Deadline
DESCRIPTION:4th International Conference on Advanced Computing\, Networki
 ng\, and Informatics\, Springer
URL:http://www.wikicfp.com/cfp/servlet/event.showcfp?eventid=51358&copyow
 nerid=85223
UID:cfp580381-D@wikicfp.com
END:VEVENT
BEGIN:VEVENT
DTSTAMP:20260421T174018Z
DTSTART;VALUE=DATE:20160415
SUMMARY:ICACNI 2016 Notification Due
DESCRIPTION:4th International Conference on Advanced Computing\, Networki
 ng\, and Informatics\, Springer
URL:http://www.wikicfp.com/cfp/servlet/event.showcfp?eventid=51358&copyow
 nerid=85223
UID:cfp580381-N@wikicfp.com
END:VEVENT
BEGIN:VEVENT
DTSTAMP:20260421T174018Z
DTSTART;VALUE=DATE:20160510
SUMMARY:ICACNI 2016 Final Version Due
DESCRIPTION:4th International Conference on Advanced Computing\, Networki
 ng\, and Informatics\, Springer
URL:http://www.wikicfp.com/cfp/servlet/event.showcfp?eventid=51358&copyow
 nerid=85223
UID:cfp580381-N@wikicfp.com
END:VEVENT
BEGIN:VEVENT
DTSTAMP:20260421T174018Z
DTSTART;VALUE=DATE:20160427
DTEND;VALUE=DATE:20160430
SUMMARY:SCCG 2016
DESCRIPTION:32nd Spring conference on Computer Graphics
URL:http://www.wikicfp.com/cfp/servlet/event.showcfp?eventid=50345&copyow
 nerid=85223
UID:cfp580377-E@wikicfp.com
END:VEVENT
BEGIN:VEVENT
DTSTAMP:20260421T174018Z
DTSTART;VALUE=DATE:20160214
SUMMARY:SCCG 2016 Deadline
DESCRIPTION:32nd Spring conference on Computer Graphics
URL:http://www.wikicfp.com/cfp/servlet/event.showcfp?eventid=50345&copyow
 nerid=85223
UID:cfp580377-D@wikicfp.com
END:VEVENT
BEGIN:VEVENT
DTSTAMP:20260421T174018Z
DTSTART;VALUE=DATE:20160327
SUMMARY:SCCG 2016 Notification Due
DESCRIPTION:32nd Spring conference on Computer Graphics
URL:http://www.wikicfp.com/cfp/servlet/event.showcfp?eventid=50345&copyow
 nerid=85223
UID:cfp580377-N@wikicfp.com
END:VEVENT
BEGIN:VEVENT
DTSTAMP:20260421T174018Z
DTSTART;VALUE=DATE:20160403
SUMMARY:SCCG 2016 Final Version Due
DESCRIPTION:32nd Spring conference on Computer Graphics
URL:http://www.wikicfp.com/cfp/servlet/event.showcfp?eventid=50345&copyow
 nerid=85223
UID:cfp580377-N@wikicfp.com
END:VEVENT
BEGIN:VEVENT
DTSTAMP:20260421T174018Z
DTSTART;VALUE=DATE:20160627
DTEND;VALUE=DATE:20160702
SUMMARY:RFIA 2016
DESCRIPTION:Reconnaissance  des Formes et  l'Intelligence Artificielle
URL:http://www.wikicfp.com/cfp/servlet/event.showcfp?eventid=51439&copyow
 nerid=85223
UID:cfp580382-E@wikicfp.com
END:VEVENT
BEGIN:VEVENT
DTSTAMP:20260421T174018Z
DTSTART;VALUE=DATE:20160219
SUMMARY:RFIA 2016 Deadline
DESCRIPTION:Reconnaissance  des Formes et  l'Intelligence Artificielle
URL:http://www.wikicfp.com/cfp/servlet/event.showcfp?eventid=51439&copyow
 nerid=85223
UID:cfp580382-D@wikicfp.com
END:VEVENT
BEGIN:VEVENT
DTSTAMP:20260421T174018Z
DTSTART;VALUE=DATE:20160429
SUMMARY:RFIA 2016 Notification Due
DESCRIPTION:Reconnaissance  des Formes et  l'Intelligence Artificielle
URL:http://www.wikicfp.com/cfp/servlet/event.showcfp?eventid=51439&copyow
 nerid=85223
UID:cfp580382-N@wikicfp.com
END:VEVENT
BEGIN:VEVENT
DTSTAMP:20260421T174018Z
DTSTART;VALUE=DATE:20160515
SUMMARY:RFIA 2016 Final Version Due
DESCRIPTION:Reconnaissance  des Formes et  l'Intelligence Artificielle
URL:http://www.wikicfp.com/cfp/servlet/event.showcfp?eventid=51439&copyow
 nerid=85223
UID:cfp580382-N@wikicfp.com
END:VEVENT
BEGIN:VEVENT
DTSTAMP:20260421T174018Z
DTSTART;VALUE=DATE:20160530
DTEND;VALUE=DATE:20160604
SUMMARY:WSCG 2016
DESCRIPTION:24. WSCG Int.Conf. on Computer Graphics\, Visualization and 
URL:http://www.wikicfp.com/cfp/servlet/event.showcfp?eventid=48359&copyow
 nerid=85223
UID:cfp580371-E@wikicfp.com
END:VEVENT
BEGIN:VEVENT
DTSTAMP:20260421T174018Z
DTSTART;VALUE=DATE:20160220
SUMMARY:WSCG 2016 Deadline
DESCRIPTION:24. WSCG Int.Conf. on Computer Graphics\, Visualization and 
URL:http://www.wikicfp.com/cfp/servlet/event.showcfp?eventid=48359&copyow
 nerid=85223
UID:cfp580371-D@wikicfp.com
END:VEVENT
BEGIN:VEVENT
DTSTAMP:20260421T174018Z
DTSTART;VALUE=DATE:20160530
DTEND;VALUE=DATE:20160604
SUMMARY:GraVisMa 2016
DESCRIPTION:GraVisMa - Int.Conf. on Computer Graphics\, Computer Vision a
 nd Computational Mathematics 2016
URL:http://www.wikicfp.com/cfp/servlet/event.showcfp?eventid=48360&copyow
 nerid=85223
UID:cfp580372-E@wikicfp.com
END:VEVENT
BEGIN:VEVENT
DTSTAMP:20260421T174018Z
DTSTART;VALUE=DATE:20160220
SUMMARY:GraVisMa 2016 Deadline
DESCRIPTION:GraVisMa - Int.Conf. on Computer Graphics\, Computer Vision a
 nd Computational Mathematics 2016
URL:http://www.wikicfp.com/cfp/servlet/event.showcfp?eventid=48360&copyow
 nerid=85223
UID:cfp580372-D@wikicfp.com
END:VEVENT
BEGIN:VEVENT
DTSTAMP:20260421T174018Z
DTSTART;VALUE=DATE:20160326
DTEND;VALUE=DATE:20160328
SUMMARY:CoSIT 2016
DESCRIPTION:Third International Conference on Computer Science and Inform
 ation Technology 
URL:http://www.wikicfp.com/cfp/servlet/event.showcfp?eventid=51090&copyow
 nerid=85223
UID:cfp580378-E@wikicfp.com
END:VEVENT
BEGIN:VEVENT
DTSTAMP:20260421T174018Z
DTSTART;VALUE=DATE:20160227
SUMMARY:CoSIT 2016 Deadline
DESCRIPTION:Third International Conference on Computer Science and Inform
 ation Technology 
URL:http://www.wikicfp.com/cfp/servlet/event.showcfp?eventid=51090&copyow
 nerid=85223
UID:cfp580378-D@wikicfp.com
END:VEVENT
BEGIN:VEVENT
DTSTAMP:20260421T174018Z
DTSTART;VALUE=DATE:20160313
SUMMARY:CoSIT 2016 Notification Due
DESCRIPTION:Third International Conference on Computer Science and Inform
 ation Technology 
URL:http://www.wikicfp.com/cfp/servlet/event.showcfp?eventid=51090&copyow
 nerid=85223
UID:cfp580378-N@wikicfp.com
END:VEVENT
BEGIN:VEVENT
DTSTAMP:20260421T174018Z
DTSTART;VALUE=DATE:20160320
SUMMARY:CoSIT 2016 Final Version Due
DESCRIPTION:Third International Conference on Computer Science and Inform
 ation Technology 
URL:http://www.wikicfp.com/cfp/servlet/event.showcfp?eventid=51090&copyow
 nerid=85223
UID:cfp580378-N@wikicfp.com
END:VEVENT
BEGIN:VEVENT
DTSTAMP:20260421T174018Z
DTSTART;VALUE=DATE:20160301
SUMMARY:DIPMA 2016 Deadline
DESCRIPTION:SIM Special Issue: Simulations of Digital Image Processing in
  Medical Applications (IF= 0.818)
URL:http://www.wikicfp.com/cfp/servlet/event.showcfp?eventid=48845&copyow
 nerid=85223
UID:cfp580373-D@wikicfp.com
END:VEVENT
BEGIN:VEVENT
DTSTAMP:20260421T174018Z
DTSTART;VALUE=DATE:20160701
SUMMARY:DIPMA 2016 Notification Due
DESCRIPTION:SIM Special Issue: Simulations of Digital Image Processing in
  Medical Applications (IF= 0.818)
URL:http://www.wikicfp.com/cfp/servlet/event.showcfp?eventid=48845&copyow
 nerid=85223
UID:cfp580373-N@wikicfp.com
END:VEVENT
BEGIN:VEVENT
DTSTAMP:20260421T174018Z
DTSTART;VALUE=DATE:20161201
SUMMARY:DIPMA 2016 Final Version Due
DESCRIPTION:SIM Special Issue: Simulations of Digital Image Processing in
  Medical Applications (IF= 0.818)
URL:http://www.wikicfp.com/cfp/servlet/event.showcfp?eventid=48845&copyow
 nerid=85223
UID:cfp580373-N@wikicfp.com
END:VEVENT
BEGIN:VEVENT
DTSTAMP:20260421T174018Z
DTSTART;VALUE=DATE:20160626
DTEND;VALUE=DATE:20160627
SUMMARY:PBVS 2016
DESCRIPTION:12th IEEE Workshop on Perception Beyond the Visible Spectrum 
 - In conjunction with CVPR 2016
URL:http://www.wikicfp.com/cfp/servlet/event.showcfp?eventid=51497&copyow
 nerid=85223
UID:cfp580383-E@wikicfp.com
END:VEVENT
BEGIN:VEVENT
DTSTAMP:20260421T174018Z
DTSTART;VALUE=DATE:20160307
SUMMARY:PBVS 2016 Deadline
DESCRIPTION:12th IEEE Workshop on Perception Beyond the Visible Spectrum 
 - In conjunction with CVPR 2016
URL:http://www.wikicfp.com/cfp/servlet/event.showcfp?eventid=51497&copyow
 nerid=85223
UID:cfp580383-D@wikicfp.com
END:VEVENT
BEGIN:VEVENT
DTSTAMP:20260421T174018Z
DTSTART;VALUE=DATE:20160321
SUMMARY:PBVS 2016 Notification Due
DESCRIPTION:12th IEEE Workshop on Perception Beyond the Visible Spectrum 
 - In conjunction with CVPR 2016
URL:http://www.wikicfp.com/cfp/servlet/event.showcfp?eventid=51497&copyow
 nerid=85223
UID:cfp580383-N@wikicfp.com
END:VEVENT
BEGIN:VEVENT
DTSTAMP:20260421T174018Z
DTSTART;VALUE=DATE:20160328
SUMMARY:PBVS 2016 Final Version Due
DESCRIPTION:12th IEEE Workshop on Perception Beyond the Visible Spectrum 
 - In conjunction with CVPR 2016
URL:http://www.wikicfp.com/cfp/servlet/event.showcfp?eventid=51497&copyow
 nerid=85223
UID:cfp580383-N@wikicfp.com
END:VEVENT
BEGIN:VEVENT
DTSTAMP:20260421T174018Z
DTSTART;VALUE=DATE:20161008
DTEND;VALUE=DATE:20161017
SUMMARY:ECCV 2016
DESCRIPTION:European Conference on Computer Vision
URL:http://www.wikicfp.com/cfp/servlet/event.showcfp?eventid=46142&copyow
 nerid=85223
UID:cfp580366-E@wikicfp.com
END:VEVENT
BEGIN:VEVENT
DTSTAMP:20260421T174018Z
DTSTART;VALUE=DATE:20160314
SUMMARY:ECCV 2016 Deadline
DESCRIPTION:European Conference on Computer Vision
URL:http://www.wikicfp.com/cfp/servlet/event.showcfp?eventid=46142&copyow
 nerid=85223
UID:cfp580366-D@wikicfp.com
END:VEVENT
BEGIN:VEVENT
DTSTAMP:20260421T174018Z
DTSTART;VALUE=DATE:20160701
SUMMARY:ECCV 2016 Notification Due
DESCRIPTION:European Conference on Computer Vision
URL:http://www.wikicfp.com/cfp/servlet/event.showcfp?eventid=46142&copyow
 nerid=85223
UID:cfp580366-N@wikicfp.com
END:VEVENT
BEGIN:VEVENT
DTSTAMP:20260421T174018Z
DTSTART;VALUE=DATE:20160725
SUMMARY:ECCV 2016 Final Version Due
DESCRIPTION:European Conference on Computer Vision
URL:http://www.wikicfp.com/cfp/servlet/event.showcfp?eventid=46142&copyow
 nerid=85223
UID:cfp580366-N@wikicfp.com
END:VEVENT
BEGIN:VEVENT
DTSTAMP:20260421T174018Z
DTSTART;VALUE=DATE:20160919
DTEND;VALUE=DATE:20160924
SUMMARY:ISMAR 2016
DESCRIPTION:International Symposium on Mixed and Augmented Reality
URL:http://www.wikicfp.com/cfp/servlet/event.showcfp?eventid=49460&copyow
 nerid=85223
UID:cfp580374-E@wikicfp.com
END:VEVENT
BEGIN:VEVENT
DTSTAMP:20260421T174018Z
DTSTART;VALUE=DATE:20160315
SUMMARY:ISMAR 2016 Deadline
DESCRIPTION:International Symposium on Mixed and Augmented Reality
URL:http://www.wikicfp.com/cfp/servlet/event.showcfp?eventid=49460&copyow
 nerid=85223
UID:cfp580374-D@wikicfp.com
END:VEVENT
BEGIN:VEVENT
DTSTAMP:20260421T174018Z
DTSTART;VALUE=DATE:20161204
DTEND;VALUE=DATE:20161209
SUMMARY:ICPR 2016
DESCRIPTION:IAPR International Conference on Pattern Recognition
URL:http://www.wikicfp.com/cfp/servlet/event.showcfp?eventid=47743&copyow
 nerid=85223
UID:cfp580370-E@wikicfp.com
END:VEVENT
BEGIN:VEVENT
DTSTAMP:20260421T174018Z
DTSTART;VALUE=DATE:20160403
SUMMARY:ICPR 2016 Deadline
DESCRIPTION:IAPR International Conference on Pattern Recognition
URL:http://www.wikicfp.com/cfp/servlet/event.showcfp?eventid=47743&copyow
 nerid=85223
UID:cfp580370-D@wikicfp.com
END:VEVENT
BEGIN:VEVENT
DTSTAMP:20260421T174018Z
DTSTART;VALUE=DATE:20160710
SUMMARY:ICPR 2016 Notification Due
DESCRIPTION:IAPR International Conference on Pattern Recognition
URL:http://www.wikicfp.com/cfp/servlet/event.showcfp?eventid=47743&copyow
 nerid=85223
UID:cfp580370-N@wikicfp.com
END:VEVENT
BEGIN:VEVENT
DTSTAMP:20260421T174018Z
DTSTART;VALUE=DATE:20160904
SUMMARY:ICPR 2016 Final Version Due
DESCRIPTION:IAPR International Conference on Pattern Recognition
URL:http://www.wikicfp.com/cfp/servlet/event.showcfp?eventid=47743&copyow
 nerid=85223
UID:cfp580370-N@wikicfp.com
END:VEVENT
BEGIN:VEVENT
DTSTAMP:20260421T174018Z
DTSTART;VALUE=DATE:20160907
DTEND;VALUE=DATE:20160910
SUMMARY:IP&C 2016
DESCRIPTION:8th International Conference on Image Processing & Communicat
 ions 
URL:http://www.wikicfp.com/cfp/servlet/event.showcfp?eventid=51626&copyow
 nerid=85223
UID:cfp580384-E@wikicfp.com
END:VEVENT
BEGIN:VEVENT
DTSTAMP:20260421T174018Z
DTSTART;VALUE=DATE:20160229
SUMMARY:IP&C 2016 Abstract Due
DESCRIPTION:8th International Conference on Image Processing & Communicat
 ions 
URL:http://www.wikicfp.com/cfp/servlet/event.showcfp?eventid=51626&copyow
 nerid=85223
UID:cfp580384-A@wikicfp.com
END:VEVENT
BEGIN:VEVENT
DTSTAMP:20260421T174018Z
DTSTART;VALUE=DATE:20160501
SUMMARY:IP&C 2016 Deadline
DESCRIPTION:8th International Conference on Image Processing & Communicat
 ions 
URL:http://www.wikicfp.com/cfp/servlet/event.showcfp?eventid=51626&copyow
 nerid=85223
UID:cfp580384-D@wikicfp.com
END:VEVENT
BEGIN:VEVENT
DTSTAMP:20260421T174018Z
DTSTART;VALUE=DATE:20160515
SUMMARY:IP&C 2016 Notification Due
DESCRIPTION:8th International Conference on Image Processing & Communicat
 ions 
URL:http://www.wikicfp.com/cfp/servlet/event.showcfp?eventid=51626&copyow
 nerid=85223
UID:cfp580384-N@wikicfp.com
END:VEVENT
BEGIN:VEVENT
DTSTAMP:20260421T174018Z
DTSTART;VALUE=DATE:20160530
SUMMARY:IP&C 2016 Final Version Due
DESCRIPTION:8th International Conference on Image Processing & Communicat
 ions 
URL:http://www.wikicfp.com/cfp/servlet/event.showcfp?eventid=51626&copyow
 nerid=85223
UID:cfp580384-N@wikicfp.com
END:VEVENT
BEGIN:VEVENT
DTSTAMP:20260421T174018Z
DTSTART;VALUE=DATE:20161121
DTEND;VALUE=DATE:20161124
SUMMARY:ACCV 2016
DESCRIPTION:Asian Conference on Computer Vision
URL:http://www.wikicfp.com/cfp/servlet/event.showcfp?eventid=49975&copyow
 nerid=85223
UID:cfp580376-E@wikicfp.com
END:VEVENT
BEGIN:VEVENT
DTSTAMP:20260421T174018Z
DTSTART;VALUE=DATE:20160527
SUMMARY:ACCV 2016 Deadline
DESCRIPTION:Asian Conference on Computer Vision
URL:http://www.wikicfp.com/cfp/servlet/event.showcfp?eventid=49975&copyow
 nerid=85223
UID:cfp580376-D@wikicfp.com
END:VEVENT
BEGIN:VEVENT
DTSTAMP:20260421T174018Z
DTSTART;VALUE=DATE:20160615
SUMMARY:AIVP 2016 Deadline
DESCRIPTION:Advances in Image and Video Processing
URL:http://www.wikicfp.com/cfp/servlet/event.showcfp?eventid=37468&copyow
 nerid=85223
UID:cfp580365-D@wikicfp.com
END:VEVENT
BEGIN:VEVENT
DTSTAMP:20260421T174018Z
DTSTART;VALUE=DATE:20160625
SUMMARY:AIVP 2016 Notification Due
DESCRIPTION:Advances in Image and Video Processing
URL:http://www.wikicfp.com/cfp/servlet/event.showcfp?eventid=37468&copyow
 nerid=85223
UID:cfp580365-N@wikicfp.com
END:VEVENT
BEGIN:VEVENT
DTSTAMP:20260421T174018Z
DTSTART;VALUE=DATE:20160705
SUMMARY:AIVP 2016 Final Version Due
DESCRIPTION:Advances in Image and Video Processing
URL:http://www.wikicfp.com/cfp/servlet/event.showcfp?eventid=37468&copyow
 nerid=85223
UID:cfp580365-N@wikicfp.com
END:VEVENT
BEGIN:VEVENT
DTSTAMP:20260421T174018Z
DTSTART;VALUE=DATE:20160813
DTEND;VALUE=DATE:20160816
SUMMARY:ICMVA 2016
DESCRIPTION:2016 2nd International Conference on Machine Vision and Appli
 cations (ICMVA 2016)
URL:http://www.wikicfp.com/cfp/servlet/event.showcfp?eventid=51102&copyow
 nerid=85223
UID:cfp580379-E@wikicfp.com
END:VEVENT
BEGIN:VEVENT
DTSTAMP:20260421T174018Z
DTSTART;VALUE=DATE:20160615
SUMMARY:ICMVA 2016 Deadline
DESCRIPTION:2016 2nd International Conference on Machine Vision and Appli
 cations (ICMVA 2016)
URL:http://www.wikicfp.com/cfp/servlet/event.showcfp?eventid=51102&copyow
 nerid=85223
UID:cfp580379-D@wikicfp.com
END:VEVENT
BEGIN:VEVENT
DTSTAMP:20260421T174018Z
DTSTART;VALUE=DATE:20161030
DTEND;VALUE=DATE:20161031
SUMMARY:SNSS 2016
DESCRIPTION:Social Network and Surveillance for Society\, Springer
URL:http://www.wikicfp.com/cfp/servlet/event.showcfp?eventid=49672&copyow
 nerid=85223
UID:cfp580375-E@wikicfp.com
END:VEVENT
BEGIN:VEVENT
DTSTAMP:20260421T174018Z
DTSTART;VALUE=DATE:20160315
SUMMARY:SNSS 2016 Abstract Due
DESCRIPTION:Social Network and Surveillance for Society\, Springer
URL:http://www.wikicfp.com/cfp/servlet/event.showcfp?eventid=49672&copyow
 nerid=85223
UID:cfp580375-A@wikicfp.com
END:VEVENT
BEGIN:VEVENT
DTSTAMP:20260421T174018Z
DTSTART;VALUE=DATE:20160630
SUMMARY:SNSS 2016 Deadline
DESCRIPTION:Social Network and Surveillance for Society\, Springer
URL:http://www.wikicfp.com/cfp/servlet/event.showcfp?eventid=49672&copyow
 nerid=85223
UID:cfp580375-D@wikicfp.com
END:VEVENT
BEGIN:VEVENT
DTSTAMP:20260421T174018Z
DTSTART;VALUE=DATE:20160730
SUMMARY:SNSS 2016 Notification Due
DESCRIPTION:Social Network and Surveillance for Society\, Springer
URL:http://www.wikicfp.com/cfp/servlet/event.showcfp?eventid=49672&copyow
 nerid=85223
UID:cfp580375-N@wikicfp.com
END:VEVENT
BEGIN:VEVENT
DTSTAMP:20260421T174018Z
DTSTART;VALUE=DATE:20160820
SUMMARY:SNSS 2016 Final Version Due
DESCRIPTION:Social Network and Surveillance for Society\, Springer
URL:http://www.wikicfp.com/cfp/servlet/event.showcfp?eventid=49672&copyow
 nerid=85223
UID:cfp580375-N@wikicfp.com
END:VEVENT
BEGIN:VEVENT
DTSTAMP:20260421T174018Z
DTSTART;VALUE=DATE:20160926
DTEND;VALUE=DATE:20160929
SUMMARY:ICMCT 2016
DESCRIPTION:International Workshp on Multimedia and Communication Technol
 ogies (ICMCT 2016)--Ei
URL:http://www.wikicfp.com/cfp/servlet/event.showcfp?eventid=51104&copyow
 nerid=85223
UID:cfp580380-E@wikicfp.com
END:VEVENT
BEGIN:VEVENT
DTSTAMP:20260421T174018Z
DTSTART;VALUE=DATE:20160801
SUMMARY:ICMCT 2016 Deadline
DESCRIPTION:International Workshp on Multimedia and Communication Technol
 ogies (ICMCT 2016)--Ei
URL:http://www.wikicfp.com/cfp/servlet/event.showcfp?eventid=51104&copyow
 nerid=85223
UID:cfp580380-D@wikicfp.com
END:VEVENT
BEGIN:VEVENT
DTSTAMP:20260421T174018Z
DTSTART;VALUE=DATE:20190928
SUMMARY:JARES 2019 Deadline
DESCRIPTION:International Journal of Advance Robotics & Expert Systems
URL:http://www.wikicfp.com/cfp/servlet/event.showcfp?eventid=47196&copyow
 nerid=85223
UID:cfp580369-D@wikicfp.com
END:VEVENT
BEGIN:VEVENT
DTSTAMP:20260421T174018Z
DTSTART;VALUE=DATE:20191028
SUMMARY:JARES 2019 Notification Due
DESCRIPTION:International Journal of Advance Robotics & Expert Systems
URL:http://www.wikicfp.com/cfp/servlet/event.showcfp?eventid=47196&copyow
 nerid=85223
UID:cfp580369-N@wikicfp.com
END:VEVENT
BEGIN:VEVENT
DTSTAMP:20260421T174018Z
DTSTART;VALUE=DATE:20191115
SUMMARY:JARES 2019 Final Version Due
DESCRIPTION:International Journal of Advance Robotics & Expert Systems
URL:http://www.wikicfp.com/cfp/servlet/event.showcfp?eventid=47196&copyow
 nerid=85223
UID:cfp580369-N@wikicfp.com
END:VEVENT
END:VCALENDAR
