BEGIN:VCALENDAR
PRODID:-//WikiCFP//MickeyTC 1.0//EN
VERSION:2.0
CALSCALE:GREGORIAN
BEGIN:VEVENT
DTSTAMP:20260424T014649Z
DTSTART;VALUE=DATE:20170121
DTEND;VALUE=DATE:20170124
SUMMARY:ICBBB 2017
DESCRIPTION:2017 7th International Conference on Bioscience\, Biochemistr
 y and Bioinformatics (ICBBB 2017)
URL:http://www.wikicfp.com/cfp/servlet/event.showcfp?eventid=54826&copyow
 nerid=84897
UID:cfp627727-E@wikicfp.com
END:VEVENT
BEGIN:VEVENT
DTSTAMP:20260424T014649Z
DTSTART;VALUE=DATE:20161201
SUMMARY:ICBBB 2017 Deadline
DESCRIPTION:2017 7th International Conference on Bioscience\, Biochemistr
 y and Bioinformatics (ICBBB 2017)
URL:http://www.wikicfp.com/cfp/servlet/event.showcfp?eventid=54826&copyow
 nerid=84897
UID:cfp627727-D@wikicfp.com
END:VEVENT
BEGIN:VEVENT
DTSTAMP:20260424T014649Z
DTSTART;VALUE=DATE:20170507
DTEND;VALUE=DATE:20170510
SUMMARY:ICICTES 2017
DESCRIPTION:The 8th International Conference on Information and Communica
 tion Technology for Embedded Systems
URL:http://www.wikicfp.com/cfp/servlet/event.showcfp?eventid=55330&copyow
 nerid=84897
UID:cfp627724-E@wikicfp.com
END:VEVENT
BEGIN:VEVENT
DTSTAMP:20260424T014649Z
DTSTART;VALUE=DATE:20161220
SUMMARY:ICICTES 2017 Deadline
DESCRIPTION:The 8th International Conference on Information and Communica
 tion Technology for Embedded Systems
URL:http://www.wikicfp.com/cfp/servlet/event.showcfp?eventid=55330&copyow
 nerid=84897
UID:cfp627724-D@wikicfp.com
END:VEVENT
BEGIN:VEVENT
DTSTAMP:20260424T014649Z
DTSTART;VALUE=DATE:20170207
SUMMARY:ICICTES 2017 Notification Due
DESCRIPTION:The 8th International Conference on Information and Communica
 tion Technology for Embedded Systems
URL:http://www.wikicfp.com/cfp/servlet/event.showcfp?eventid=55330&copyow
 nerid=84897
UID:cfp627724-N@wikicfp.com
END:VEVENT
BEGIN:VEVENT
DTSTAMP:20260424T014649Z
DTSTART;VALUE=DATE:20170221
SUMMARY:ICICTES 2017 Final Version Due
DESCRIPTION:The 8th International Conference on Information and Communica
 tion Technology for Embedded Systems
URL:http://www.wikicfp.com/cfp/servlet/event.showcfp?eventid=55330&copyow
 nerid=84897
UID:cfp627724-N@wikicfp.com
END:VEVENT
BEGIN:VEVENT
DTSTAMP:20260424T014649Z
DTSTART;VALUE=DATE:20170403
DTEND;VALUE=DATE:20170406
SUMMARY:ICAAI 2017
DESCRIPTION:International Conference on Advances in Artificial Intelligen
 ce -EI Compendex\, Scopus\, and ISI CPCS
URL:http://www.wikicfp.com/cfp/servlet/event.showcfp?eventid=57812&copyow
 nerid=84897
UID:cfp627726-E@wikicfp.com
END:VEVENT
BEGIN:VEVENT
DTSTAMP:20260424T014649Z
DTSTART;VALUE=DATE:20170125
SUMMARY:ICAAI 2017 Deadline
DESCRIPTION:International Conference on Advances in Artificial Intelligen
 ce -EI Compendex\, Scopus\, and ISI CPCS
URL:http://www.wikicfp.com/cfp/servlet/event.showcfp?eventid=57812&copyow
 nerid=84897
UID:cfp627726-D@wikicfp.com
END:VEVENT
END:VCALENDAR
