BEGIN:VCALENDAR
PRODID:-//WikiCFP//robsaunders 1.0//EN
VERSION:2.0
CALSCALE:GREGORIAN
BEGIN:VEVENT
DTSTAMP:20260422T110708Z
DTSTART;VALUE=DATE:20171204
DTEND;VALUE=DATE:20171210
SUMMARY:NIPS 2017
DESCRIPTION:The Thirty-first Annual Conference on Neural Information Proc
 essing Systems
URL:http://www.wikicfp.com/cfp/servlet/event.showcfp?eventid=56589&copyow
 nerid=8456
UID:cfp669547-E@wikicfp.com
END:VEVENT
BEGIN:VEVENT
DTSTAMP:20260422T110708Z
DTSTART;VALUE=DATE:20170519
SUMMARY:NIPS 2017 Deadline
DESCRIPTION:The Thirty-first Annual Conference on Neural Information Proc
 essing Systems
URL:http://www.wikicfp.com/cfp/servlet/event.showcfp?eventid=56589&copyow
 nerid=8456
UID:cfp669547-D@wikicfp.com
END:VEVENT
BEGIN:VEVENT
DTSTAMP:20260422T110708Z
DTSTART;VALUE=DATE:20170810
DTEND;VALUE=DATE:20170811
SUMMARY:AutoML 2017
DESCRIPTION:Automatic Machine Learning Workshop (ICML 2017)
URL:http://www.wikicfp.com/cfp/servlet/event.showcfp?eventid=64552&copyow
 nerid=8456
UID:cfp669546-E@wikicfp.com
END:VEVENT
BEGIN:VEVENT
DTSTAMP:20260422T110708Z
DTSTART;VALUE=DATE:20170612
SUMMARY:AutoML 2017 Deadline
DESCRIPTION:Automatic Machine Learning Workshop (ICML 2017)
URL:http://www.wikicfp.com/cfp/servlet/event.showcfp?eventid=64552&copyow
 nerid=8456
UID:cfp669546-D@wikicfp.com
END:VEVENT
BEGIN:VEVENT
DTSTAMP:20260422T110708Z
DTSTART;VALUE=DATE:20170621
SUMMARY:AutoML 2017 Notification Due
DESCRIPTION:Automatic Machine Learning Workshop (ICML 2017)
URL:http://www.wikicfp.com/cfp/servlet/event.showcfp?eventid=64552&copyow
 nerid=8456
UID:cfp669546-N@wikicfp.com
END:VEVENT
BEGIN:VEVENT
DTSTAMP:20260422T110708Z
DTSTART;VALUE=DATE:20170803
SUMMARY:AutoML 2017 Final Version Due
DESCRIPTION:Automatic Machine Learning Workshop (ICML 2017)
URL:http://www.wikicfp.com/cfp/servlet/event.showcfp?eventid=64552&copyow
 nerid=8456
UID:cfp669546-N@wikicfp.com
END:VEVENT
END:VCALENDAR
