BEGIN:VCALENDAR
PRODID:-//WikiCFP//signull8192 1.0//EN
VERSION:2.0
CALSCALE:GREGORIAN
BEGIN:VEVENT
DTSTAMP:20260419T152036Z
DTSTART;VALUE=DATE:20160925
DTEND;VALUE=DATE:20160929
SUMMARY:ICIP 2016
DESCRIPTION:International Conference on Image Processing
URL:http://www.wikicfp.com/cfp/servlet/event.showcfp?eventid=47057&copyow
 nerid=84555
UID:cfp575418-E@wikicfp.com
END:VEVENT
BEGIN:VEVENT
DTSTAMP:20260419T152036Z
DTSTART;VALUE=DATE:20160125
SUMMARY:ICIP 2016 Deadline
DESCRIPTION:International Conference on Image Processing
URL:http://www.wikicfp.com/cfp/servlet/event.showcfp?eventid=47057&copyow
 nerid=84555
UID:cfp575418-D@wikicfp.com
END:VEVENT
BEGIN:VEVENT
DTSTAMP:20260419T152036Z
DTSTART;VALUE=DATE:20160430
SUMMARY:ICIP 2016 Notification Due
DESCRIPTION:International Conference on Image Processing
URL:http://www.wikicfp.com/cfp/servlet/event.showcfp?eventid=47057&copyow
 nerid=84555
UID:cfp575418-N@wikicfp.com
END:VEVENT
BEGIN:VEVENT
DTSTAMP:20260419T152036Z
DTSTART;VALUE=DATE:20160530
SUMMARY:ICIP 2016 Final Version Due
DESCRIPTION:International Conference on Image Processing
URL:http://www.wikicfp.com/cfp/servlet/event.showcfp?eventid=47057&copyow
 nerid=84555
UID:cfp575418-N@wikicfp.com
END:VEVENT
BEGIN:VEVENT
DTSTAMP:20260419T152036Z
DTSTART;VALUE=DATE:20160619
DTEND;VALUE=DATE:20160625
SUMMARY:ICML 2016
DESCRIPTION:33rd International Conference on Machine Learning (ICML-2016)
 
URL:http://www.wikicfp.com/cfp/servlet/event.showcfp?eventid=46617&copyow
 nerid=84555
UID:cfp575416-E@wikicfp.com
END:VEVENT
BEGIN:VEVENT
DTSTAMP:20260419T152036Z
DTSTART;VALUE=DATE:20160205
SUMMARY:ICML 2016 Deadline
DESCRIPTION:33rd International Conference on Machine Learning (ICML-2016)
 
URL:http://www.wikicfp.com/cfp/servlet/event.showcfp?eventid=46617&copyow
 nerid=84555
UID:cfp575416-D@wikicfp.com
END:VEVENT
BEGIN:VEVENT
DTSTAMP:20260419T152036Z
DTSTART;VALUE=DATE:20161008
DTEND;VALUE=DATE:20161017
SUMMARY:ECCV 2016
DESCRIPTION:European Conference on Computer Vision
URL:http://www.wikicfp.com/cfp/servlet/event.showcfp?eventid=46142&copyow
 nerid=84555
UID:cfp575417-E@wikicfp.com
END:VEVENT
BEGIN:VEVENT
DTSTAMP:20260419T152036Z
DTSTART;VALUE=DATE:20160314
SUMMARY:ECCV 2016 Deadline
DESCRIPTION:European Conference on Computer Vision
URL:http://www.wikicfp.com/cfp/servlet/event.showcfp?eventid=46142&copyow
 nerid=84555
UID:cfp575417-D@wikicfp.com
END:VEVENT
BEGIN:VEVENT
DTSTAMP:20260419T152036Z
DTSTART;VALUE=DATE:20160701
SUMMARY:ECCV 2016 Notification Due
DESCRIPTION:European Conference on Computer Vision
URL:http://www.wikicfp.com/cfp/servlet/event.showcfp?eventid=46142&copyow
 nerid=84555
UID:cfp575417-N@wikicfp.com
END:VEVENT
BEGIN:VEVENT
DTSTAMP:20260419T152036Z
DTSTART;VALUE=DATE:20160725
SUMMARY:ECCV 2016 Final Version Due
DESCRIPTION:European Conference on Computer Vision
URL:http://www.wikicfp.com/cfp/servlet/event.showcfp?eventid=46142&copyow
 nerid=84555
UID:cfp575417-N@wikicfp.com
END:VEVENT
BEGIN:VEVENT
DTSTAMP:20260419T152036Z
DTSTART;VALUE=DATE:20161204
DTEND;VALUE=DATE:20161209
SUMMARY:ICPR 2016
DESCRIPTION:IAPR International Conference on Pattern Recognition
URL:http://www.wikicfp.com/cfp/servlet/event.showcfp?eventid=47743&copyow
 nerid=84555
UID:cfp575419-E@wikicfp.com
END:VEVENT
BEGIN:VEVENT
DTSTAMP:20260419T152036Z
DTSTART;VALUE=DATE:20160403
SUMMARY:ICPR 2016 Deadline
DESCRIPTION:IAPR International Conference on Pattern Recognition
URL:http://www.wikicfp.com/cfp/servlet/event.showcfp?eventid=47743&copyow
 nerid=84555
UID:cfp575419-D@wikicfp.com
END:VEVENT
BEGIN:VEVENT
DTSTAMP:20260419T152036Z
DTSTART;VALUE=DATE:20160710
SUMMARY:ICPR 2016 Notification Due
DESCRIPTION:IAPR International Conference on Pattern Recognition
URL:http://www.wikicfp.com/cfp/servlet/event.showcfp?eventid=47743&copyow
 nerid=84555
UID:cfp575419-N@wikicfp.com
END:VEVENT
BEGIN:VEVENT
DTSTAMP:20260419T152036Z
DTSTART;VALUE=DATE:20160904
SUMMARY:ICPR 2016 Final Version Due
DESCRIPTION:IAPR International Conference on Pattern Recognition
URL:http://www.wikicfp.com/cfp/servlet/event.showcfp?eventid=47743&copyow
 nerid=84555
UID:cfp575419-N@wikicfp.com
END:VEVENT
BEGIN:VEVENT
DTSTAMP:20260419T152036Z
DTSTART;VALUE=DATE:20161121
DTEND;VALUE=DATE:20161124
SUMMARY:ACCV 2016
DESCRIPTION:Asian Conference on Computer Vision
URL:http://www.wikicfp.com/cfp/servlet/event.showcfp?eventid=49975&copyow
 nerid=84555
UID:cfp599399-E@wikicfp.com
END:VEVENT
BEGIN:VEVENT
DTSTAMP:20260419T152036Z
DTSTART;VALUE=DATE:20160527
SUMMARY:ACCV 2016 Deadline
DESCRIPTION:Asian Conference on Computer Vision
URL:http://www.wikicfp.com/cfp/servlet/event.showcfp?eventid=49975&copyow
 nerid=84555
UID:cfp599399-D@wikicfp.com
END:VEVENT
BEGIN:VEVENT
DTSTAMP:20260419T152036Z
DTSTART;VALUE=DATE:20161008
DTEND;VALUE=DATE:20161010
SUMMARY:ECCV 2016
DESCRIPTION:Workshop on Crowd Understanding ECCV 16: Call for papers
URL:http://www.wikicfp.com/cfp/servlet/event.showcfp?eventid=54396&copyow
 nerid=84555
UID:cfp599400-E@wikicfp.com
END:VEVENT
BEGIN:VEVENT
DTSTAMP:20260419T152036Z
DTSTART;VALUE=DATE:20160601
SUMMARY:ECCV 2016 Deadline
DESCRIPTION:Workshop on Crowd Understanding ECCV 16: Call for papers
URL:http://www.wikicfp.com/cfp/servlet/event.showcfp?eventid=54396&copyow
 nerid=84555
UID:cfp599400-D@wikicfp.com
END:VEVENT
BEGIN:VEVENT
DTSTAMP:20260419T152036Z
DTSTART;VALUE=DATE:20160704
SUMMARY:ECCV 2016 Notification Due
DESCRIPTION:Workshop on Crowd Understanding ECCV 16: Call for papers
URL:http://www.wikicfp.com/cfp/servlet/event.showcfp?eventid=54396&copyow
 nerid=84555
UID:cfp599400-N@wikicfp.com
END:VEVENT
BEGIN:VEVENT
DTSTAMP:20260419T152036Z
DTSTART;VALUE=DATE:20160725
SUMMARY:ECCV 2016 Final Version Due
DESCRIPTION:Workshop on Crowd Understanding ECCV 16: Call for papers
URL:http://www.wikicfp.com/cfp/servlet/event.showcfp?eventid=54396&copyow
 nerid=84555
UID:cfp599400-N@wikicfp.com
END:VEVENT
END:VCALENDAR
