BEGIN:VCALENDAR
PRODID:-//WikiCFP//wxjiang 1.0//EN
VERSION:2.0
CALSCALE:GREGORIAN
BEGIN:VEVENT
DTSTAMP:20260421T110006Z
DTSTART;VALUE=DATE:20160402
DTEND;VALUE=DATE:20160407
SUMMARY:ASPLOS 2016
DESCRIPTION:21st International Conference on Architectural Support for Pr
 ogramming Languages and Operating Systems
URL:http://www.wikicfp.com/cfp/servlet/event.showcfp?eventid=45950&copyow
 nerid=84323
UID:cfp573875-E@wikicfp.com
END:VEVENT
BEGIN:VEVENT
DTSTAMP:20260421T110006Z
DTSTART;VALUE=DATE:20150805
SUMMARY:ASPLOS 2016 Abstract Due
DESCRIPTION:21st International Conference on Architectural Support for Pr
 ogramming Languages and Operating Systems
URL:http://www.wikicfp.com/cfp/servlet/event.showcfp?eventid=45950&copyow
 nerid=84323
UID:cfp573875-A@wikicfp.com
END:VEVENT
BEGIN:VEVENT
DTSTAMP:20260421T110006Z
DTSTART;VALUE=DATE:20150812
SUMMARY:ASPLOS 2016 Deadline
DESCRIPTION:21st International Conference on Architectural Support for Pr
 ogramming Languages and Operating Systems
URL:http://www.wikicfp.com/cfp/servlet/event.showcfp?eventid=45950&copyow
 nerid=84323
UID:cfp573875-D@wikicfp.com
END:VEVENT
BEGIN:VEVENT
DTSTAMP:20260421T110006Z
DTSTART;VALUE=DATE:20151117
SUMMARY:ASPLOS 2016 Notification Due
DESCRIPTION:21st International Conference on Architectural Support for Pr
 ogramming Languages and Operating Systems
URL:http://www.wikicfp.com/cfp/servlet/event.showcfp?eventid=45950&copyow
 nerid=84323
UID:cfp573875-N@wikicfp.com
END:VEVENT
BEGIN:VEVENT
DTSTAMP:20260421T110006Z
DTSTART;VALUE=DATE:20160130
SUMMARY:ASPLOS 2016 Final Version Due
DESCRIPTION:21st International Conference on Architectural Support for Pr
 ogramming Languages and Operating Systems
URL:http://www.wikicfp.com/cfp/servlet/event.showcfp?eventid=45950&copyow
 nerid=84323
UID:cfp573875-N@wikicfp.com
END:VEVENT
BEGIN:VEVENT
DTSTAMP:20260421T110006Z
DTSTART;VALUE=DATE:20160222
DTEND;VALUE=DATE:20160226
SUMMARY:FAST 2016
DESCRIPTION:14th USENIX Conference on File and Storage Technologies
URL:http://www.wikicfp.com/cfp/servlet/event.showcfp?eventid=46055&copyow
 nerid=84323
UID:cfp573876-E@wikicfp.com
END:VEVENT
BEGIN:VEVENT
DTSTAMP:20260421T110006Z
DTSTART;VALUE=DATE:20150921
SUMMARY:FAST 2016 Deadline
DESCRIPTION:14th USENIX Conference on File and Storage Technologies
URL:http://www.wikicfp.com/cfp/servlet/event.showcfp?eventid=46055&copyow
 nerid=84323
UID:cfp573876-D@wikicfp.com
END:VEVENT
BEGIN:VEVENT
DTSTAMP:20260421T110006Z
DTSTART;VALUE=DATE:20151207
SUMMARY:FAST 2016 Notification Due
DESCRIPTION:14th USENIX Conference on File and Storage Technologies
URL:http://www.wikicfp.com/cfp/servlet/event.showcfp?eventid=46055&copyow
 nerid=84323
UID:cfp573876-N@wikicfp.com
END:VEVENT
BEGIN:VEVENT
DTSTAMP:20260421T110006Z
DTSTART;VALUE=DATE:20160126
SUMMARY:FAST 2016 Final Version Due
DESCRIPTION:14th USENIX Conference on File and Storage Technologies
URL:http://www.wikicfp.com/cfp/servlet/event.showcfp?eventid=46055&copyow
 nerid=84323
UID:cfp573876-N@wikicfp.com
END:VEVENT
BEGIN:VEVENT
DTSTAMP:20260421T110006Z
DTSTART;VALUE=DATE:20160614
DTEND;VALUE=DATE:20160619
SUMMARY:SIGMETRICS-Performance 2016
DESCRIPTION:ACM SIGMETRICS / IFIP PERFORMANCE
URL:http://www.wikicfp.com/cfp/servlet/event.showcfp?eventid=48438&copyow
 nerid=84323
UID:cfp573878-E@wikicfp.com
END:VEVENT
BEGIN:VEVENT
DTSTAMP:20260421T110006Z
DTSTART;VALUE=DATE:20151123
SUMMARY:SIGMETRICS-Performance 2016 Abstract Due
DESCRIPTION:ACM SIGMETRICS / IFIP PERFORMANCE
URL:http://www.wikicfp.com/cfp/servlet/event.showcfp?eventid=48438&copyow
 nerid=84323
UID:cfp573878-A@wikicfp.com
END:VEVENT
BEGIN:VEVENT
DTSTAMP:20260421T110006Z
DTSTART;VALUE=DATE:20151130
SUMMARY:SIGMETRICS-Performance 2016 Deadline
DESCRIPTION:ACM SIGMETRICS / IFIP PERFORMANCE
URL:http://www.wikicfp.com/cfp/servlet/event.showcfp?eventid=48438&copyow
 nerid=84323
UID:cfp573878-D@wikicfp.com
END:VEVENT
BEGIN:VEVENT
DTSTAMP:20260421T110006Z
DTSTART;VALUE=DATE:20160220
SUMMARY:SIGMETRICS-Performance 2016 Notification Due
DESCRIPTION:ACM SIGMETRICS / IFIP PERFORMANCE
URL:http://www.wikicfp.com/cfp/servlet/event.showcfp?eventid=48438&copyow
 nerid=84323
UID:cfp573878-N@wikicfp.com
END:VEVENT
BEGIN:VEVENT
DTSTAMP:20260421T110006Z
DTSTART;VALUE=DATE:20160725
DTEND;VALUE=DATE:20160729
SUMMARY:PODC 2016
DESCRIPTION:ACM SIGACT-SIGOPS Symposium on Principles of Distributed Comp
 uting
URL:http://www.wikicfp.com/cfp/servlet/event.showcfp?eventid=49427&copyow
 nerid=84323
UID:cfp573877-E@wikicfp.com
END:VEVENT
BEGIN:VEVENT
DTSTAMP:20260421T110006Z
DTSTART;VALUE=DATE:20160212
SUMMARY:PODC 2016 Deadline
DESCRIPTION:ACM SIGACT-SIGOPS Symposium on Principles of Distributed Comp
 uting
URL:http://www.wikicfp.com/cfp/servlet/event.showcfp?eventid=49427&copyow
 nerid=84323
UID:cfp573877-D@wikicfp.com
END:VEVENT
BEGIN:VEVENT
DTSTAMP:20260421T110006Z
DTSTART;VALUE=DATE:20160429
SUMMARY:PODC 2016 Notification Due
DESCRIPTION:ACM SIGACT-SIGOPS Symposium on Principles of Distributed Comp
 uting
URL:http://www.wikicfp.com/cfp/servlet/event.showcfp?eventid=49427&copyow
 nerid=84323
UID:cfp573877-N@wikicfp.com
END:VEVENT
BEGIN:VEVENT
DTSTAMP:20260421T110006Z
DTSTART;VALUE=DATE:20160523
SUMMARY:PODC 2016 Final Version Due
DESCRIPTION:ACM SIGACT-SIGOPS Symposium on Principles of Distributed Comp
 uting
URL:http://www.wikicfp.com/cfp/servlet/event.showcfp?eventid=49427&copyow
 nerid=84323
UID:cfp573877-N@wikicfp.com
END:VEVENT
END:VCALENDAR
