BEGIN:VCALENDAR
PRODID:-//WikiCFP//ramanirudh 1.0//EN
VERSION:2.0
CALSCALE:GREGORIAN
BEGIN:VEVENT
DTSTAMP:20260422T034513Z
DTSTART;VALUE=DATE:20170918
DTEND;VALUE=DATE:20170920
SUMMARY:MIKE 2017
DESCRIPTION:The 4th EAI International Conference on Mining Intelligence a
 nd Knowledge Exploration
URL:http://www.wikicfp.com/cfp/servlet/event.showcfp?eventid=59829&copyow
 nerid=84203
UID:cfp676898-E@wikicfp.com
END:VEVENT
BEGIN:VEVENT
DTSTAMP:20260422T034513Z
DTSTART;VALUE=DATE:20171120
DTEND;VALUE=DATE:20171123
SUMMARY:MIWAI 2017
DESCRIPTION:The 11th Multi-disciplinary International Workshop on Artific
 ial Intelligence
URL:http://www.wikicfp.com/cfp/servlet/event.showcfp?eventid=59955&copyow
 nerid=84203
UID:cfp661207-E@wikicfp.com
END:VEVENT
BEGIN:VEVENT
DTSTAMP:20260422T034513Z
DTSTART;VALUE=DATE:20170629
SUMMARY:MIWAI 2017 Deadline
DESCRIPTION:The 11th Multi-disciplinary International Workshop on Artific
 ial Intelligence
URL:http://www.wikicfp.com/cfp/servlet/event.showcfp?eventid=59955&copyow
 nerid=84203
UID:cfp661207-D@wikicfp.com
END:VEVENT
BEGIN:VEVENT
DTSTAMP:20260422T034513Z
DTSTART;VALUE=DATE:20170801
SUMMARY:MIWAI 2017 Notification Due
DESCRIPTION:The 11th Multi-disciplinary International Workshop on Artific
 ial Intelligence
URL:http://www.wikicfp.com/cfp/servlet/event.showcfp?eventid=59955&copyow
 nerid=84203
UID:cfp661207-N@wikicfp.com
END:VEVENT
BEGIN:VEVENT
DTSTAMP:20260422T034513Z
DTSTART;VALUE=DATE:20170901
SUMMARY:MIWAI 2017 Final Version Due
DESCRIPTION:The 11th Multi-disciplinary International Workshop on Artific
 ial Intelligence
URL:http://www.wikicfp.com/cfp/servlet/event.showcfp?eventid=59955&copyow
 nerid=84203
UID:cfp661207-N@wikicfp.com
END:VEVENT
BEGIN:VEVENT
DTSTAMP:20260422T034513Z
DTSTART;VALUE=DATE:20171127
DTEND;VALUE=DATE:20171202
SUMMARY:IJCNLP 2017
DESCRIPTION:International Joint Conference on Natural Language Processing
 
URL:http://www.wikicfp.com/cfp/servlet/event.showcfp?eventid=60327&copyow
 nerid=84203
UID:cfp670526-E@wikicfp.com
END:VEVENT
BEGIN:VEVENT
DTSTAMP:20260422T034513Z
DTSTART;VALUE=DATE:20170630
SUMMARY:IJCNLP 2017 Deadline
DESCRIPTION:International Joint Conference on Natural Language Processing
 
URL:http://www.wikicfp.com/cfp/servlet/event.showcfp?eventid=60327&copyow
 nerid=84203
UID:cfp670526-D@wikicfp.com
END:VEVENT
BEGIN:VEVENT
DTSTAMP:20260422T034513Z
DTSTART;VALUE=DATE:20170830
SUMMARY:IJCNLP 2017 Notification Due
DESCRIPTION:International Joint Conference on Natural Language Processing
 
URL:http://www.wikicfp.com/cfp/servlet/event.showcfp?eventid=60327&copyow
 nerid=84203
UID:cfp670526-N@wikicfp.com
END:VEVENT
BEGIN:VEVENT
DTSTAMP:20260422T034513Z
DTSTART;VALUE=DATE:20170930
SUMMARY:IJCNLP 2017 Final Version Due
DESCRIPTION:International Joint Conference on Natural Language Processing
 
URL:http://www.wikicfp.com/cfp/servlet/event.showcfp?eventid=60327&copyow
 nerid=84203
UID:cfp670526-N@wikicfp.com
END:VEVENT
BEGIN:VEVENT
DTSTAMP:20260422T034513Z
DTSTART;VALUE=DATE:20171108
DTEND;VALUE=DATE:20171113
SUMMARY:NLPCC 2017
DESCRIPTION:The Sixth Conference on Natural Language Processing and Chine
 se Computing (NLPCC 2017)
URL:http://www.wikicfp.com/cfp/servlet/event.showcfp?eventid=62651&copyow
 nerid=84203
UID:cfp670525-E@wikicfp.com
END:VEVENT
BEGIN:VEVENT
DTSTAMP:20260422T034513Z
DTSTART;VALUE=DATE:20170702
SUMMARY:NLPCC 2017 Deadline
DESCRIPTION:The Sixth Conference on Natural Language Processing and Chine
 se Computing (NLPCC 2017)
URL:http://www.wikicfp.com/cfp/servlet/event.showcfp?eventid=62651&copyow
 nerid=84203
UID:cfp670525-D@wikicfp.com
END:VEVENT
BEGIN:VEVENT
DTSTAMP:20260422T034513Z
DTSTART;VALUE=DATE:20170820
SUMMARY:NLPCC 2017 Notification Due
DESCRIPTION:The Sixth Conference on Natural Language Processing and Chine
 se Computing (NLPCC 2017)
URL:http://www.wikicfp.com/cfp/servlet/event.showcfp?eventid=62651&copyow
 nerid=84203
UID:cfp670525-N@wikicfp.com
END:VEVENT
BEGIN:VEVENT
DTSTAMP:20260422T034513Z
DTSTART;VALUE=DATE:20170905
SUMMARY:NLPCC 2017 Final Version Due
DESCRIPTION:The Sixth Conference on Natural Language Processing and Chine
 se Computing (NLPCC 2017)
URL:http://www.wikicfp.com/cfp/servlet/event.showcfp?eventid=62651&copyow
 nerid=84203
UID:cfp670525-N@wikicfp.com
END:VEVENT
BEGIN:VEVENT
DTSTAMP:20260422T034513Z
DTSTART;VALUE=DATE:20171213
DTEND;VALUE=DATE:20171216
SUMMARY:MIKE 2017
DESCRIPTION:Mining Intelligence and Knowledge Exploration\, The Fifth Int
 ernational Conference
URL:http://www.wikicfp.com/cfp/servlet/event.showcfp?eventid=65508&copyow
 nerid=84203
UID:cfp676899-E@wikicfp.com
END:VEVENT
BEGIN:VEVENT
DTSTAMP:20260422T034513Z
DTSTART;VALUE=DATE:20170801
SUMMARY:MIKE 2017 Abstract Due
DESCRIPTION:Mining Intelligence and Knowledge Exploration\, The Fifth Int
 ernational Conference
URL:http://www.wikicfp.com/cfp/servlet/event.showcfp?eventid=65508&copyow
 nerid=84203
UID:cfp676899-A@wikicfp.com
END:VEVENT
BEGIN:VEVENT
DTSTAMP:20260422T034513Z
DTSTART;VALUE=DATE:20170807
SUMMARY:MIKE 2017 Deadline
DESCRIPTION:Mining Intelligence and Knowledge Exploration\, The Fifth Int
 ernational Conference
URL:http://www.wikicfp.com/cfp/servlet/event.showcfp?eventid=65508&copyow
 nerid=84203
UID:cfp676899-D@wikicfp.com
END:VEVENT
BEGIN:VEVENT
DTSTAMP:20260422T034513Z
DTSTART;VALUE=DATE:20170907
SUMMARY:MIKE 2017 Notification Due
DESCRIPTION:Mining Intelligence and Knowledge Exploration\, The Fifth Int
 ernational Conference
URL:http://www.wikicfp.com/cfp/servlet/event.showcfp?eventid=65508&copyow
 nerid=84203
UID:cfp676899-N@wikicfp.com
END:VEVENT
BEGIN:VEVENT
DTSTAMP:20260422T034513Z
DTSTART;VALUE=DATE:20170920
SUMMARY:MIKE 2017 Final Version Due
DESCRIPTION:Mining Intelligence and Knowledge Exploration\, The Fifth Int
 ernational Conference
URL:http://www.wikicfp.com/cfp/servlet/event.showcfp?eventid=65508&copyow
 nerid=84203
UID:cfp676899-N@wikicfp.com
END:VEVENT
BEGIN:VEVENT
DTSTAMP:20260422T034513Z
DTSTART;VALUE=DATE:20180507
DTEND;VALUE=DATE:20180513
SUMMARY:LREC  2018
DESCRIPTION:Language Resources and Evaluation Conference
URL:http://www.wikicfp.com/cfp/servlet/event.showcfp?eventid=60252&copyow
 nerid=84203
UID:cfp670524-E@wikicfp.com
END:VEVENT
BEGIN:VEVENT
DTSTAMP:20260422T034513Z
DTSTART;VALUE=DATE:20170925
SUMMARY:LREC  2018 Deadline
DESCRIPTION:Language Resources and Evaluation Conference
URL:http://www.wikicfp.com/cfp/servlet/event.showcfp?eventid=60252&copyow
 nerid=84203
UID:cfp670524-D@wikicfp.com
END:VEVENT
BEGIN:VEVENT
DTSTAMP:20260422T034513Z
DTSTART;VALUE=DATE:20180715
DTEND;VALUE=DATE:20180721
SUMMARY:ACL 2018
DESCRIPTION:56th Annual Meeting of the Association for Computational Ling
 uistics
URL:http://www.wikicfp.com/cfp/servlet/event.showcfp?eventid=67104&copyow
 nerid=84203
UID:cfp707797-E@wikicfp.com
END:VEVENT
BEGIN:VEVENT
DTSTAMP:20260422T034513Z
DTSTART;VALUE=DATE:20180222
SUMMARY:ACL 2018 Deadline
DESCRIPTION:56th Annual Meeting of the Association for Computational Ling
 uistics
URL:http://www.wikicfp.com/cfp/servlet/event.showcfp?eventid=67104&copyow
 nerid=84203
UID:cfp707797-D@wikicfp.com
END:VEVENT
BEGIN:VEVENT
DTSTAMP:20260422T034513Z
DTSTART;VALUE=DATE:20180420
SUMMARY:ACL 2018 Notification Due
DESCRIPTION:56th Annual Meeting of the Association for Computational Ling
 uistics
URL:http://www.wikicfp.com/cfp/servlet/event.showcfp?eventid=67104&copyow
 nerid=84203
UID:cfp707797-N@wikicfp.com
END:VEVENT
BEGIN:VEVENT
DTSTAMP:20260422T034513Z
DTSTART;VALUE=DATE:20181208
SUMMARY:ANTJ 2018 Deadline
DESCRIPTION:Advanced Nanoscience and Technology: An International Journal
  
URL:http://www.wikicfp.com/cfp/servlet/event.showcfp?eventid=61635&copyow
 nerid=84203
UID:cfp670528-D@wikicfp.com
END:VEVENT
BEGIN:VEVENT
DTSTAMP:20260422T034513Z
DTSTART;VALUE=DATE:20190108
SUMMARY:ANTJ 2018 Notification Due
DESCRIPTION:Advanced Nanoscience and Technology: An International Journal
  
URL:http://www.wikicfp.com/cfp/servlet/event.showcfp?eventid=61635&copyow
 nerid=84203
UID:cfp670528-N@wikicfp.com
END:VEVENT
BEGIN:VEVENT
DTSTAMP:20260422T034513Z
DTSTART;VALUE=DATE:20190116
SUMMARY:ANTJ 2018 Final Version Due
DESCRIPTION:Advanced Nanoscience and Technology: An International Journal
  
URL:http://www.wikicfp.com/cfp/servlet/event.showcfp?eventid=61635&copyow
 nerid=84203
UID:cfp670528-N@wikicfp.com
END:VEVENT
END:VCALENDAR
