BEGIN:VCALENDAR
PRODID:-//WikiCFP//nmattei 1.0//EN
VERSION:2.0
CALSCALE:GREGORIAN
BEGIN:VEVENT
DTSTAMP:20260423T015349Z
DTSTART;VALUE=DATE:20160509
DTEND;VALUE=DATE:20160511
SUMMARY:EXPLORE 2016
DESCRIPTION:EXPLORE 2016 @ AAMAS 2016: The 3rd Workshop on Exploring Beyo
 nd the Worst Case in Computational Social Choice
URL:http://www.wikicfp.com/cfp/servlet/event.showcfp?eventid=50357&copyow
 nerid=83834
UID:cfp567835-E@wikicfp.com
END:VEVENT
BEGIN:VEVENT
DTSTAMP:20260423T015349Z
DTSTART;VALUE=DATE:20160207
SUMMARY:EXPLORE 2016 Deadline
DESCRIPTION:EXPLORE 2016 @ AAMAS 2016: The 3rd Workshop on Exploring Beyo
 nd the Worst Case in Computational Social Choice
URL:http://www.wikicfp.com/cfp/servlet/event.showcfp?eventid=50357&copyow
 nerid=83834
UID:cfp567835-D@wikicfp.com
END:VEVENT
BEGIN:VEVENT
DTSTAMP:20260423T015349Z
DTSTART;VALUE=DATE:20160301
SUMMARY:EXPLORE 2016 Notification Due
DESCRIPTION:EXPLORE 2016 @ AAMAS 2016: The 3rd Workshop on Exploring Beyo
 nd the Worst Case in Computational Social Choice
URL:http://www.wikicfp.com/cfp/servlet/event.showcfp?eventid=50357&copyow
 nerid=83834
UID:cfp567835-N@wikicfp.com
END:VEVENT
BEGIN:VEVENT
DTSTAMP:20260423T015349Z
DTSTART;VALUE=DATE:20160315
SUMMARY:EXPLORE 2016 Final Version Due
DESCRIPTION:EXPLORE 2016 @ AAMAS 2016: The 3rd Workshop on Exploring Beyo
 nd the Worst Case in Computational Social Choice
URL:http://www.wikicfp.com/cfp/servlet/event.showcfp?eventid=50357&copyow
 nerid=83834
UID:cfp567835-N@wikicfp.com
END:VEVENT
BEGIN:VEVENT
DTSTAMP:20260423T015349Z
DTSTART;VALUE=DATE:20160709
DTEND;VALUE=DATE:20160712
SUMMARY:MPREF 2016
DESCRIPTION:10th Multidisciplinary Workshop on Advances in Preference Han
 dling (M-PREF)
URL:http://www.wikicfp.com/cfp/servlet/event.showcfp?eventid=50654&copyow
 nerid=83834
UID:cfp573066-E@wikicfp.com
END:VEVENT
BEGIN:VEVENT
DTSTAMP:20260423T015349Z
DTSTART;VALUE=DATE:20160501
SUMMARY:MPREF 2016 Deadline
DESCRIPTION:10th Multidisciplinary Workshop on Advances in Preference Han
 dling (M-PREF)
URL:http://www.wikicfp.com/cfp/servlet/event.showcfp?eventid=50654&copyow
 nerid=83834
UID:cfp573066-D@wikicfp.com
END:VEVENT
BEGIN:VEVENT
DTSTAMP:20260423T015349Z
DTSTART;VALUE=DATE:20160520
SUMMARY:MPREF 2016 Notification Due
DESCRIPTION:10th Multidisciplinary Workshop on Advances in Preference Han
 dling (M-PREF)
URL:http://www.wikicfp.com/cfp/servlet/event.showcfp?eventid=50654&copyow
 nerid=83834
UID:cfp573066-N@wikicfp.com
END:VEVENT
BEGIN:VEVENT
DTSTAMP:20260423T015349Z
DTSTART;VALUE=DATE:20160601
SUMMARY:MPREF 2016 Final Version Due
DESCRIPTION:10th Multidisciplinary Workshop on Advances in Preference Han
 dling (M-PREF)
URL:http://www.wikicfp.com/cfp/servlet/event.showcfp?eventid=50654&copyow
 nerid=83834
UID:cfp573066-N@wikicfp.com
END:VEVENT
BEGIN:VEVENT
DTSTAMP:20260423T015349Z
DTSTART;VALUE=DATE:20170508
DTEND;VALUE=DATE:20170509
SUMMARY:EXPLORE 2017
DESCRIPTION:EXPLORE 2017 @ AAMAS 2017: The 4th Workshop on Exploring Beyo
 nd the Worst Case in Computational Social Choice
URL:http://www.wikicfp.com/cfp/servlet/event.showcfp?eventid=59321&copyow
 nerid=83834
UID:cfp633963-E@wikicfp.com
END:VEVENT
BEGIN:VEVENT
DTSTAMP:20260423T015349Z
DTSTART;VALUE=DATE:20170222
SUMMARY:EXPLORE 2017 Deadline
DESCRIPTION:EXPLORE 2017 @ AAMAS 2017: The 4th Workshop on Exploring Beyo
 nd the Worst Case in Computational Social Choice
URL:http://www.wikicfp.com/cfp/servlet/event.showcfp?eventid=59321&copyow
 nerid=83834
UID:cfp633963-D@wikicfp.com
END:VEVENT
BEGIN:VEVENT
DTSTAMP:20260423T015349Z
DTSTART;VALUE=DATE:20170310
SUMMARY:EXPLORE 2017 Notification Due
DESCRIPTION:EXPLORE 2017 @ AAMAS 2017: The 4th Workshop on Exploring Beyo
 nd the Worst Case in Computational Social Choice
URL:http://www.wikicfp.com/cfp/servlet/event.showcfp?eventid=59321&copyow
 nerid=83834
UID:cfp633963-N@wikicfp.com
END:VEVENT
BEGIN:VEVENT
DTSTAMP:20260423T015349Z
DTSTART;VALUE=DATE:20180713
DTEND;VALUE=DATE:20180716
SUMMARY:AI^3 2018
DESCRIPTION:AAMAS-IJCAI workshop on Agents & Incentives in AI (AI^3 2018)
 
URL:http://www.wikicfp.com/cfp/servlet/event.showcfp?eventid=74575&copyow
 nerid=83834
UID:cfp718303-E@wikicfp.com
END:VEVENT
BEGIN:VEVENT
DTSTAMP:20260423T015349Z
DTSTART;VALUE=DATE:20180514
SUMMARY:AI^3 2018 Deadline
DESCRIPTION:AAMAS-IJCAI workshop on Agents & Incentives in AI (AI^3 2018)
 
URL:http://www.wikicfp.com/cfp/servlet/event.showcfp?eventid=74575&copyow
 nerid=83834
UID:cfp718303-D@wikicfp.com
END:VEVENT
BEGIN:VEVENT
DTSTAMP:20260423T015349Z
DTSTART;VALUE=DATE:20180610
SUMMARY:AI^3 2018 Notification Due
DESCRIPTION:AAMAS-IJCAI workshop on Agents & Incentives in AI (AI^3 2018)
 
URL:http://www.wikicfp.com/cfp/servlet/event.showcfp?eventid=74575&copyow
 nerid=83834
UID:cfp718303-N@wikicfp.com
END:VEVENT
END:VCALENDAR
