BEGIN:VCALENDAR
PRODID:-//WikiCFP//adeng 1.0//EN
VERSION:2.0
CALSCALE:GREGORIAN
BEGIN:VEVENT
DTSTAMP:20260422T041140Z
DTSTART;VALUE=DATE:20160912
DTEND;VALUE=DATE:20160917
SUMMARY:RE 2016
DESCRIPTION:Requirements Engineering
URL:http://www.wikicfp.com/cfp/servlet/event.showcfp?eventid=50292&copyow
 nerid=83801
UID:cfp567659-E@wikicfp.com
END:VEVENT
BEGIN:VEVENT
DTSTAMP:20260422T041140Z
DTSTART;VALUE=DATE:20160307
SUMMARY:RE 2016 Abstract Due
DESCRIPTION:Requirements Engineering
URL:http://www.wikicfp.com/cfp/servlet/event.showcfp?eventid=50292&copyow
 nerid=83801
UID:cfp567659-A@wikicfp.com
END:VEVENT
BEGIN:VEVENT
DTSTAMP:20260422T041140Z
DTSTART;VALUE=DATE:20160314
SUMMARY:RE 2016 Deadline
DESCRIPTION:Requirements Engineering
URL:http://www.wikicfp.com/cfp/servlet/event.showcfp?eventid=50292&copyow
 nerid=83801
UID:cfp567659-D@wikicfp.com
END:VEVENT
BEGIN:VEVENT
DTSTAMP:20260422T041140Z
DTSTART;VALUE=DATE:20160531
SUMMARY:RE 2016 Notification Due
DESCRIPTION:Requirements Engineering
URL:http://www.wikicfp.com/cfp/servlet/event.showcfp?eventid=50292&copyow
 nerid=83801
UID:cfp567659-N@wikicfp.com
END:VEVENT
BEGIN:VEVENT
DTSTAMP:20260422T041140Z
DTSTART;VALUE=DATE:20160627
SUMMARY:RE 2016 Final Version Due
DESCRIPTION:Requirements Engineering
URL:http://www.wikicfp.com/cfp/servlet/event.showcfp?eventid=50292&copyow
 nerid=83801
UID:cfp567659-N@wikicfp.com
END:VEVENT
END:VCALENDAR
