BEGIN:VCALENDAR
PRODID:-//WikiCFP//aning1896 1.0//EN
VERSION:2.0
CALSCALE:GREGORIAN
BEGIN:VEVENT
DTSTAMP:20260425T193026Z
DTSTART;VALUE=DATE:20160222
DTEND;VALUE=DATE:20160224
SUMMARY:ICAEE 2016
DESCRIPTION:2016 the 3rd International Conference on Advances in Electron
 ics Engineering (SCOPUS\, Ei Compendex)
URL:http://www.wikicfp.com/cfp/servlet/event.showcfp?eventid=47251&copyow
 nerid=83665
UID:cfp566621-E@wikicfp.com
END:VEVENT
BEGIN:VEVENT
DTSTAMP:20260425T193026Z
DTSTART;VALUE=DATE:20151210
SUMMARY:ICAEE 2016 Deadline
DESCRIPTION:2016 the 3rd International Conference on Advances in Electron
 ics Engineering (SCOPUS\, Ei Compendex)
URL:http://www.wikicfp.com/cfp/servlet/event.showcfp?eventid=47251&copyow
 nerid=83665
UID:cfp566621-D@wikicfp.com
END:VEVENT
BEGIN:VEVENT
DTSTAMP:20260425T193026Z
DTSTART;VALUE=DATE:20160105
SUMMARY:ICAEE 2016 Notification Due
DESCRIPTION:2016 the 3rd International Conference on Advances in Electron
 ics Engineering (SCOPUS\, Ei Compendex)
URL:http://www.wikicfp.com/cfp/servlet/event.showcfp?eventid=47251&copyow
 nerid=83665
UID:cfp566621-N@wikicfp.com
END:VEVENT
BEGIN:VEVENT
DTSTAMP:20260425T193026Z
DTSTART;VALUE=DATE:20160115
SUMMARY:ICAEE 2016 Final Version Due
DESCRIPTION:2016 the 3rd International Conference on Advances in Electron
 ics Engineering (SCOPUS\, Ei Compendex)
URL:http://www.wikicfp.com/cfp/servlet/event.showcfp?eventid=47251&copyow
 nerid=83665
UID:cfp566621-N@wikicfp.com
END:VEVENT
BEGIN:VEVENT
DTSTAMP:20260425T193026Z
DTSTART;VALUE=DATE:20160530
DTEND;VALUE=DATE:20160602
SUMMARY:WODES 2016
DESCRIPTION:13th International Workshop on Discrete Event Systems
URL:http://www.wikicfp.com/cfp/servlet/event.showcfp?eventid=49065&copyow
 nerid=83665
UID:cfp566629-E@wikicfp.com
END:VEVENT
BEGIN:VEVENT
DTSTAMP:20260425T193026Z
DTSTART;VALUE=DATE:20160108
SUMMARY:WODES 2016 Deadline
DESCRIPTION:13th International Workshop on Discrete Event Systems
URL:http://www.wikicfp.com/cfp/servlet/event.showcfp?eventid=49065&copyow
 nerid=83665
UID:cfp566629-D@wikicfp.com
END:VEVENT
BEGIN:VEVENT
DTSTAMP:20260425T193026Z
DTSTART;VALUE=DATE:20160315
SUMMARY:WODES 2016 Notification Due
DESCRIPTION:13th International Workshop on Discrete Event Systems
URL:http://www.wikicfp.com/cfp/servlet/event.showcfp?eventid=49065&copyow
 nerid=83665
UID:cfp566629-N@wikicfp.com
END:VEVENT
BEGIN:VEVENT
DTSTAMP:20260425T193026Z
DTSTART;VALUE=DATE:20160410
SUMMARY:WODES 2016 Final Version Due
DESCRIPTION:13th International Workshop on Discrete Event Systems
URL:http://www.wikicfp.com/cfp/servlet/event.showcfp?eventid=49065&copyow
 nerid=83665
UID:cfp566629-N@wikicfp.com
END:VEVENT
BEGIN:VEVENT
DTSTAMP:20260425T193026Z
DTSTART;VALUE=DATE:20160420
DTEND;VALUE=DATE:20160423
SUMMARY:ICRAI 2016
DESCRIPTION:2016 2nd International Conference on Robotics and Artificial 
 Intelligence (ICRAI 2016)-SCOPUS\, Ei Compendex
URL:http://www.wikicfp.com/cfp/servlet/event.showcfp?eventid=49321&copyow
 nerid=83665
UID:cfp566634-E@wikicfp.com
END:VEVENT
BEGIN:VEVENT
DTSTAMP:20260425T193026Z
DTSTART;VALUE=DATE:20160220
SUMMARY:ICRAI 2016 Deadline
DESCRIPTION:2016 2nd International Conference on Robotics and Artificial 
 Intelligence (ICRAI 2016)-SCOPUS\, Ei Compendex
URL:http://www.wikicfp.com/cfp/servlet/event.showcfp?eventid=49321&copyow
 nerid=83665
UID:cfp566634-D@wikicfp.com
END:VEVENT
BEGIN:VEVENT
DTSTAMP:20260425T193026Z
DTSTART;VALUE=DATE:20160514
DTEND;VALUE=DATE:20160517
SUMMARY:ICCDM 2016
DESCRIPTION:SCOPUS\, Ei Compendex--2016 International Conference on Compu
 ter and Digital Manufacturing (ICCDM 2016)
URL:http://www.wikicfp.com/cfp/servlet/event.showcfp?eventid=49531&copyow
 nerid=83665
UID:cfp568527-E@wikicfp.com
END:VEVENT
BEGIN:VEVENT
DTSTAMP:20260425T193026Z
DTSTART;VALUE=DATE:20160229
SUMMARY:ICCDM 2016 Deadline
DESCRIPTION:SCOPUS\, Ei Compendex--2016 International Conference on Compu
 ter and Digital Manufacturing (ICCDM 2016)
URL:http://www.wikicfp.com/cfp/servlet/event.showcfp?eventid=49531&copyow
 nerid=83665
UID:cfp568527-D@wikicfp.com
END:VEVENT
BEGIN:VEVENT
DTSTAMP:20260425T193026Z
DTSTART;VALUE=DATE:20160428
DTEND;VALUE=DATE:20160501
SUMMARY:ICIEA-Ei 2016
DESCRIPTION:EI &Scopus-The 3rd International Conference on Industrial Eng
 ineering and Applications (ICIEA 2016)
URL:http://www.wikicfp.com/cfp/servlet/event.showcfp?eventid=49707&copyow
 nerid=83665
UID:cfp566635-E@wikicfp.com
END:VEVENT
BEGIN:VEVENT
DTSTAMP:20260425T193026Z
DTSTART;VALUE=DATE:20160301
SUMMARY:ICIEA-Ei 2016 Deadline
DESCRIPTION:EI &Scopus-The 3rd International Conference on Industrial Eng
 ineering and Applications (ICIEA 2016)
URL:http://www.wikicfp.com/cfp/servlet/event.showcfp?eventid=49707&copyow
 nerid=83665
UID:cfp566635-D@wikicfp.com
END:VEVENT
BEGIN:VEVENT
DTSTAMP:20260425T193026Z
DTSTART;VALUE=DATE:20160520
DTEND;VALUE=DATE:20160523
SUMMARY:ICDIP 2016
DESCRIPTION:ICDIP 2016 The 8th International Conference on Digital Image 
 Processing--SPIE\, EI&Scopus
URL:http://www.wikicfp.com/cfp/servlet/event.showcfp?eventid=49525&copyow
 nerid=83665
UID:cfp567683-E@wikicfp.com
END:VEVENT
BEGIN:VEVENT
DTSTAMP:20260425T193026Z
DTSTART;VALUE=DATE:20160325
SUMMARY:ICDIP 2016 Deadline
DESCRIPTION:ICDIP 2016 The 8th International Conference on Digital Image 
 Processing--SPIE\, EI&Scopus
URL:http://www.wikicfp.com/cfp/servlet/event.showcfp?eventid=49525&copyow
 nerid=83665
UID:cfp567683-D@wikicfp.com
END:VEVENT
BEGIN:VEVENT
DTSTAMP:20260425T193026Z
DTSTART;VALUE=DATE:20160604
DTEND;VALUE=DATE:20160607
SUMMARY:ICCSN-Ei(IEEE) 2016
DESCRIPTION:(IEEE)EI Compendex\; SCOPUS--2016 8th International Conferenc
 e on Communication Software and Networks (Ei 2016)
URL:http://www.wikicfp.com/cfp/servlet/event.showcfp?eventid=49841&copyow
 nerid=83665
UID:cfp568528-E@wikicfp.com
END:VEVENT
BEGIN:VEVENT
DTSTAMP:20260425T193026Z
DTSTART;VALUE=DATE:20160410
SUMMARY:ICCSN-Ei(IEEE) 2016 Deadline
DESCRIPTION:(IEEE)EI Compendex\; SCOPUS--2016 8th International Conferenc
 e on Communication Software and Networks (Ei 2016)
URL:http://www.wikicfp.com/cfp/servlet/event.showcfp?eventid=49841&copyow
 nerid=83665
UID:cfp568528-D@wikicfp.com
END:VEVENT
END:VCALENDAR
