BEGIN:VCALENDAR
PRODID:-//WikiCFP//jlmari 1.0//EN
VERSION:2.0
CALSCALE:GREGORIAN
BEGIN:VEVENT
DTSTAMP:20260423T000007Z
DTSTART;VALUE=DATE:20160615
DTEND;VALUE=DATE:20160618
SUMMARY:CTIC 2016
DESCRIPTION:Computational Topology in Image Context
URL:http://www.wikicfp.com/cfp/servlet/event.showcfp?eventid=50137&copyow
 nerid=83604
UID:cfp566205-E@wikicfp.com
END:VEVENT
BEGIN:VEVENT
DTSTAMP:20260423T000007Z
DTSTART;VALUE=DATE:20180528
DTEND;VALUE=DATE:20180602
SUMMARY:WSCG 2018
DESCRIPTION:26. Int.Conf.on Computer Graphics\, Visualization and Compute
 r Vision 2017
URL:http://www.wikicfp.com/cfp/servlet/event.showcfp?eventid=65270&copyow
 nerid=83604
UID:cfp717043-E@wikicfp.com
END:VEVENT
BEGIN:VEVENT
DTSTAMP:20260423T000007Z
DTSTART;VALUE=DATE:20180227
SUMMARY:WSCG 2018 Deadline
DESCRIPTION:26. Int.Conf.on Computer Graphics\, Visualization and Compute
 r Vision 2017
URL:http://www.wikicfp.com/cfp/servlet/event.showcfp?eventid=65270&copyow
 nerid=83604
UID:cfp717043-D@wikicfp.com
END:VEVENT
BEGIN:VEVENT
DTSTAMP:20260423T000007Z
DTSTART;VALUE=DATE:20180331
SUMMARY:WSCG 2018 Notification Due
DESCRIPTION:26. Int.Conf.on Computer Graphics\, Visualization and Compute
 r Vision 2017
URL:http://www.wikicfp.com/cfp/servlet/event.showcfp?eventid=65270&copyow
 nerid=83604
UID:cfp717043-N@wikicfp.com
END:VEVENT
BEGIN:VEVENT
DTSTAMP:20260423T000007Z
DTSTART;VALUE=DATE:20180430
SUMMARY:WSCG 2018 Final Version Due
DESCRIPTION:26. Int.Conf.on Computer Graphics\, Visualization and Compute
 r Vision 2017
URL:http://www.wikicfp.com/cfp/servlet/event.showcfp?eventid=65270&copyow
 nerid=83604
UID:cfp717043-N@wikicfp.com
END:VEVENT
BEGIN:VEVENT
DTSTAMP:20260423T000007Z
DTSTART;VALUE=DATE:20180624
DTEND;VALUE=DATE:20180628
SUMMARY:Salento AVR 2018
DESCRIPTION:5th International Conference on Augmented Reality\, Virtual R
 eality and Computer Graphics
URL:http://www.wikicfp.com/cfp/servlet/event.showcfp?eventid=68470&copyow
 nerid=83604
UID:cfp717042-E@wikicfp.com
END:VEVENT
BEGIN:VEVENT
DTSTAMP:20260423T000007Z
DTSTART;VALUE=DATE:20180311
SUMMARY:Salento AVR 2018 Deadline
DESCRIPTION:5th International Conference on Augmented Reality\, Virtual R
 eality and Computer Graphics
URL:http://www.wikicfp.com/cfp/servlet/event.showcfp?eventid=68470&copyow
 nerid=83604
UID:cfp717042-D@wikicfp.com
END:VEVENT
BEGIN:VEVENT
DTSTAMP:20260423T000007Z
DTSTART;VALUE=DATE:20180422
SUMMARY:Salento AVR 2018 Notification Due
DESCRIPTION:5th International Conference on Augmented Reality\, Virtual R
 eality and Computer Graphics
URL:http://www.wikicfp.com/cfp/servlet/event.showcfp?eventid=68470&copyow
 nerid=83604
UID:cfp717042-N@wikicfp.com
END:VEVENT
BEGIN:VEVENT
DTSTAMP:20260423T000007Z
DTSTART;VALUE=DATE:20180430
SUMMARY:Salento AVR 2018 Final Version Due
DESCRIPTION:5th International Conference on Augmented Reality\, Virtual R
 eality and Computer Graphics
URL:http://www.wikicfp.com/cfp/servlet/event.showcfp?eventid=68470&copyow
 nerid=83604
UID:cfp717042-N@wikicfp.com
END:VEVENT
BEGIN:VEVENT
DTSTAMP:20260423T000007Z
DTSTART;VALUE=DATE:20180908
DTEND;VALUE=DATE:20180915
SUMMARY:ECCV 2018
DESCRIPTION:European Conference on Computer Vision
URL:http://www.wikicfp.com/cfp/servlet/event.showcfp?eventid=58291&copyow
 nerid=83604
UID:cfp717040-E@wikicfp.com
END:VEVENT
BEGIN:VEVENT
DTSTAMP:20260423T000007Z
DTSTART;VALUE=DATE:20180314
SUMMARY:ECCV 2018 Deadline
DESCRIPTION:European Conference on Computer Vision
URL:http://www.wikicfp.com/cfp/servlet/event.showcfp?eventid=58291&copyow
 nerid=83604
UID:cfp717040-D@wikicfp.com
END:VEVENT
BEGIN:VEVENT
DTSTAMP:20260423T000007Z
DTSTART;VALUE=DATE:20180701
SUMMARY:ECCV 2018 Notification Due
DESCRIPTION:European Conference on Computer Vision
URL:http://www.wikicfp.com/cfp/servlet/event.showcfp?eventid=58291&copyow
 nerid=83604
UID:cfp717040-N@wikicfp.com
END:VEVENT
BEGIN:VEVENT
DTSTAMP:20260423T000007Z
DTSTART;VALUE=DATE:20180725
SUMMARY:ECCV 2018 Final Version Due
DESCRIPTION:European Conference on Computer Vision
URL:http://www.wikicfp.com/cfp/servlet/event.showcfp?eventid=58291&copyow
 nerid=83604
UID:cfp717040-N@wikicfp.com
END:VEVENT
BEGIN:VEVENT
DTSTAMP:20260423T000007Z
DTSTART;VALUE=DATE:20180917
DTEND;VALUE=DATE:20180920
SUMMARY:ICCVG 2018
DESCRIPTION:International Conference on Computer Vision and Graphics
URL:http://www.wikicfp.com/cfp/servlet/event.showcfp?eventid=58423&copyow
 nerid=83604
UID:cfp717039-E@wikicfp.com
END:VEVENT
BEGIN:VEVENT
DTSTAMP:20260423T000007Z
DTSTART;VALUE=DATE:20180318
SUMMARY:ICCVG 2018 Deadline
DESCRIPTION:International Conference on Computer Vision and Graphics
URL:http://www.wikicfp.com/cfp/servlet/event.showcfp?eventid=58423&copyow
 nerid=83604
UID:cfp717039-D@wikicfp.com
END:VEVENT
BEGIN:VEVENT
DTSTAMP:20260423T000007Z
DTSTART;VALUE=DATE:20180416
SUMMARY:ICCVG 2018 Notification Due
DESCRIPTION:International Conference on Computer Vision and Graphics
URL:http://www.wikicfp.com/cfp/servlet/event.showcfp?eventid=58423&copyow
 nerid=83604
UID:cfp717039-N@wikicfp.com
END:VEVENT
BEGIN:VEVENT
DTSTAMP:20260423T000007Z
DTSTART;VALUE=DATE:20180507
SUMMARY:ICCVG 2018 Final Version Due
DESCRIPTION:International Conference on Computer Vision and Graphics
URL:http://www.wikicfp.com/cfp/servlet/event.showcfp?eventid=58423&copyow
 nerid=83604
UID:cfp717039-N@wikicfp.com
END:VEVENT
BEGIN:VEVENT
DTSTAMP:20260423T000007Z
DTSTART;VALUE=DATE:20180528
DTEND;VALUE=DATE:20180602
SUMMARY:GraVisMa 2018
DESCRIPTION:Computer Graphics\, Computer Vision and Computational Mathema
 tics 2018
URL:http://www.wikicfp.com/cfp/servlet/event.showcfp?eventid=67061&copyow
 nerid=83604
UID:cfp717044-E@wikicfp.com
END:VEVENT
BEGIN:VEVENT
DTSTAMP:20260423T000007Z
DTSTART;VALUE=DATE:20180320
SUMMARY:GraVisMa 2018 Deadline
DESCRIPTION:Computer Graphics\, Computer Vision and Computational Mathema
 tics 2018
URL:http://www.wikicfp.com/cfp/servlet/event.showcfp?eventid=67061&copyow
 nerid=83604
UID:cfp717044-D@wikicfp.com
END:VEVENT
BEGIN:VEVENT
DTSTAMP:20260423T000007Z
DTSTART;VALUE=DATE:20180415
SUMMARY:GraVisMa 2018 Notification Due
DESCRIPTION:Computer Graphics\, Computer Vision and Computational Mathema
 tics 2018
URL:http://www.wikicfp.com/cfp/servlet/event.showcfp?eventid=67061&copyow
 nerid=83604
UID:cfp717044-N@wikicfp.com
END:VEVENT
BEGIN:VEVENT
DTSTAMP:20260423T000007Z
DTSTART;VALUE=DATE:20180430
SUMMARY:GraVisMa 2018 Final Version Due
DESCRIPTION:Computer Graphics\, Computer Vision and Computational Mathema
 tics 2018
URL:http://www.wikicfp.com/cfp/servlet/event.showcfp?eventid=67061&copyow
 nerid=83604
UID:cfp717044-N@wikicfp.com
END:VEVENT
BEGIN:VEVENT
DTSTAMP:20260423T000007Z
DTSTART;VALUE=DATE:20180913
DTEND;VALUE=DATE:20180915
SUMMARY:CGVC 2018
DESCRIPTION:Computer Graphics & Visual Computing
URL:http://www.wikicfp.com/cfp/servlet/event.showcfp?eventid=72159&copyow
 nerid=83604
UID:cfp717038-E@wikicfp.com
END:VEVENT
BEGIN:VEVENT
DTSTAMP:20260423T000007Z
DTSTART;VALUE=DATE:20180608
SUMMARY:CGVC 2018 Deadline
DESCRIPTION:Computer Graphics & Visual Computing
URL:http://www.wikicfp.com/cfp/servlet/event.showcfp?eventid=72159&copyow
 nerid=83604
UID:cfp717038-D@wikicfp.com
END:VEVENT
BEGIN:VEVENT
DTSTAMP:20260423T000007Z
DTSTART;VALUE=DATE:20180713
SUMMARY:CGVC 2018 Notification Due
DESCRIPTION:Computer Graphics & Visual Computing
URL:http://www.wikicfp.com/cfp/servlet/event.showcfp?eventid=72159&copyow
 nerid=83604
UID:cfp717038-N@wikicfp.com
END:VEVENT
BEGIN:VEVENT
DTSTAMP:20260423T000007Z
DTSTART;VALUE=DATE:20180803
SUMMARY:CGVC 2018 Final Version Due
DESCRIPTION:Computer Graphics & Visual Computing
URL:http://www.wikicfp.com/cfp/servlet/event.showcfp?eventid=72159&copyow
 nerid=83604
UID:cfp717038-N@wikicfp.com
END:VEVENT
BEGIN:VEVENT
DTSTAMP:20260423T000007Z
DTSTART;VALUE=DATE:20181008
DTEND;VALUE=DATE:20181012
SUMMARY:PG 2018
DESCRIPTION:Pacific Graphics 2018
URL:http://www.wikicfp.com/cfp/servlet/event.showcfp?eventid=73866&copyow
 nerid=83604
UID:cfp717041-E@wikicfp.com
END:VEVENT
BEGIN:VEVENT
DTSTAMP:20260423T000007Z
DTSTART;VALUE=DATE:20180610
SUMMARY:PG 2018 Abstract Due
DESCRIPTION:Pacific Graphics 2018
URL:http://www.wikicfp.com/cfp/servlet/event.showcfp?eventid=73866&copyow
 nerid=83604
UID:cfp717041-A@wikicfp.com
END:VEVENT
BEGIN:VEVENT
DTSTAMP:20260423T000007Z
DTSTART;VALUE=DATE:20180612
SUMMARY:PG 2018 Deadline
DESCRIPTION:Pacific Graphics 2018
URL:http://www.wikicfp.com/cfp/servlet/event.showcfp?eventid=73866&copyow
 nerid=83604
UID:cfp717041-D@wikicfp.com
END:VEVENT
BEGIN:VEVENT
DTSTAMP:20260423T000007Z
DTSTART;VALUE=DATE:20180801
SUMMARY:PG 2018 Notification Due
DESCRIPTION:Pacific Graphics 2018
URL:http://www.wikicfp.com/cfp/servlet/event.showcfp?eventid=73866&copyow
 nerid=83604
UID:cfp717041-N@wikicfp.com
END:VEVENT
BEGIN:VEVENT
DTSTAMP:20260423T000007Z
DTSTART;VALUE=DATE:20180831
SUMMARY:PG 2018 Final Version Due
DESCRIPTION:Pacific Graphics 2018
URL:http://www.wikicfp.com/cfp/servlet/event.showcfp?eventid=73866&copyow
 nerid=83604
UID:cfp717041-N@wikicfp.com
END:VEVENT
END:VCALENDAR
