BEGIN:VCALENDAR
PRODID:-//WikiCFP//sakgasit 1.0//EN
VERSION:2.0
CALSCALE:GREGORIAN
BEGIN:VEVENT
DTSTAMP:20260422T154511Z
DTSTART;VALUE=DATE:20161005
DTEND;VALUE=DATE:20161008
SUMMARY:CIBCB 2016
DESCRIPTION:IEEE International Conference on Computational Intelligence i
 n Bioinformatics and Computational Biology
URL:http://www.wikicfp.com/cfp/servlet/event.showcfp?eventid=50010&copyow
 nerid=83500
UID:cfp565588-E@wikicfp.com
END:VEVENT
BEGIN:VEVENT
DTSTAMP:20260422T154511Z
DTSTART;VALUE=DATE:20160531
SUMMARY:CIBCB 2016 Deadline
DESCRIPTION:IEEE International Conference on Computational Intelligence i
 n Bioinformatics and Computational Biology
URL:http://www.wikicfp.com/cfp/servlet/event.showcfp?eventid=50010&copyow
 nerid=83500
UID:cfp565588-D@wikicfp.com
END:VEVENT
BEGIN:VEVENT
DTSTAMP:20260422T154511Z
DTSTART;VALUE=DATE:20160630
SUMMARY:CIBCB 2016 Notification Due
DESCRIPTION:IEEE International Conference on Computational Intelligence i
 n Bioinformatics and Computational Biology
URL:http://www.wikicfp.com/cfp/servlet/event.showcfp?eventid=50010&copyow
 nerid=83500
UID:cfp565588-N@wikicfp.com
END:VEVENT
BEGIN:VEVENT
DTSTAMP:20260422T154511Z
DTSTART;VALUE=DATE:20160730
SUMMARY:CIBCB 2016 Final Version Due
DESCRIPTION:IEEE International Conference on Computational Intelligence i
 n Bioinformatics and Computational Biology
URL:http://www.wikicfp.com/cfp/servlet/event.showcfp?eventid=50010&copyow
 nerid=83500
UID:cfp565588-N@wikicfp.com
END:VEVENT
END:VCALENDAR
