BEGIN:VCALENDAR
PRODID:-//WikiCFP//dt114 1.0//EN
VERSION:2.0
CALSCALE:GREGORIAN
BEGIN:VEVENT
DTSTAMP:20260421T175327Z
DTSTART;VALUE=DATE:20110427
DTEND;VALUE=DATE:20110430
SUMMARY:ASYNC 2011
DESCRIPTION:IEEE International Symposium on Asynchronous Circuits and Sys
 tems
URL:http://www.wikicfp.com/cfp/servlet/event.showcfp?eventid=10828&copyow
 nerid=83354
UID:cfp591158-E@wikicfp.com
END:VEVENT
BEGIN:VEVENT
DTSTAMP:20260421T175327Z
DTSTART;VALUE=DATE:20101108
SUMMARY:ASYNC 2011 Deadline
DESCRIPTION:IEEE International Symposium on Asynchronous Circuits and Sys
 tems
URL:http://www.wikicfp.com/cfp/servlet/event.showcfp?eventid=10828&copyow
 nerid=83354
UID:cfp591158-D@wikicfp.com
END:VEVENT
BEGIN:VEVENT
DTSTAMP:20260421T175327Z
DTSTART;VALUE=DATE:20110124
SUMMARY:ASYNC 2011 Notification Due
DESCRIPTION:IEEE International Symposium on Asynchronous Circuits and Sys
 tems
URL:http://www.wikicfp.com/cfp/servlet/event.showcfp?eventid=10828&copyow
 nerid=83354
UID:cfp591158-N@wikicfp.com
END:VEVENT
BEGIN:VEVENT
DTSTAMP:20260421T175327Z
DTSTART;VALUE=DATE:20110214
SUMMARY:ASYNC 2011 Final Version Due
DESCRIPTION:IEEE International Symposium on Asynchronous Circuits and Sys
 tems
URL:http://www.wikicfp.com/cfp/servlet/event.showcfp?eventid=10828&copyow
 nerid=83354
UID:cfp591158-N@wikicfp.com
END:VEVENT
BEGIN:VEVENT
DTSTAMP:20260421T175327Z
DTSTART;VALUE=DATE:20160409
SUMMARY:VLSICS 2016 Deadline
DESCRIPTION:International Journal of VLSI design & Communication Systems
URL:http://www.wikicfp.com/cfp/servlet/event.showcfp?eventid=45248&copyow
 nerid=83354
UID:cfp591159-D@wikicfp.com
END:VEVENT
BEGIN:VEVENT
DTSTAMP:20260421T175327Z
DTSTART;VALUE=DATE:20160509
SUMMARY:VLSICS 2016 Notification Due
DESCRIPTION:International Journal of VLSI design & Communication Systems
URL:http://www.wikicfp.com/cfp/servlet/event.showcfp?eventid=45248&copyow
 nerid=83354
UID:cfp591159-N@wikicfp.com
END:VEVENT
BEGIN:VEVENT
DTSTAMP:20260421T175327Z
DTSTART;VALUE=DATE:20160517
SUMMARY:VLSICS 2016 Final Version Due
DESCRIPTION:International Journal of VLSI design & Communication Systems
URL:http://www.wikicfp.com/cfp/servlet/event.showcfp?eventid=45248&copyow
 nerid=83354
UID:cfp591159-N@wikicfp.com
END:VEVENT
BEGIN:VEVENT
DTSTAMP:20260421T175327Z
DTSTART;VALUE=DATE:20161003
DTEND;VALUE=DATE:20161006
SUMMARY:ICCD 2016
DESCRIPTION:International Conference on Computer Design
URL:http://www.wikicfp.com/cfp/servlet/event.showcfp?eventid=52844&copyow
 nerid=83354
UID:cfp588092-E@wikicfp.com
END:VEVENT
BEGIN:VEVENT
DTSTAMP:20260421T175327Z
DTSTART;VALUE=DATE:20160513
SUMMARY:ICCD 2016 Abstract Due
DESCRIPTION:International Conference on Computer Design
URL:http://www.wikicfp.com/cfp/servlet/event.showcfp?eventid=52844&copyow
 nerid=83354
UID:cfp588092-A@wikicfp.com
END:VEVENT
BEGIN:VEVENT
DTSTAMP:20260421T175327Z
DTSTART;VALUE=DATE:20160520
SUMMARY:ICCD 2016 Deadline
DESCRIPTION:International Conference on Computer Design
URL:http://www.wikicfp.com/cfp/servlet/event.showcfp?eventid=52844&copyow
 nerid=83354
UID:cfp588092-D@wikicfp.com
END:VEVENT
BEGIN:VEVENT
DTSTAMP:20260421T175327Z
DTSTART;VALUE=DATE:20160729
SUMMARY:ICCD 2016 Notification Due
DESCRIPTION:International Conference on Computer Design
URL:http://www.wikicfp.com/cfp/servlet/event.showcfp?eventid=52844&copyow
 nerid=83354
UID:cfp588092-N@wikicfp.com
END:VEVENT
BEGIN:VEVENT
DTSTAMP:20260421T175327Z
DTSTART;VALUE=DATE:20160819
SUMMARY:ICCD 2016 Final Version Due
DESCRIPTION:International Conference on Computer Design
URL:http://www.wikicfp.com/cfp/servlet/event.showcfp?eventid=52844&copyow
 nerid=83354
UID:cfp588092-N@wikicfp.com
END:VEVENT
BEGIN:VEVENT
DTSTAMP:20260421T175327Z
DTSTART;VALUE=DATE:20160917
SUMMARY:CSIJ 2016 Deadline
DESCRIPTION:Circuits and Systems: An International Journal
URL:http://www.wikicfp.com/cfp/servlet/event.showcfp?eventid=48380&copyow
 nerid=83354
UID:cfp592598-D@wikicfp.com
END:VEVENT
BEGIN:VEVENT
DTSTAMP:20260421T175327Z
DTSTART;VALUE=DATE:20161017
SUMMARY:CSIJ 2016 Notification Due
DESCRIPTION:Circuits and Systems: An International Journal
URL:http://www.wikicfp.com/cfp/servlet/event.showcfp?eventid=48380&copyow
 nerid=83354
UID:cfp592598-N@wikicfp.com
END:VEVENT
BEGIN:VEVENT
DTSTAMP:20260421T175327Z
DTSTART;VALUE=DATE:20161025
SUMMARY:CSIJ 2016 Final Version Due
DESCRIPTION:Circuits and Systems: An International Journal
URL:http://www.wikicfp.com/cfp/servlet/event.showcfp?eventid=48380&copyow
 nerid=83354
UID:cfp592598-N@wikicfp.com
END:VEVENT
END:VCALENDAR
