BEGIN:VCALENDAR
PRODID:-//WikiCFP//ghizlane98 1.0//EN
VERSION:2.0
CALSCALE:GREGORIAN
BEGIN:VEVENT
DTSTAMP:20260419T141359Z
DTSTART;VALUE=DATE:20160427
DTEND;VALUE=DATE:20160430
SUMMARY:ESANN 2016
DESCRIPTION:European Symposium on Artificial Neural Networks\, Computatio
 nal Intelligence and Machine Learning
URL:http://www.wikicfp.com/cfp/servlet/event.showcfp?eventid=48204&copyow
 nerid=83161
UID:cfp563024-E@wikicfp.com
END:VEVENT
BEGIN:VEVENT
DTSTAMP:20260419T141359Z
DTSTART;VALUE=DATE:20151120
SUMMARY:ESANN 2016 Deadline
DESCRIPTION:European Symposium on Artificial Neural Networks\, Computatio
 nal Intelligence and Machine Learning
URL:http://www.wikicfp.com/cfp/servlet/event.showcfp?eventid=48204&copyow
 nerid=83161
UID:cfp563024-D@wikicfp.com
END:VEVENT
BEGIN:VEVENT
DTSTAMP:20260419T141359Z
DTSTART;VALUE=DATE:20160131
SUMMARY:ESANN 2016 Notification Due
DESCRIPTION:European Symposium on Artificial Neural Networks\, Computatio
 nal Intelligence and Machine Learning
URL:http://www.wikicfp.com/cfp/servlet/event.showcfp?eventid=48204&copyow
 nerid=83161
UID:cfp563024-N@wikicfp.com
END:VEVENT
BEGIN:VEVENT
DTSTAMP:20260419T141359Z
DTSTART;VALUE=DATE:20160531
DTEND;VALUE=DATE:20160604
SUMMARY:BDAS 2016
DESCRIPTION:12th (IEEE technically co-sponsored) International Conference
  Beyond Databases\, Architectures and Structures 
URL:http://www.wikicfp.com/cfp/servlet/event.showcfp?eventid=48874&copyow
 nerid=83161
UID:cfp563025-E@wikicfp.com
END:VEVENT
BEGIN:VEVENT
DTSTAMP:20260419T141359Z
DTSTART;VALUE=DATE:20151102
SUMMARY:BDAS 2016 Abstract Due
DESCRIPTION:12th (IEEE technically co-sponsored) International Conference
  Beyond Databases\, Architectures and Structures 
URL:http://www.wikicfp.com/cfp/servlet/event.showcfp?eventid=48874&copyow
 nerid=83161
UID:cfp563025-A@wikicfp.com
END:VEVENT
BEGIN:VEVENT
DTSTAMP:20260419T141359Z
DTSTART;VALUE=DATE:20151124
SUMMARY:BDAS 2016 Deadline
DESCRIPTION:12th (IEEE technically co-sponsored) International Conference
  Beyond Databases\, Architectures and Structures 
URL:http://www.wikicfp.com/cfp/servlet/event.showcfp?eventid=48874&copyow
 nerid=83161
UID:cfp563025-D@wikicfp.com
END:VEVENT
BEGIN:VEVENT
DTSTAMP:20260419T141359Z
DTSTART;VALUE=DATE:20160112
SUMMARY:BDAS 2016 Notification Due
DESCRIPTION:12th (IEEE technically co-sponsored) International Conference
  Beyond Databases\, Architectures and Structures 
URL:http://www.wikicfp.com/cfp/servlet/event.showcfp?eventid=48874&copyow
 nerid=83161
UID:cfp563025-N@wikicfp.com
END:VEVENT
BEGIN:VEVENT
DTSTAMP:20260419T141359Z
DTSTART;VALUE=DATE:20160131
SUMMARY:BDAS 2016 Final Version Due
DESCRIPTION:12th (IEEE technically co-sponsored) International Conference
  Beyond Databases\, Architectures and Structures 
URL:http://www.wikicfp.com/cfp/servlet/event.showcfp?eventid=48874&copyow
 nerid=83161
UID:cfp563025-N@wikicfp.com
END:VEVENT
BEGIN:VEVENT
DTSTAMP:20260419T141359Z
DTSTART;VALUE=DATE:20160102
DTEND;VALUE=DATE:20160104
SUMMARY:AISC 2016
DESCRIPTION:Fourth International Conference on Artificial Intelligence\, 
 Soft Computing 
URL:http://www.wikicfp.com/cfp/servlet/event.showcfp?eventid=49287&copyow
 nerid=83161
UID:cfp563035-E@wikicfp.com
END:VEVENT
BEGIN:VEVENT
DTSTAMP:20260419T141359Z
DTSTART;VALUE=DATE:20151127
SUMMARY:AISC 2016 Deadline
DESCRIPTION:Fourth International Conference on Artificial Intelligence\, 
 Soft Computing 
URL:http://www.wikicfp.com/cfp/servlet/event.showcfp?eventid=49287&copyow
 nerid=83161
UID:cfp563035-D@wikicfp.com
END:VEVENT
BEGIN:VEVENT
DTSTAMP:20260419T141359Z
DTSTART;VALUE=DATE:20151215
SUMMARY:AISC 2016 Notification Due
DESCRIPTION:Fourth International Conference on Artificial Intelligence\, 
 Soft Computing 
URL:http://www.wikicfp.com/cfp/servlet/event.showcfp?eventid=49287&copyow
 nerid=83161
UID:cfp563035-N@wikicfp.com
END:VEVENT
BEGIN:VEVENT
DTSTAMP:20260419T141359Z
DTSTART;VALUE=DATE:20151223
SUMMARY:AISC 2016 Final Version Due
DESCRIPTION:Fourth International Conference on Artificial Intelligence\, 
 Soft Computing 
URL:http://www.wikicfp.com/cfp/servlet/event.showcfp?eventid=49287&copyow
 nerid=83161
UID:cfp563035-N@wikicfp.com
END:VEVENT
BEGIN:VEVENT
DTSTAMP:20260419T141359Z
DTSTART;VALUE=DATE:20160518
DTEND;VALUE=DATE:20160521
SUMMARY:SETN 2016
DESCRIPTION:9th Hellenic Conference on Artificial Intelligence
URL:http://www.wikicfp.com/cfp/servlet/event.showcfp?eventid=47051&copyow
 nerid=83161
UID:cfp563022-E@wikicfp.com
END:VEVENT
BEGIN:VEVENT
DTSTAMP:20260419T141359Z
DTSTART;VALUE=DATE:20151130
SUMMARY:SETN 2016 Deadline
DESCRIPTION:9th Hellenic Conference on Artificial Intelligence
URL:http://www.wikicfp.com/cfp/servlet/event.showcfp?eventid=47051&copyow
 nerid=83161
UID:cfp563022-D@wikicfp.com
END:VEVENT
BEGIN:VEVENT
DTSTAMP:20260419T141359Z
DTSTART;VALUE=DATE:20160215
SUMMARY:SETN 2016 Notification Due
DESCRIPTION:9th Hellenic Conference on Artificial Intelligence
URL:http://www.wikicfp.com/cfp/servlet/event.showcfp?eventid=47051&copyow
 nerid=83161
UID:cfp563022-N@wikicfp.com
END:VEVENT
BEGIN:VEVENT
DTSTAMP:20260419T141359Z
DTSTART;VALUE=DATE:20160228
SUMMARY:SETN 2016 Final Version Due
DESCRIPTION:9th Hellenic Conference on Artificial Intelligence
URL:http://www.wikicfp.com/cfp/servlet/event.showcfp?eventid=47051&copyow
 nerid=83161
UID:cfp563022-N@wikicfp.com
END:VEVENT
BEGIN:VEVENT
DTSTAMP:20260419T141359Z
DTSTART;VALUE=DATE:20160418
DTEND;VALUE=DATE:20160421
SUMMARY:HAIS 2016
DESCRIPTION:The 11th International Conference on Hybrid Artificial Intell
 igence Systems
URL:http://www.wikicfp.com/cfp/servlet/event.showcfp?eventid=49499&copyow
 nerid=83161
UID:cfp563026-E@wikicfp.com
END:VEVENT
BEGIN:VEVENT
DTSTAMP:20260419T141359Z
DTSTART;VALUE=DATE:20151201
SUMMARY:HAIS 2016 Deadline
DESCRIPTION:The 11th International Conference on Hybrid Artificial Intell
 igence Systems
URL:http://www.wikicfp.com/cfp/servlet/event.showcfp?eventid=49499&copyow
 nerid=83161
UID:cfp563026-D@wikicfp.com
END:VEVENT
BEGIN:VEVENT
DTSTAMP:20260419T141359Z
DTSTART;VALUE=DATE:20160112
SUMMARY:HAIS 2016 Notification Due
DESCRIPTION:The 11th International Conference on Hybrid Artificial Intell
 igence Systems
URL:http://www.wikicfp.com/cfp/servlet/event.showcfp?eventid=49499&copyow
 nerid=83161
UID:cfp563026-N@wikicfp.com
END:VEVENT
BEGIN:VEVENT
DTSTAMP:20260419T141359Z
DTSTART;VALUE=DATE:20160205
SUMMARY:HAIS 2016 Final Version Due
DESCRIPTION:The 11th International Conference on Hybrid Artificial Intell
 igence Systems
URL:http://www.wikicfp.com/cfp/servlet/event.showcfp?eventid=49499&copyow
 nerid=83161
UID:cfp563026-N@wikicfp.com
END:VEVENT
BEGIN:VEVENT
DTSTAMP:20260419T141359Z
DTSTART;VALUE=DATE:20151204
SUMMARY:CIAAL 2015 Deadline
DESCRIPTION:Computational Intelligence for Ambient Assisted Living
URL:http://www.wikicfp.com/cfp/servlet/event.showcfp?eventid=45122&copyow
 nerid=83161
UID:cfp563021-D@wikicfp.com
END:VEVENT
BEGIN:VEVENT
DTSTAMP:20260419T141359Z
DTSTART;VALUE=DATE:20160226
SUMMARY:CIAAL 2015 Notification Due
DESCRIPTION:Computational Intelligence for Ambient Assisted Living
URL:http://www.wikicfp.com/cfp/servlet/event.showcfp?eventid=45122&copyow
 nerid=83161
UID:cfp563021-N@wikicfp.com
END:VEVENT
BEGIN:VEVENT
DTSTAMP:20260419T141359Z
DTSTART;VALUE=DATE:20160422
SUMMARY:CIAAL 2015 Final Version Due
DESCRIPTION:Computational Intelligence for Ambient Assisted Living
URL:http://www.wikicfp.com/cfp/servlet/event.showcfp?eventid=45122&copyow
 nerid=83161
UID:cfp563021-N@wikicfp.com
END:VEVENT
BEGIN:VEVENT
DTSTAMP:20260419T141359Z
DTSTART;VALUE=DATE:20160202
DTEND;VALUE=DATE:20160204
SUMMARY:ICSIM 2016
DESCRIPTION:2016 International Conference on Soft Engineering and Informa
 tion Management
URL:http://www.wikicfp.com/cfp/servlet/event.showcfp?eventid=47844&copyow
 nerid=83161
UID:cfp563023-E@wikicfp.com
END:VEVENT
BEGIN:VEVENT
DTSTAMP:20260419T141359Z
DTSTART;VALUE=DATE:20151205
SUMMARY:ICSIM 2016 Deadline
DESCRIPTION:2016 International Conference on Soft Engineering and Informa
 tion Management
URL:http://www.wikicfp.com/cfp/servlet/event.showcfp?eventid=47844&copyow
 nerid=83161
UID:cfp563023-D@wikicfp.com
END:VEVENT
BEGIN:VEVENT
DTSTAMP:20260419T141359Z
DTSTART;VALUE=DATE:20151220
SUMMARY:ICSIM 2016 Notification Due
DESCRIPTION:2016 International Conference on Soft Engineering and Informa
 tion Management
URL:http://www.wikicfp.com/cfp/servlet/event.showcfp?eventid=47844&copyow
 nerid=83161
UID:cfp563023-N@wikicfp.com
END:VEVENT
BEGIN:VEVENT
DTSTAMP:20260419T141359Z
DTSTART;VALUE=DATE:20151230
SUMMARY:ICSIM 2016 Final Version Due
DESCRIPTION:2016 International Conference on Soft Engineering and Informa
 tion Management
URL:http://www.wikicfp.com/cfp/servlet/event.showcfp?eventid=47844&copyow
 nerid=83161
UID:cfp563023-N@wikicfp.com
END:VEVENT
BEGIN:VEVENT
DTSTAMP:20260419T141359Z
DTSTART;VALUE=DATE:20160218
DTEND;VALUE=DATE:20160219
SUMMARY:ICITA 2016
DESCRIPTION:International Colloquium on Information Technology Theory and
  Application
URL:http://www.wikicfp.com/cfp/servlet/event.showcfp?eventid=49449&copyow
 nerid=83161
UID:cfp563032-E@wikicfp.com
END:VEVENT
BEGIN:VEVENT
DTSTAMP:20260419T141359Z
DTSTART;VALUE=DATE:20151206
SUMMARY:ICITA 2016 Deadline
DESCRIPTION:International Colloquium on Information Technology Theory and
  Application
URL:http://www.wikicfp.com/cfp/servlet/event.showcfp?eventid=49449&copyow
 nerid=83161
UID:cfp563032-D@wikicfp.com
END:VEVENT
BEGIN:VEVENT
DTSTAMP:20260419T141359Z
DTSTART;VALUE=DATE:20160115
SUMMARY:ICITA 2016 Notification Due
DESCRIPTION:International Colloquium on Information Technology Theory and
  Application
URL:http://www.wikicfp.com/cfp/servlet/event.showcfp?eventid=49449&copyow
 nerid=83161
UID:cfp563032-N@wikicfp.com
END:VEVENT
BEGIN:VEVENT
DTSTAMP:20260419T141359Z
DTSTART;VALUE=DATE:20160125
SUMMARY:ICITA 2016 Final Version Due
DESCRIPTION:International Colloquium on Information Technology Theory and
  Application
URL:http://www.wikicfp.com/cfp/servlet/event.showcfp?eventid=49449&copyow
 nerid=83161
UID:cfp563032-N@wikicfp.com
END:VEVENT
BEGIN:VEVENT
DTSTAMP:20260419T141359Z
DTSTART;VALUE=DATE:20160407
DTEND;VALUE=DATE:20160429
SUMMARY:Insight 2016
DESCRIPTION:Scientific data as viewed from an aesthetic perspective
URL:http://www.wikicfp.com/cfp/servlet/event.showcfp?eventid=48643&copyow
 nerid=83161
UID:cfp563029-E@wikicfp.com
END:VEVENT
BEGIN:VEVENT
DTSTAMP:20260419T141359Z
DTSTART;VALUE=DATE:20151215
SUMMARY:Insight 2016 Deadline
DESCRIPTION:Scientific data as viewed from an aesthetic perspective
URL:http://www.wikicfp.com/cfp/servlet/event.showcfp?eventid=48643&copyow
 nerid=83161
UID:cfp563029-D@wikicfp.com
END:VEVENT
BEGIN:VEVENT
DTSTAMP:20260419T141359Z
DTSTART;VALUE=DATE:20160615
DTEND;VALUE=DATE:20160618
SUMMARY:KES-IDT  IS 04 2016
DESCRIPTION:Intelligent Data Analysis and Applications
URL:http://www.wikicfp.com/cfp/servlet/event.showcfp?eventid=49167&copyow
 nerid=83161
UID:cfp563031-E@wikicfp.com
END:VEVENT
BEGIN:VEVENT
DTSTAMP:20260419T141359Z
DTSTART;VALUE=DATE:20160110
SUMMARY:KES-IDT  IS 04 2016 Deadline
DESCRIPTION:Intelligent Data Analysis and Applications
URL:http://www.wikicfp.com/cfp/servlet/event.showcfp?eventid=49167&copyow
 nerid=83161
UID:cfp563031-D@wikicfp.com
END:VEVENT
BEGIN:VEVENT
DTSTAMP:20260419T141359Z
DTSTART;VALUE=DATE:20160215
SUMMARY:KES-IDT  IS 04 2016 Notification Due
DESCRIPTION:Intelligent Data Analysis and Applications
URL:http://www.wikicfp.com/cfp/servlet/event.showcfp?eventid=49167&copyow
 nerid=83161
UID:cfp563031-N@wikicfp.com
END:VEVENT
BEGIN:VEVENT
DTSTAMP:20260419T141359Z
DTSTART;VALUE=DATE:20160307
SUMMARY:KES-IDT  IS 04 2016 Final Version Due
DESCRIPTION:Intelligent Data Analysis and Applications
URL:http://www.wikicfp.com/cfp/servlet/event.showcfp?eventid=49167&copyow
 nerid=83161
UID:cfp563031-N@wikicfp.com
END:VEVENT
BEGIN:VEVENT
DTSTAMP:20260419T141359Z
DTSTART;VALUE=DATE:20160709
DTEND;VALUE=DATE:20160722
SUMMARY:MLDM 2016
DESCRIPTION:Machine Learning and Data Mining in Pattern Recognition
URL:http://www.wikicfp.com/cfp/servlet/event.showcfp?eventid=46140&copyow
 nerid=83161
UID:cfp563027-E@wikicfp.com
END:VEVENT
BEGIN:VEVENT
DTSTAMP:20260419T141359Z
DTSTART;VALUE=DATE:20160116
SUMMARY:MLDM 2016 Deadline
DESCRIPTION:Machine Learning and Data Mining in Pattern Recognition
URL:http://www.wikicfp.com/cfp/servlet/event.showcfp?eventid=46140&copyow
 nerid=83161
UID:cfp563027-D@wikicfp.com
END:VEVENT
BEGIN:VEVENT
DTSTAMP:20260419T141359Z
DTSTART;VALUE=DATE:20160318
SUMMARY:MLDM 2016 Notification Due
DESCRIPTION:Machine Learning and Data Mining in Pattern Recognition
URL:http://www.wikicfp.com/cfp/servlet/event.showcfp?eventid=46140&copyow
 nerid=83161
UID:cfp563027-N@wikicfp.com
END:VEVENT
BEGIN:VEVENT
DTSTAMP:20260419T141359Z
DTSTART;VALUE=DATE:20160505
SUMMARY:MLDM 2016 Final Version Due
DESCRIPTION:Machine Learning and Data Mining in Pattern Recognition
URL:http://www.wikicfp.com/cfp/servlet/event.showcfp?eventid=46140&copyow
 nerid=83161
UID:cfp563027-N@wikicfp.com
END:VEVENT
BEGIN:VEVENT
DTSTAMP:20260419T141359Z
DTSTART;VALUE=DATE:20160615
DTEND;VALUE=DATE:20160618
SUMMARY:KES-IDT 2016
DESCRIPTION:8th International KES Conference on Intelligent Decision Tech
 nologies
URL:http://www.wikicfp.com/cfp/servlet/event.showcfp?eventid=49126&copyow
 nerid=83161
UID:cfp563030-E@wikicfp.com
END:VEVENT
BEGIN:VEVENT
DTSTAMP:20260419T141359Z
DTSTART;VALUE=DATE:20160118
SUMMARY:KES-IDT 2016 Deadline
DESCRIPTION:8th International KES Conference on Intelligent Decision Tech
 nologies
URL:http://www.wikicfp.com/cfp/servlet/event.showcfp?eventid=49126&copyow
 nerid=83161
UID:cfp563030-D@wikicfp.com
END:VEVENT
BEGIN:VEVENT
DTSTAMP:20260419T141359Z
DTSTART;VALUE=DATE:20160215
SUMMARY:KES-IDT 2016 Notification Due
DESCRIPTION:8th International KES Conference on Intelligent Decision Tech
 nologies
URL:http://www.wikicfp.com/cfp/servlet/event.showcfp?eventid=49126&copyow
 nerid=83161
UID:cfp563030-N@wikicfp.com
END:VEVENT
BEGIN:VEVENT
DTSTAMP:20260419T141359Z
DTSTART;VALUE=DATE:20160307
SUMMARY:KES-IDT 2016 Final Version Due
DESCRIPTION:8th International KES Conference on Intelligent Decision Tech
 nologies
URL:http://www.wikicfp.com/cfp/servlet/event.showcfp?eventid=49126&copyow
 nerid=83161
UID:cfp563030-N@wikicfp.com
END:VEVENT
BEGIN:VEVENT
DTSTAMP:20260419T141359Z
DTSTART;VALUE=DATE:20160531
DTEND;VALUE=DATE:20160604
SUMMARY:AI 2016
DESCRIPTION:29th Canadian Conference on Artificial Intelligence
URL:http://www.wikicfp.com/cfp/servlet/event.showcfp?eventid=47931&copyow
 nerid=83161
UID:cfp563028-E@wikicfp.com
END:VEVENT
BEGIN:VEVENT
DTSTAMP:20260419T141359Z
DTSTART;VALUE=DATE:20160122
SUMMARY:AI 2016 Deadline
DESCRIPTION:29th Canadian Conference on Artificial Intelligence
URL:http://www.wikicfp.com/cfp/servlet/event.showcfp?eventid=47931&copyow
 nerid=83161
UID:cfp563028-D@wikicfp.com
END:VEVENT
BEGIN:VEVENT
DTSTAMP:20260419T141359Z
DTSTART;VALUE=DATE:20160222
SUMMARY:AI 2016 Notification Due
DESCRIPTION:29th Canadian Conference on Artificial Intelligence
URL:http://www.wikicfp.com/cfp/servlet/event.showcfp?eventid=47931&copyow
 nerid=83161
UID:cfp563028-N@wikicfp.com
END:VEVENT
BEGIN:VEVENT
DTSTAMP:20260419T141359Z
DTSTART;VALUE=DATE:20160301
SUMMARY:AI 2016 Final Version Due
DESCRIPTION:29th Canadian Conference on Artificial Intelligence
URL:http://www.wikicfp.com/cfp/servlet/event.showcfp?eventid=47931&copyow
 nerid=83161
UID:cfp563028-N@wikicfp.com
END:VEVENT
BEGIN:VEVENT
DTSTAMP:20260419T141359Z
DTSTART;VALUE=DATE:20160613
DTEND;VALUE=DATE:20160616
SUMMARY:SysInt 2016
DESCRIPTION:3rd International Conference on System-Integrated Intelligenc
 e: New Challenges for Product and Production Engineering
URL:http://www.wikicfp.com/cfp/servlet/event.showcfp?eventid=49365&copyow
 nerid=83161
UID:cfp563033-E@wikicfp.com
END:VEVENT
BEGIN:VEVENT
DTSTAMP:20260419T141359Z
DTSTART;VALUE=DATE:20151120
SUMMARY:SysInt 2016 Abstract Due
DESCRIPTION:3rd International Conference on System-Integrated Intelligenc
 e: New Challenges for Product and Production Engineering
URL:http://www.wikicfp.com/cfp/servlet/event.showcfp?eventid=49365&copyow
 nerid=83161
UID:cfp563033-A@wikicfp.com
END:VEVENT
BEGIN:VEVENT
DTSTAMP:20260419T141359Z
DTSTART;VALUE=DATE:20160214
SUMMARY:SysInt 2016 Deadline
DESCRIPTION:3rd International Conference on System-Integrated Intelligenc
 e: New Challenges for Product and Production Engineering
URL:http://www.wikicfp.com/cfp/servlet/event.showcfp?eventid=49365&copyow
 nerid=83161
UID:cfp563033-D@wikicfp.com
END:VEVENT
BEGIN:VEVENT
DTSTAMP:20260419T141359Z
DTSTART;VALUE=DATE:20160401
SUMMARY:SysInt 2016 Notification Due
DESCRIPTION:3rd International Conference on System-Integrated Intelligenc
 e: New Challenges for Product and Production Engineering
URL:http://www.wikicfp.com/cfp/servlet/event.showcfp?eventid=49365&copyow
 nerid=83161
UID:cfp563033-N@wikicfp.com
END:VEVENT
BEGIN:VEVENT
DTSTAMP:20260419T141359Z
DTSTART;VALUE=DATE:20150502
SUMMARY:SysInt 2016 Final Version Due
DESCRIPTION:3rd International Conference on System-Integrated Intelligenc
 e: New Challenges for Product and Production Engineering
URL:http://www.wikicfp.com/cfp/servlet/event.showcfp?eventid=49365&copyow
 nerid=83161
UID:cfp563033-N@wikicfp.com
END:VEVENT
BEGIN:VEVENT
DTSTAMP:20260419T141359Z
DTSTART;VALUE=DATE:20160829
DTEND;VALUE=DATE:20160903
SUMMARY:ECAI 2016
DESCRIPTION:European Conference on Artificial Intelligence
URL:http://www.wikicfp.com/cfp/servlet/event.showcfp?eventid=47470&copyow
 nerid=83161
UID:cfp563034-E@wikicfp.com
END:VEVENT
BEGIN:VEVENT
DTSTAMP:20260419T141359Z
DTSTART;VALUE=DATE:20160415
SUMMARY:ECAI 2016 Deadline
DESCRIPTION:European Conference on Artificial Intelligence
URL:http://www.wikicfp.com/cfp/servlet/event.showcfp?eventid=47470&copyow
 nerid=83161
UID:cfp563034-D@wikicfp.com
END:VEVENT
BEGIN:VEVENT
DTSTAMP:20260419T141359Z
DTSTART;VALUE=DATE:20160607
SUMMARY:ECAI 2016 Notification Due
DESCRIPTION:European Conference on Artificial Intelligence
URL:http://www.wikicfp.com/cfp/servlet/event.showcfp?eventid=47470&copyow
 nerid=83161
UID:cfp563034-N@wikicfp.com
END:VEVENT
END:VCALENDAR
