BEGIN:VCALENDAR
PRODID:-//WikiCFP//xpliunj 1.0//EN
VERSION:2.0
CALSCALE:GREGORIAN
BEGIN:VEVENT
DTSTAMP:20260423T150546Z
DTSTART;VALUE=DATE:20160429
DTEND;VALUE=DATE:20160430
SUMMARY:PASC 2016
DESCRIPTION:IEEE/IFIP International Workshop on Platforms and Application
 s for Smart Cities 
URL:http://www.wikicfp.com/cfp/servlet/event.showcfp?eventid=49008&copyow
 nerid=83122
UID:cfp562773-E@wikicfp.com
END:VEVENT
BEGIN:VEVENT
DTSTAMP:20260423T150546Z
DTSTART;VALUE=DATE:20151215
SUMMARY:PASC 2016 Deadline
DESCRIPTION:IEEE/IFIP International Workshop on Platforms and Application
 s for Smart Cities 
URL:http://www.wikicfp.com/cfp/servlet/event.showcfp?eventid=49008&copyow
 nerid=83122
UID:cfp562773-D@wikicfp.com
END:VEVENT
BEGIN:VEVENT
DTSTAMP:20260423T150546Z
DTSTART;VALUE=DATE:20160130
SUMMARY:PASC 2016 Notification Due
DESCRIPTION:IEEE/IFIP International Workshop on Platforms and Application
 s for Smart Cities 
URL:http://www.wikicfp.com/cfp/servlet/event.showcfp?eventid=49008&copyow
 nerid=83122
UID:cfp562773-N@wikicfp.com
END:VEVENT
BEGIN:VEVENT
DTSTAMP:20260423T150546Z
DTSTART;VALUE=DATE:20160215
SUMMARY:PASC 2016 Final Version Due
DESCRIPTION:IEEE/IFIP International Workshop on Platforms and Application
 s for Smart Cities 
URL:http://www.wikicfp.com/cfp/servlet/event.showcfp?eventid=49008&copyow
 nerid=83122
UID:cfp562773-N@wikicfp.com
END:VEVENT
BEGIN:VEVENT
DTSTAMP:20260423T150546Z
DTSTART;VALUE=DATE:20160215
SUMMARY:ACM TOIT Social Computing 2016 Deadline
DESCRIPTION:ACM Transactions on Internet Technology (TOIT) Special Sectio
 n on Advances in Social Computing
URL:http://www.wikicfp.com/cfp/servlet/event.showcfp?eventid=47488&copyow
 nerid=83122
UID:cfp562774-D@wikicfp.com
END:VEVENT
BEGIN:VEVENT
DTSTAMP:20260423T150546Z
DTSTART;VALUE=DATE:20160515
SUMMARY:ACM TOIT Social Computing 2016 Notification Due
DESCRIPTION:ACM Transactions on Internet Technology (TOIT) Special Sectio
 n on Advances in Social Computing
URL:http://www.wikicfp.com/cfp/servlet/event.showcfp?eventid=47488&copyow
 nerid=83122
UID:cfp562774-N@wikicfp.com
END:VEVENT
BEGIN:VEVENT
DTSTAMP:20260423T150546Z
DTSTART;VALUE=DATE:20160930
SUMMARY:ACM TOIT Social Computing 2016 Final Version Due
DESCRIPTION:ACM Transactions on Internet Technology (TOIT) Special Sectio
 n on Advances in Social Computing
URL:http://www.wikicfp.com/cfp/servlet/event.showcfp?eventid=47488&copyow
 nerid=83122
UID:cfp562774-N@wikicfp.com
END:VEVENT
BEGIN:VEVENT
DTSTAMP:20260423T150546Z
DTSTART;VALUE=DATE:20160415
SUMMARY:NNW SI ASCOSN 2016 Deadline
DESCRIPTION:Neural Network World Journal Call for Papers âSpecial Issue
  on Applied Soft Computing for Online Social Networks 
URL:http://www.wikicfp.com/cfp/servlet/event.showcfp?eventid=48419&copyow
 nerid=83122
UID:cfp562775-D@wikicfp.com
END:VEVENT
BEGIN:VEVENT
DTSTAMP:20260423T150546Z
DTSTART;VALUE=DATE:20160715
SUMMARY:NNW SI ASCOSN 2016 Notification Due
DESCRIPTION:Neural Network World Journal Call for Papers âSpecial Issue
  on Applied Soft Computing for Online Social Networks 
URL:http://www.wikicfp.com/cfp/servlet/event.showcfp?eventid=48419&copyow
 nerid=83122
UID:cfp562775-N@wikicfp.com
END:VEVENT
BEGIN:VEVENT
DTSTAMP:20260423T150546Z
DTSTART;VALUE=DATE:20161115
SUMMARY:NNW SI ASCOSN 2016 Final Version Due
DESCRIPTION:Neural Network World Journal Call for Papers âSpecial Issue
  on Applied Soft Computing for Online Social Networks 
URL:http://www.wikicfp.com/cfp/servlet/event.showcfp?eventid=48419&copyow
 nerid=83122
UID:cfp562775-N@wikicfp.com
END:VEVENT
END:VCALENDAR
