BEGIN:VCALENDAR
PRODID:-//WikiCFP//apenya 1.0//EN
VERSION:2.0
CALSCALE:GREGORIAN
BEGIN:VEVENT
DTSTAMP:20260424T175929Z
DTSTART;VALUE=DATE:20220903
DTEND;VALUE=DATE:20220907
SUMMARY:PUMPS+AI 2022
DESCRIPTION:Programming and tUning Massively Parallel Systems + Artificia
 l Intelligence Summer School
URL:http://www.wikicfp.com/cfp/servlet/event.showcfp?eventid=166096&copyo
 wnerid=83005
UID:cfp941599-E@wikicfp.com
END:VEVENT
BEGIN:VEVENT
DTSTAMP:20260424T175929Z
DTSTART;VALUE=DATE:20160523
DTEND;VALUE=DATE:20160524
SUMMARY:AsHES 2016
DESCRIPTION:The Sixth International Workshop on Accelerators and Hybrid E
 xascale Systems
URL:http://www.wikicfp.com/cfp/servlet/event.showcfp?eventid=49506&copyow
 nerid=83005
UID:cfp562144-E@wikicfp.com
END:VEVENT
BEGIN:VEVENT
DTSTAMP:20260424T175929Z
DTSTART;VALUE=DATE:20160120
SUMMARY:AsHES 2016 Deadline
DESCRIPTION:The Sixth International Workshop on Accelerators and Hybrid E
 xascale Systems
URL:http://www.wikicfp.com/cfp/servlet/event.showcfp?eventid=49506&copyow
 nerid=83005
UID:cfp562144-D@wikicfp.com
END:VEVENT
BEGIN:VEVENT
DTSTAMP:20260424T175929Z
DTSTART;VALUE=DATE:20160218
SUMMARY:AsHES 2016 Notification Due
DESCRIPTION:The Sixth International Workshop on Accelerators and Hybrid E
 xascale Systems
URL:http://www.wikicfp.com/cfp/servlet/event.showcfp?eventid=49506&copyow
 nerid=83005
UID:cfp562144-N@wikicfp.com
END:VEVENT
BEGIN:VEVENT
DTSTAMP:20260424T175929Z
DTSTART;VALUE=DATE:20160225
SUMMARY:AsHES 2016 Final Version Due
DESCRIPTION:The Sixth International Workshop on Accelerators and Hybrid E
 xascale Systems
URL:http://www.wikicfp.com/cfp/servlet/event.showcfp?eventid=49506&copyow
 nerid=83005
UID:cfp562144-N@wikicfp.com
END:VEVENT
BEGIN:VEVENT
DTSTAMP:20260424T175929Z
DTSTART;VALUE=DATE:20160711
DTEND;VALUE=DATE:20160716
SUMMARY:PUMPS 2016
DESCRIPTION:Programming and tUning Massively Parallel Systems
URL:http://www.wikicfp.com/cfp/servlet/event.showcfp?eventid=54309&copyow
 nerid=83005
UID:cfp597879-E@wikicfp.com
END:VEVENT
BEGIN:VEVENT
DTSTAMP:20260424T175929Z
DTSTART;VALUE=DATE:20160531
SUMMARY:PUMPS 2016 Deadline
DESCRIPTION:Programming and tUning Massively Parallel Systems
URL:http://www.wikicfp.com/cfp/servlet/event.showcfp?eventid=54309&copyow
 nerid=83005
UID:cfp597879-D@wikicfp.com
END:VEVENT
BEGIN:VEVENT
DTSTAMP:20260424T175929Z
DTSTART;VALUE=DATE:20160610
SUMMARY:PUMPS 2016 Notification Due
DESCRIPTION:Programming and tUning Massively Parallel Systems
URL:http://www.wikicfp.com/cfp/servlet/event.showcfp?eventid=54309&copyow
 nerid=83005
UID:cfp597879-N@wikicfp.com
END:VEVENT
BEGIN:VEVENT
DTSTAMP:20260424T175929Z
DTSTART;VALUE=DATE:20161021
DTEND;VALUE=DATE:20161022
SUMMARY:BSC-UPC-HACK 2016
DESCRIPTION:1st Annual BSC/UPC HPC Hackathon
URL:http://www.wikicfp.com/cfp/servlet/event.showcfp?eventid=56687&copyow
 nerid=83005
UID:cfp614156-E@wikicfp.com
END:VEVENT
BEGIN:VEVENT
DTSTAMP:20260424T175929Z
DTSTART;VALUE=DATE:20161020
SUMMARY:BSC-UPC-HACK 2016 Deadline
DESCRIPTION:1st Annual BSC/UPC HPC Hackathon
URL:http://www.wikicfp.com/cfp/servlet/event.showcfp?eventid=56687&copyow
 nerid=83005
UID:cfp614156-D@wikicfp.com
END:VEVENT
BEGIN:VEVENT
DTSTAMP:20260424T175929Z
DTSTART;VALUE=DATE:20170626
DTEND;VALUE=DATE:20170701
SUMMARY:PUMPS 2017
DESCRIPTION:Programming and Tuning Massively Parallel Systems
URL:http://www.wikicfp.com/cfp/servlet/event.showcfp?eventid=63036&copyow
 nerid=83005
UID:cfp659645-E@wikicfp.com
END:VEVENT
BEGIN:VEVENT
DTSTAMP:20260424T175929Z
DTSTART;VALUE=DATE:20170430
SUMMARY:PUMPS 2017 Deadline
DESCRIPTION:Programming and Tuning Massively Parallel Systems
URL:http://www.wikicfp.com/cfp/servlet/event.showcfp?eventid=63036&copyow
 nerid=83005
UID:cfp659645-D@wikicfp.com
END:VEVENT
BEGIN:VEVENT
DTSTAMP:20260424T175929Z
DTSTART;VALUE=DATE:20170515
SUMMARY:PUMPS 2017 Notification Due
DESCRIPTION:Programming and Tuning Massively Parallel Systems
URL:http://www.wikicfp.com/cfp/servlet/event.showcfp?eventid=63036&copyow
 nerid=83005
UID:cfp659645-N@wikicfp.com
END:VEVENT
BEGIN:VEVENT
DTSTAMP:20260424T175929Z
DTSTART;VALUE=DATE:20210705
DTEND;VALUE=DATE:20210710
SUMMARY:PUMPS+AI 2021
DESCRIPTION:Programming and Tuning Massively Parallel Systems + Artificia
 l Intelligence Summer School
URL:http://www.wikicfp.com/cfp/servlet/event.showcfp?eventid=129078&copyo
 wnerid=83005
UID:cfp879799-E@wikicfp.com
END:VEVENT
BEGIN:VEVENT
DTSTAMP:20260424T175929Z
DTSTART;VALUE=DATE:20210515
SUMMARY:PUMPS+AI 2021 Deadline
DESCRIPTION:Programming and Tuning Massively Parallel Systems + Artificia
 l Intelligence Summer School
URL:http://www.wikicfp.com/cfp/servlet/event.showcfp?eventid=129078&copyo
 wnerid=83005
UID:cfp879799-D@wikicfp.com
END:VEVENT
BEGIN:VEVENT
DTSTAMP:20260424T175929Z
DTSTART;VALUE=DATE:20210531
SUMMARY:PUMPS+AI 2021 Notification Due
DESCRIPTION:Programming and Tuning Massively Parallel Systems + Artificia
 l Intelligence Summer School
URL:http://www.wikicfp.com/cfp/servlet/event.showcfp?eventid=129078&copyo
 wnerid=83005
UID:cfp879799-N@wikicfp.com
END:VEVENT
BEGIN:VEVENT
DTSTAMP:20260424T175929Z
DTSTART;VALUE=DATE:20210618
DTEND;VALUE=DATE:20210619
SUMMARY:HMEM 2021
DESCRIPTION:2nd Workshop on Heterogeneous Memory Systems
URL:http://www.wikicfp.com/cfp/servlet/event.showcfp?eventid=133348&copyo
 wnerid=83005
UID:cfp886101-E@wikicfp.com
END:VEVENT
BEGIN:VEVENT
DTSTAMP:20260424T175929Z
DTSTART;VALUE=DATE:20210529
SUMMARY:HMEM 2021 Deadline
DESCRIPTION:2nd Workshop on Heterogeneous Memory Systems
URL:http://www.wikicfp.com/cfp/servlet/event.showcfp?eventid=133348&copyo
 wnerid=83005
UID:cfp886101-D@wikicfp.com
END:VEVENT
BEGIN:VEVENT
DTSTAMP:20260424T175929Z
DTSTART;VALUE=DATE:20210604
SUMMARY:HMEM 2021 Notification Due
DESCRIPTION:2nd Workshop on Heterogeneous Memory Systems
URL:http://www.wikicfp.com/cfp/servlet/event.showcfp?eventid=133348&copyo
 wnerid=83005
UID:cfp886101-N@wikicfp.com
END:VEVENT
BEGIN:VEVENT
DTSTAMP:20260424T175929Z
DTSTART;VALUE=DATE:20220627
DTEND;VALUE=DATE:20220628
SUMMARY:HMEM 2022
DESCRIPTION:3rd Workshop on Heterogeneous Memory Systems
URL:http://www.wikicfp.com/cfp/servlet/event.showcfp?eventid=162757&copyo
 wnerid=83005
UID:cfp934742-E@wikicfp.com
END:VEVENT
BEGIN:VEVENT
DTSTAMP:20260424T175929Z
DTSTART;VALUE=DATE:20220603
SUMMARY:HMEM 2022 Deadline
DESCRIPTION:3rd Workshop on Heterogeneous Memory Systems
URL:http://www.wikicfp.com/cfp/servlet/event.showcfp?eventid=162757&copyo
 wnerid=83005
UID:cfp934742-D@wikicfp.com
END:VEVENT
BEGIN:VEVENT
DTSTAMP:20260424T175929Z
DTSTART;VALUE=DATE:20220610
SUMMARY:HMEM 2022 Notification Due
DESCRIPTION:3rd Workshop on Heterogeneous Memory Systems
URL:http://www.wikicfp.com/cfp/servlet/event.showcfp?eventid=162757&copyo
 wnerid=83005
UID:cfp934742-N@wikicfp.com
END:VEVENT
BEGIN:VEVENT
DTSTAMP:20260424T175929Z
DTSTART;VALUE=DATE:20221115
DTEND;VALUE=DATE:20221118
SUMMARY:SC22 BoF 2022
DESCRIPTION:SC22 Birds of a Feather
URL:http://www.wikicfp.com/cfp/servlet/event.showcfp?eventid=164327&copyo
 wnerid=83005
UID:cfp937871-E@wikicfp.com
END:VEVENT
BEGIN:VEVENT
DTSTAMP:20260424T175929Z
DTSTART;VALUE=DATE:20220701
SUMMARY:SC22 BoF 2022 Deadline
DESCRIPTION:SC22 Birds of a Feather
URL:http://www.wikicfp.com/cfp/servlet/event.showcfp?eventid=164327&copyo
 wnerid=83005
UID:cfp937871-D@wikicfp.com
END:VEVENT
BEGIN:VEVENT
DTSTAMP:20260424T175929Z
DTSTART;VALUE=DATE:20220812
SUMMARY:SC22 BoF 2022 Notification Due
DESCRIPTION:SC22 Birds of a Feather
URL:http://www.wikicfp.com/cfp/servlet/event.showcfp?eventid=164327&copyo
 wnerid=83005
UID:cfp937871-N@wikicfp.com
END:VEVENT
BEGIN:VEVENT
DTSTAMP:20260424T175929Z
DTSTART;VALUE=DATE:20220930
SUMMARY:SC22 BoF 2022 Final Version Due
DESCRIPTION:SC22 Birds of a Feather
URL:http://www.wikicfp.com/cfp/servlet/event.showcfp?eventid=164327&copyo
 wnerid=83005
UID:cfp937871-N@wikicfp.com
END:VEVENT
BEGIN:VEVENT
DTSTAMP:20260424T175929Z
DTSTART;VALUE=DATE:20230626
DTEND;VALUE=DATE:20230701
SUMMARY:PUMPS+AI 2023
DESCRIPTION:13th Programming and Tuning Massively Parallel Systems + Arti
 ficial Intelligence Summer School
URL:http://www.wikicfp.com/cfp/servlet/event.showcfp?eventid=172648&copyo
 wnerid=83005
UID:cfp961868-E@wikicfp.com
END:VEVENT
BEGIN:VEVENT
DTSTAMP:20260424T175929Z
DTSTART;VALUE=DATE:20230430
SUMMARY:PUMPS+AI 2023 Deadline
DESCRIPTION:13th Programming and Tuning Massively Parallel Systems + Arti
 ficial Intelligence Summer School
URL:http://www.wikicfp.com/cfp/servlet/event.showcfp?eventid=172648&copyo
 wnerid=83005
UID:cfp961868-D@wikicfp.com
END:VEVENT
BEGIN:VEVENT
DTSTAMP:20260424T175929Z
DTSTART;VALUE=DATE:20230512
SUMMARY:PUMPS+AI 2023 Notification Due
DESCRIPTION:13th Programming and Tuning Massively Parallel Systems + Arti
 ficial Intelligence Summer School
URL:http://www.wikicfp.com/cfp/servlet/event.showcfp?eventid=172648&copyo
 wnerid=83005
UID:cfp961868-N@wikicfp.com
END:VEVENT
BEGIN:VEVENT
DTSTAMP:20260424T175929Z
DTSTART;VALUE=DATE:20231117
DTEND;VALUE=DATE:20231118
SUMMARY:HMEM 2023
DESCRIPTION:4th Workshop on Heterogeneous Memory Systems
URL:http://www.wikicfp.com/cfp/servlet/event.showcfp?eventid=175348&copyo
 wnerid=83005
UID:cfp971312-E@wikicfp.com
END:VEVENT
BEGIN:VEVENT
DTSTAMP:20260424T175929Z
DTSTART;VALUE=DATE:20230826
SUMMARY:HMEM 2023 Deadline
DESCRIPTION:4th Workshop on Heterogeneous Memory Systems
URL:http://www.wikicfp.com/cfp/servlet/event.showcfp?eventid=175348&copyo
 wnerid=83005
UID:cfp971312-D@wikicfp.com
END:VEVENT
BEGIN:VEVENT
DTSTAMP:20260424T175929Z
DTSTART;VALUE=DATE:20230915
SUMMARY:HMEM 2023 Notification Due
DESCRIPTION:4th Workshop on Heterogeneous Memory Systems
URL:http://www.wikicfp.com/cfp/servlet/event.showcfp?eventid=175348&copyo
 wnerid=83005
UID:cfp971312-N@wikicfp.com
END:VEVENT
BEGIN:VEVENT
DTSTAMP:20260424T175929Z
DTSTART;VALUE=DATE:20231027
SUMMARY:HMEM 2023 Final Version Due
DESCRIPTION:4th Workshop on Heterogeneous Memory Systems
URL:http://www.wikicfp.com/cfp/servlet/event.showcfp?eventid=175348&copyo
 wnerid=83005
UID:cfp971312-N@wikicfp.com
END:VEVENT
BEGIN:VEVENT
DTSTAMP:20260424T175929Z
DTSTART;VALUE=DATE:20240708
DTEND;VALUE=DATE:20240713
SUMMARY:PUMPS+AI 2024
DESCRIPTION:Programming and Tuning Massively Parallel Systems + Artificia
 l Intelligence
URL:http://www.wikicfp.com/cfp/servlet/event.showcfp?eventid=179988&copyo
 wnerid=83005
UID:cfp990118-E@wikicfp.com
END:VEVENT
BEGIN:VEVENT
DTSTAMP:20260424T175929Z
DTSTART;VALUE=DATE:20240430
SUMMARY:PUMPS+AI 2024 Deadline
DESCRIPTION:Programming and Tuning Massively Parallel Systems + Artificia
 l Intelligence
URL:http://www.wikicfp.com/cfp/servlet/event.showcfp?eventid=179988&copyo
 wnerid=83005
UID:cfp990118-D@wikicfp.com
END:VEVENT
BEGIN:VEVENT
DTSTAMP:20260424T175929Z
DTSTART;VALUE=DATE:20240513
SUMMARY:PUMPS+AI 2024 Notification Due
DESCRIPTION:Programming and Tuning Massively Parallel Systems + Artificia
 l Intelligence
URL:http://www.wikicfp.com/cfp/servlet/event.showcfp?eventid=179988&copyo
 wnerid=83005
UID:cfp990118-N@wikicfp.com
END:VEVENT
BEGIN:VEVENT
DTSTAMP:20260424T175929Z
DTSTART;VALUE=DATE:20240924
DTEND;VALUE=DATE:20240925
SUMMARY:HMEM 2024
DESCRIPTION:5th Workshop on Heterogeneous Memory Systems
URL:http://www.wikicfp.com/cfp/servlet/event.showcfp?eventid=180933&copyo
 wnerid=83005
UID:cfp993892-E@wikicfp.com
END:VEVENT
BEGIN:VEVENT
DTSTAMP:20260424T175929Z
DTSTART;VALUE=DATE:20240710
SUMMARY:HMEM 2024 Deadline
DESCRIPTION:5th Workshop on Heterogeneous Memory Systems
URL:http://www.wikicfp.com/cfp/servlet/event.showcfp?eventid=180933&copyo
 wnerid=83005
UID:cfp993892-D@wikicfp.com
END:VEVENT
BEGIN:VEVENT
DTSTAMP:20260424T175929Z
DTSTART;VALUE=DATE:20240724
SUMMARY:HMEM 2024 Notification Due
DESCRIPTION:5th Workshop on Heterogeneous Memory Systems
URL:http://www.wikicfp.com/cfp/servlet/event.showcfp?eventid=180933&copyo
 wnerid=83005
UID:cfp993892-N@wikicfp.com
END:VEVENT
BEGIN:VEVENT
DTSTAMP:20260424T175929Z
DTSTART;VALUE=DATE:20240809
SUMMARY:HMEM 2024 Final Version Due
DESCRIPTION:5th Workshop on Heterogeneous Memory Systems
URL:http://www.wikicfp.com/cfp/servlet/event.showcfp?eventid=180933&copyo
 wnerid=83005
UID:cfp993892-N@wikicfp.com
END:VEVENT
BEGIN:VEVENT
DTSTAMP:20260424T175929Z
DTSTART;VALUE=DATE:20251116
DTEND;VALUE=DATE:20251122
SUMMARY:HMEM 2025
DESCRIPTION:Sixth Workshop on Heterogeneity and Memory Systems
URL:http://www.wikicfp.com/cfp/servlet/event.showcfp?eventid=188493&copyo
 wnerid=83005
UID:cfp1016975-E@wikicfp.com
END:VEVENT
BEGIN:VEVENT
DTSTAMP:20260424T175929Z
DTSTART;VALUE=DATE:20250826
SUMMARY:HMEM 2025 Deadline
DESCRIPTION:Sixth Workshop on Heterogeneity and Memory Systems
URL:http://www.wikicfp.com/cfp/servlet/event.showcfp?eventid=188493&copyo
 wnerid=83005
UID:cfp1016975-D@wikicfp.com
END:VEVENT
BEGIN:VEVENT
DTSTAMP:20260424T175929Z
DTSTART;VALUE=DATE:20250915
SUMMARY:HMEM 2025 Notification Due
DESCRIPTION:Sixth Workshop on Heterogeneity and Memory Systems
URL:http://www.wikicfp.com/cfp/servlet/event.showcfp?eventid=188493&copyo
 wnerid=83005
UID:cfp1016975-N@wikicfp.com
END:VEVENT
BEGIN:VEVENT
DTSTAMP:20260424T175929Z
DTSTART;VALUE=DATE:20260713
DTEND;VALUE=DATE:20260718
SUMMARY:PUMPS+AI 2026
DESCRIPTION:Programming and Tuning Programming and Tuning Massively Paral
 lel Systems + Artificial Intelligence ACM Europe Summer School
URL:http://www.wikicfp.com/cfp/servlet/event.showcfp?eventid=194527&copyo
 wnerid=83005
UID:cfp1032805-E@wikicfp.com
END:VEVENT
BEGIN:VEVENT
DTSTAMP:20260424T175929Z
DTSTART;VALUE=DATE:20260503
SUMMARY:PUMPS+AI 2026 Deadline
DESCRIPTION:Programming and Tuning Programming and Tuning Massively Paral
 lel Systems + Artificial Intelligence ACM Europe Summer School
URL:http://www.wikicfp.com/cfp/servlet/event.showcfp?eventid=194527&copyo
 wnerid=83005
UID:cfp1032805-D@wikicfp.com
END:VEVENT
BEGIN:VEVENT
DTSTAMP:20260424T175929Z
DTSTART;VALUE=DATE:20260514
SUMMARY:PUMPS+AI 2026 Notification Due
DESCRIPTION:Programming and Tuning Programming and Tuning Massively Paral
 lel Systems + Artificial Intelligence ACM Europe Summer School
URL:http://www.wikicfp.com/cfp/servlet/event.showcfp?eventid=194527&copyo
 wnerid=83005
UID:cfp1032805-N@wikicfp.com
END:VEVENT
END:VCALENDAR
