BEGIN:VCALENDAR
PRODID:-//WikiCFP//ercoppa 1.0//EN
VERSION:2.0
CALSCALE:GREGORIAN
BEGIN:VEVENT
DTSTAMP:20260419T141409Z
DTSTART;VALUE=DATE:20160718
DTEND;VALUE=DATE:20160723
SUMMARY:ECOOP 2016
DESCRIPTION:European Conference on Object-Oriented Programming
URL:http://www.wikicfp.com/cfp/servlet/event.showcfp?eventid=47313&copyow
 nerid=82830
UID:cfp561030-E@wikicfp.com
END:VEVENT
BEGIN:VEVENT
DTSTAMP:20260419T141409Z
DTSTART;VALUE=DATE:20151208
SUMMARY:ECOOP 2016 Deadline
DESCRIPTION:European Conference on Object-Oriented Programming
URL:http://www.wikicfp.com/cfp/servlet/event.showcfp?eventid=47313&copyow
 nerid=82830
UID:cfp561030-D@wikicfp.com
END:VEVENT
BEGIN:VEVENT
DTSTAMP:20260419T141409Z
DTSTART;VALUE=DATE:20160307
SUMMARY:ECOOP 2016 Notification Due
DESCRIPTION:European Conference on Object-Oriented Programming
URL:http://www.wikicfp.com/cfp/servlet/event.showcfp?eventid=47313&copyow
 nerid=82830
UID:cfp561030-N@wikicfp.com
END:VEVENT
BEGIN:VEVENT
DTSTAMP:20260419T141409Z
DTSTART;VALUE=DATE:20191020
DTEND;VALUE=DATE:20191026
SUMMARY:MPLR 2019
DESCRIPTION:Managed Programming Languages and Runtimes 2019
URL:http://www.wikicfp.com/cfp/servlet/event.showcfp?eventid=87758&copyow
 nerid=82830
UID:cfp778989-E@wikicfp.com
END:VEVENT
BEGIN:VEVENT
DTSTAMP:20260419T141409Z
DTSTART;VALUE=DATE:20190708
SUMMARY:MPLR 2019 Deadline
DESCRIPTION:Managed Programming Languages and Runtimes 2019
URL:http://www.wikicfp.com/cfp/servlet/event.showcfp?eventid=87758&copyow
 nerid=82830
UID:cfp778989-D@wikicfp.com
END:VEVENT
BEGIN:VEVENT
DTSTAMP:20260419T141409Z
DTSTART;VALUE=DATE:20190824
SUMMARY:MPLR 2019 Notification Due
DESCRIPTION:Managed Programming Languages and Runtimes 2019
URL:http://www.wikicfp.com/cfp/servlet/event.showcfp?eventid=87758&copyow
 nerid=82830
UID:cfp778989-N@wikicfp.com
END:VEVENT
BEGIN:VEVENT
DTSTAMP:20260419T141409Z
DTSTART;VALUE=DATE:20190912
SUMMARY:MPLR 2019 Final Version Due
DESCRIPTION:Managed Programming Languages and Runtimes 2019
URL:http://www.wikicfp.com/cfp/servlet/event.showcfp?eventid=87758&copyow
 nerid=82830
UID:cfp778989-N@wikicfp.com
END:VEVENT
END:VCALENDAR
