BEGIN:VCALENDAR
PRODID:-//WikiCFP//limpson 1.0//EN
VERSION:2.0
CALSCALE:GREGORIAN
BEGIN:VEVENT
DTSTAMP:20260422T160436Z
DTSTART;VALUE=DATE:20151114
DTEND;VALUE=DATE:20151118
SUMMARY:ICDM 2015
DESCRIPTION:ICDM 2015 Student Travel Grants
URL:http://www.wikicfp.com/cfp/servlet/event.showcfp?eventid=48237&copyow
 nerid=82119
UID:cfp555724-E@wikicfp.com
END:VEVENT
BEGIN:VEVENT
DTSTAMP:20260422T160436Z
DTSTART;VALUE=DATE:20150925
SUMMARY:ICDM 2015 Deadline
DESCRIPTION:ICDM 2015 Student Travel Grants
URL:http://www.wikicfp.com/cfp/servlet/event.showcfp?eventid=48237&copyow
 nerid=82119
UID:cfp555724-D@wikicfp.com
END:VEVENT
BEGIN:VEVENT
DTSTAMP:20260422T160436Z
DTSTART;VALUE=DATE:20160626
DTEND;VALUE=DATE:20160702
SUMMARY:CVPR 2016
DESCRIPTION:Computer Vision and Pattern Recognition
URL:http://www.wikicfp.com/cfp/servlet/event.showcfp?eventid=46139&copyow
 nerid=82119
UID:cfp555721-E@wikicfp.com
END:VEVENT
BEGIN:VEVENT
DTSTAMP:20260422T160436Z
DTSTART;VALUE=DATE:20151106
SUMMARY:CVPR 2016 Deadline
DESCRIPTION:Computer Vision and Pattern Recognition
URL:http://www.wikicfp.com/cfp/servlet/event.showcfp?eventid=46139&copyow
 nerid=82119
UID:cfp555721-D@wikicfp.com
END:VEVENT
BEGIN:VEVENT
DTSTAMP:20260422T160436Z
DTSTART;VALUE=DATE:20160410
SUMMARY:CVPR 2016 Final Version Due
DESCRIPTION:Computer Vision and Pattern Recognition
URL:http://www.wikicfp.com/cfp/servlet/event.showcfp?eventid=46139&copyow
 nerid=82119
UID:cfp555721-N@wikicfp.com
END:VEVENT
BEGIN:VEVENT
DTSTAMP:20260422T160436Z
DTSTART;VALUE=DATE:20160709
DTEND;VALUE=DATE:20160716
SUMMARY:IJCAI 2016
DESCRIPTION:Twenty-Fifth International Joint Conference on Artificial Int
 elligence
URL:http://www.wikicfp.com/cfp/servlet/event.showcfp?eventid=47559&copyow
 nerid=82119
UID:cfp555718-E@wikicfp.com
END:VEVENT
BEGIN:VEVENT
DTSTAMP:20260422T160436Z
DTSTART;VALUE=DATE:20160127
SUMMARY:IJCAI 2016 Abstract Due
DESCRIPTION:Twenty-Fifth International Joint Conference on Artificial Int
 elligence
URL:http://www.wikicfp.com/cfp/servlet/event.showcfp?eventid=47559&copyow
 nerid=82119
UID:cfp555718-A@wikicfp.com
END:VEVENT
BEGIN:VEVENT
DTSTAMP:20260422T160436Z
DTSTART;VALUE=DATE:20160202
SUMMARY:IJCAI 2016 Deadline
DESCRIPTION:Twenty-Fifth International Joint Conference on Artificial Int
 elligence
URL:http://www.wikicfp.com/cfp/servlet/event.showcfp?eventid=47559&copyow
 nerid=82119
UID:cfp555718-D@wikicfp.com
END:VEVENT
BEGIN:VEVENT
DTSTAMP:20260422T160436Z
DTSTART;VALUE=DATE:20160404
SUMMARY:IJCAI 2016 Notification Due
DESCRIPTION:Twenty-Fifth International Joint Conference on Artificial Int
 elligence
URL:http://www.wikicfp.com/cfp/servlet/event.showcfp?eventid=47559&copyow
 nerid=82119
UID:cfp555718-N@wikicfp.com
END:VEVENT
BEGIN:VEVENT
DTSTAMP:20260422T160436Z
DTSTART;VALUE=DATE:20160420
SUMMARY:IJCAI 2016 Final Version Due
DESCRIPTION:Twenty-Fifth International Joint Conference on Artificial Int
 elligence
URL:http://www.wikicfp.com/cfp/servlet/event.showcfp?eventid=47559&copyow
 nerid=82119
UID:cfp555718-N@wikicfp.com
END:VEVENT
BEGIN:VEVENT
DTSTAMP:20260422T160436Z
DTSTART;VALUE=DATE:20160619
DTEND;VALUE=DATE:20160625
SUMMARY:ICML 2016
DESCRIPTION:33rd International Conference on Machine Learning (ICML-2016)
 
URL:http://www.wikicfp.com/cfp/servlet/event.showcfp?eventid=46617&copyow
 nerid=82119
UID:cfp555717-E@wikicfp.com
END:VEVENT
BEGIN:VEVENT
DTSTAMP:20260422T160436Z
DTSTART;VALUE=DATE:20160205
SUMMARY:ICML 2016 Deadline
DESCRIPTION:33rd International Conference on Machine Learning (ICML-2016)
 
URL:http://www.wikicfp.com/cfp/servlet/event.showcfp?eventid=46617&copyow
 nerid=82119
UID:cfp555717-D@wikicfp.com
END:VEVENT
BEGIN:VEVENT
DTSTAMP:20260422T160436Z
DTSTART;VALUE=DATE:20160813
DTEND;VALUE=DATE:20160818
SUMMARY:KDD 2016
DESCRIPTION:22nd ACM SIGKDD international conference on knowledge discove
 ry and data mining
URL:http://www.wikicfp.com/cfp/servlet/event.showcfp?eventid=48652&copyow
 nerid=82119
UID:cfp555723-E@wikicfp.com
END:VEVENT
BEGIN:VEVENT
DTSTAMP:20260422T160436Z
DTSTART;VALUE=DATE:20160212
SUMMARY:KDD 2016 Deadline
DESCRIPTION:22nd ACM SIGKDD international conference on knowledge discove
 ry and data mining
URL:http://www.wikicfp.com/cfp/servlet/event.showcfp?eventid=48652&copyow
 nerid=82119
UID:cfp555723-D@wikicfp.com
END:VEVENT
BEGIN:VEVENT
DTSTAMP:20260422T160436Z
DTSTART;VALUE=DATE:20160919
DTEND;VALUE=DATE:20160924
SUMMARY:ECML-PKDD 2016
DESCRIPTION:European Conference on Machine Learning and Principles and Pr
 actice of Knowledge Discovery
URL:http://www.wikicfp.com/cfp/servlet/event.showcfp?eventid=48723&copyow
 nerid=82119
UID:cfp555719-E@wikicfp.com
END:VEVENT
BEGIN:VEVENT
DTSTAMP:20260422T160436Z
DTSTART;VALUE=DATE:20160401
SUMMARY:ECML-PKDD 2016 Abstract Due
DESCRIPTION:European Conference on Machine Learning and Principles and Pr
 actice of Knowledge Discovery
URL:http://www.wikicfp.com/cfp/servlet/event.showcfp?eventid=48723&copyow
 nerid=82119
UID:cfp555719-A@wikicfp.com
END:VEVENT
BEGIN:VEVENT
DTSTAMP:20260422T160436Z
DTSTART;VALUE=DATE:20160404
SUMMARY:ECML-PKDD 2016 Deadline
DESCRIPTION:European Conference on Machine Learning and Principles and Pr
 actice of Knowledge Discovery
URL:http://www.wikicfp.com/cfp/servlet/event.showcfp?eventid=48723&copyow
 nerid=82119
UID:cfp555719-D@wikicfp.com
END:VEVENT
BEGIN:VEVENT
DTSTAMP:20260422T160436Z
DTSTART;VALUE=DATE:20161212
DTEND;VALUE=DATE:20161216
SUMMARY:ICDM 2016
DESCRIPTION:The IEEE International Conference on Data Mining
URL:http://www.wikicfp.com/cfp/servlet/event.showcfp?eventid=50434&copyow
 nerid=82119
UID:cfp597502-E@wikicfp.com
END:VEVENT
BEGIN:VEVENT
DTSTAMP:20260422T160436Z
DTSTART;VALUE=DATE:20160617
SUMMARY:ICDM 2016 Deadline
DESCRIPTION:The IEEE International Conference on Data Mining
URL:http://www.wikicfp.com/cfp/servlet/event.showcfp?eventid=50434&copyow
 nerid=82119
UID:cfp597502-D@wikicfp.com
END:VEVENT
BEGIN:VEVENT
DTSTAMP:20260422T160436Z
DTSTART;VALUE=DATE:20160909
SUMMARY:ICDM 2016 Notification Due
DESCRIPTION:The IEEE International Conference on Data Mining
URL:http://www.wikicfp.com/cfp/servlet/event.showcfp?eventid=50434&copyow
 nerid=82119
UID:cfp597502-N@wikicfp.com
END:VEVENT
END:VCALENDAR
