BEGIN:VCALENDAR
PRODID:-//WikiCFP//gsiriopoulou 1.0//EN
VERSION:2.0
CALSCALE:GREGORIAN
BEGIN:VEVENT
DTSTAMP:20260422T202308Z
DTSTART;VALUE=DATE:20160218
DTEND;VALUE=DATE:20160222
SUMMARY:50 Shades of Popculture 2016
DESCRIPTION:50 Shades of Popular Culture International Conference
URL:http://www.wikicfp.com/cfp/servlet/event.showcfp?eventid=48863&copyow
 nerid=82099
UID:cfp555575-E@wikicfp.com
END:VEVENT
BEGIN:VEVENT
DTSTAMP:20260422T202308Z
DTSTART;VALUE=DATE:20151130
SUMMARY:50 Shades of Popculture 2016 Deadline
DESCRIPTION:50 Shades of Popular Culture International Conference
URL:http://www.wikicfp.com/cfp/servlet/event.showcfp?eventid=48863&copyow
 nerid=82099
UID:cfp555575-D@wikicfp.com
END:VEVENT
BEGIN:VEVENT
DTSTAMP:20260422T202308Z
DTSTART;VALUE=DATE:20160510
DTEND;VALUE=DATE:20160514
SUMMARY:Presumed Autonomy 2016
DESCRIPTION:Literature and Art in Theory and Practice
URL:http://www.wikicfp.com/cfp/servlet/event.showcfp?eventid=48275&copyow
 nerid=82099
UID:cfp555573-E@wikicfp.com
END:VEVENT
BEGIN:VEVENT
DTSTAMP:20260422T202308Z
DTSTART;VALUE=DATE:20151215
SUMMARY:Presumed Autonomy 2016 Deadline
DESCRIPTION:Literature and Art in Theory and Practice
URL:http://www.wikicfp.com/cfp/servlet/event.showcfp?eventid=48275&copyow
 nerid=82099
UID:cfp555573-D@wikicfp.com
END:VEVENT
BEGIN:VEVENT
DTSTAMP:20260422T202308Z
DTSTART;VALUE=DATE:20160317
DTEND;VALUE=DATE:20160321
SUMMARY:Othello's Island 2016
DESCRIPTION:Othello's Island - 4th International Conference on Medieval a
 nd Renaissance art\, literature and history
URL:http://www.wikicfp.com/cfp/servlet/event.showcfp?eventid=45115&copyow
 nerid=82099
UID:cfp555574-E@wikicfp.com
END:VEVENT
BEGIN:VEVENT
DTSTAMP:20260422T202308Z
DTSTART;VALUE=DATE:20160104
SUMMARY:Othello's Island 2016 Deadline
DESCRIPTION:Othello's Island - 4th International Conference on Medieval a
 nd Renaissance art\, literature and history
URL:http://www.wikicfp.com/cfp/servlet/event.showcfp?eventid=45115&copyow
 nerid=82099
UID:cfp555574-D@wikicfp.com
END:VEVENT
BEGIN:VEVENT
DTSTAMP:20260422T202308Z
DTSTART;VALUE=DATE:20160712
DTEND;VALUE=DATE:20160715
SUMMARY:Eco-Architecture 2016
DESCRIPTION:6th International Conference on Harmonisation between Archite
 cture and Nature
URL:http://www.wikicfp.com/cfp/servlet/event.showcfp?eventid=45842&copyow
 nerid=82099
UID:cfp555566-E@wikicfp.com
END:VEVENT
BEGIN:VEVENT
DTSTAMP:20260422T202308Z
DTSTART;VALUE=DATE:20160612
SUMMARY:Eco-Architecture 2016 Deadline
DESCRIPTION:6th International Conference on Harmonisation between Archite
 cture and Nature
URL:http://www.wikicfp.com/cfp/servlet/event.showcfp?eventid=45842&copyow
 nerid=82099
UID:cfp555566-D@wikicfp.com
END:VEVENT
END:VCALENDAR
