BEGIN:VCALENDAR
PRODID:-//WikiCFP//richerzh 1.0//EN
VERSION:2.0
CALSCALE:GREGORIAN
BEGIN:VEVENT
DTSTAMP:20260425T040045Z
DTSTART;VALUE=DATE:20160523
DTEND;VALUE=DATE:20160528
SUMMARY:ICC 2016
DESCRIPTION:IEEE International Conference on Communications
URL:http://www.wikicfp.com/cfp/servlet/event.showcfp?eventid=45048&copyow
 nerid=81964
UID:cfp554723-E@wikicfp.com
END:VEVENT
BEGIN:VEVENT
DTSTAMP:20260425T040045Z
DTSTART;VALUE=DATE:20151016
SUMMARY:ICC 2016 Deadline
DESCRIPTION:IEEE International Conference on Communications
URL:http://www.wikicfp.com/cfp/servlet/event.showcfp?eventid=45048&copyow
 nerid=81964
UID:cfp554723-D@wikicfp.com
END:VEVENT
BEGIN:VEVENT
DTSTAMP:20260425T040045Z
DTSTART;VALUE=DATE:20160129
SUMMARY:ICC 2016 Notification Due
DESCRIPTION:IEEE International Conference on Communications
URL:http://www.wikicfp.com/cfp/servlet/event.showcfp?eventid=45048&copyow
 nerid=81964
UID:cfp554723-N@wikicfp.com
END:VEVENT
BEGIN:VEVENT
DTSTAMP:20260425T040045Z
DTSTART;VALUE=DATE:20160229
SUMMARY:ICC 2016 Final Version Due
DESCRIPTION:IEEE International Conference on Communications
URL:http://www.wikicfp.com/cfp/servlet/event.showcfp?eventid=45048&copyow
 nerid=81964
UID:cfp554723-N@wikicfp.com
END:VEVENT
BEGIN:VEVENT
DTSTAMP:20260425T040045Z
DTSTART;VALUE=DATE:20160510
DTEND;VALUE=DATE:20160514
SUMMARY:MMSys 2016
DESCRIPTION:ACM Multimedia Systems 2016
URL:http://www.wikicfp.com/cfp/servlet/event.showcfp?eventid=46514&copyow
 nerid=81964
UID:cfp554722-E@wikicfp.com
END:VEVENT
BEGIN:VEVENT
DTSTAMP:20260425T040045Z
DTSTART;VALUE=DATE:20151127
SUMMARY:MMSys 2016 Deadline
DESCRIPTION:ACM Multimedia Systems 2016
URL:http://www.wikicfp.com/cfp/servlet/event.showcfp?eventid=46514&copyow
 nerid=81964
UID:cfp554722-D@wikicfp.com
END:VEVENT
BEGIN:VEVENT
DTSTAMP:20260425T040045Z
DTSTART;VALUE=DATE:20160115
SUMMARY:MMSys 2016 Notification Due
DESCRIPTION:ACM Multimedia Systems 2016
URL:http://www.wikicfp.com/cfp/servlet/event.showcfp?eventid=46514&copyow
 nerid=81964
UID:cfp554722-N@wikicfp.com
END:VEVENT
BEGIN:VEVENT
DTSTAMP:20260425T040045Z
DTSTART;VALUE=DATE:20160311
SUMMARY:MMSys 2016 Final Version Due
DESCRIPTION:ACM Multimedia Systems 2016
URL:http://www.wikicfp.com/cfp/servlet/event.showcfp?eventid=46514&copyow
 nerid=81964
UID:cfp554722-N@wikicfp.com
END:VEVENT
BEGIN:VEVENT
DTSTAMP:20260425T040045Z
DTSTART;VALUE=DATE:20160621
DTEND;VALUE=DATE:20160625
SUMMARY:WoWMoM 2016
DESCRIPTION:International Symposium on a World of Wireless\, Mobile and M
 ultimedia Networks
URL:http://www.wikicfp.com/cfp/servlet/event.showcfp?eventid=48505&copyow
 nerid=81964
UID:cfp554725-E@wikicfp.com
END:VEVENT
BEGIN:VEVENT
DTSTAMP:20260425T040045Z
DTSTART;VALUE=DATE:20151120
SUMMARY:WoWMoM 2016 Abstract Due
DESCRIPTION:International Symposium on a World of Wireless\, Mobile and M
 ultimedia Networks
URL:http://www.wikicfp.com/cfp/servlet/event.showcfp?eventid=48505&copyow
 nerid=81964
UID:cfp554725-A@wikicfp.com
END:VEVENT
BEGIN:VEVENT
DTSTAMP:20260425T040045Z
DTSTART;VALUE=DATE:20151127
SUMMARY:WoWMoM 2016 Deadline
DESCRIPTION:International Symposium on a World of Wireless\, Mobile and M
 ultimedia Networks
URL:http://www.wikicfp.com/cfp/servlet/event.showcfp?eventid=48505&copyow
 nerid=81964
UID:cfp554725-D@wikicfp.com
END:VEVENT
BEGIN:VEVENT
DTSTAMP:20260425T040045Z
DTSTART;VALUE=DATE:20160311
SUMMARY:WoWMoM 2016 Notification Due
DESCRIPTION:International Symposium on a World of Wireless\, Mobile and M
 ultimedia Networks
URL:http://www.wikicfp.com/cfp/servlet/event.showcfp?eventid=48505&copyow
 nerid=81964
UID:cfp554725-N@wikicfp.com
END:VEVENT
BEGIN:VEVENT
DTSTAMP:20260425T040045Z
DTSTART;VALUE=DATE:20160422
SUMMARY:WoWMoM 2016 Final Version Due
DESCRIPTION:International Symposium on a World of Wireless\, Mobile and M
 ultimedia Networks
URL:http://www.wikicfp.com/cfp/servlet/event.showcfp?eventid=48505&copyow
 nerid=81964
UID:cfp554725-N@wikicfp.com
END:VEVENT
BEGIN:VEVENT
DTSTAMP:20260425T040045Z
DTSTART;VALUE=DATE:20160517
DTEND;VALUE=DATE:20160520
SUMMARY:NETWORKING 2016
DESCRIPTION:IFIP Networking 2016 Conference
URL:http://www.wikicfp.com/cfp/servlet/event.showcfp?eventid=48174&copyow
 nerid=81964
UID:cfp554724-E@wikicfp.com
END:VEVENT
BEGIN:VEVENT
DTSTAMP:20260425T040045Z
DTSTART;VALUE=DATE:20151123
SUMMARY:NETWORKING 2016 Abstract Due
DESCRIPTION:IFIP Networking 2016 Conference
URL:http://www.wikicfp.com/cfp/servlet/event.showcfp?eventid=48174&copyow
 nerid=81964
UID:cfp554724-A@wikicfp.com
END:VEVENT
BEGIN:VEVENT
DTSTAMP:20260425T040045Z
DTSTART;VALUE=DATE:20151130
SUMMARY:NETWORKING 2016 Deadline
DESCRIPTION:IFIP Networking 2016 Conference
URL:http://www.wikicfp.com/cfp/servlet/event.showcfp?eventid=48174&copyow
 nerid=81964
UID:cfp554724-D@wikicfp.com
END:VEVENT
BEGIN:VEVENT
DTSTAMP:20260425T040045Z
DTSTART;VALUE=DATE:20160229
SUMMARY:NETWORKING 2016 Notification Due
DESCRIPTION:IFIP Networking 2016 Conference
URL:http://www.wikicfp.com/cfp/servlet/event.showcfp?eventid=48174&copyow
 nerid=81964
UID:cfp554724-N@wikicfp.com
END:VEVENT
BEGIN:VEVENT
DTSTAMP:20260425T040045Z
DTSTART;VALUE=DATE:20160315
SUMMARY:NETWORKING 2016 Final Version Due
DESCRIPTION:IFIP Networking 2016 Conference
URL:http://www.wikicfp.com/cfp/servlet/event.showcfp?eventid=48174&copyow
 nerid=81964
UID:cfp554724-N@wikicfp.com
END:VEVENT
BEGIN:VEVENT
DTSTAMP:20260425T040045Z
DTSTART;VALUE=DATE:20160719
DTEND;VALUE=DATE:20160723
SUMMARY:ICAC 2016
DESCRIPTION:13th IEEE International Conference on Autonomic Computing
URL:http://www.wikicfp.com/cfp/servlet/event.showcfp?eventid=48671&copyow
 nerid=81964
UID:cfp554727-E@wikicfp.com
END:VEVENT
BEGIN:VEVENT
DTSTAMP:20260425T040045Z
DTSTART;VALUE=DATE:20160121
SUMMARY:ICAC 2016 Abstract Due
DESCRIPTION:13th IEEE International Conference on Autonomic Computing
URL:http://www.wikicfp.com/cfp/servlet/event.showcfp?eventid=48671&copyow
 nerid=81964
UID:cfp554727-A@wikicfp.com
END:VEVENT
BEGIN:VEVENT
DTSTAMP:20260425T040045Z
DTSTART;VALUE=DATE:20160128
SUMMARY:ICAC 2016 Deadline
DESCRIPTION:13th IEEE International Conference on Autonomic Computing
URL:http://www.wikicfp.com/cfp/servlet/event.showcfp?eventid=48671&copyow
 nerid=81964
UID:cfp554727-D@wikicfp.com
END:VEVENT
BEGIN:VEVENT
DTSTAMP:20260425T040045Z
DTSTART;VALUE=DATE:20160415
SUMMARY:ICAC 2016 Notification Due
DESCRIPTION:13th IEEE International Conference on Autonomic Computing
URL:http://www.wikicfp.com/cfp/servlet/event.showcfp?eventid=48671&copyow
 nerid=81964
UID:cfp554727-N@wikicfp.com
END:VEVENT
BEGIN:VEVENT
DTSTAMP:20260425T040045Z
DTSTART;VALUE=DATE:20160501
SUMMARY:ICAC 2016 Final Version Due
DESCRIPTION:13th IEEE International Conference on Autonomic Computing
URL:http://www.wikicfp.com/cfp/servlet/event.showcfp?eventid=48671&copyow
 nerid=81964
UID:cfp554727-N@wikicfp.com
END:VEVENT
END:VCALENDAR
