BEGIN:VCALENDAR
PRODID:-//WikiCFP//ultimatebeaver 1.0//EN
VERSION:2.0
CALSCALE:GREGORIAN
BEGIN:VEVENT
DTSTAMP:20260423T082105Z
DTSTART;VALUE=DATE:20170917
DTEND;VALUE=DATE:20170924
SUMMARY:ICSME 2017
DESCRIPTION:IEEE International Conference on Software Maintenance and Evo
 lution
URL:http://www.wikicfp.com/cfp/servlet/event.showcfp?eventid=59294&copyow
 nerid=81934
UID:cfp653345-E@wikicfp.com
END:VEVENT
BEGIN:VEVENT
DTSTAMP:20260423T082105Z
DTSTART;VALUE=DATE:20160928
DTEND;VALUE=DATE:20161001
SUMMARY:ICETC 2016
DESCRIPTION:2016 8th International Conference on Education Technology and
  Computer (ICETC 2016)
URL:http://www.wikicfp.com/cfp/servlet/event.showcfp?eventid=50670&copyow
 nerid=81934
UID:cfp604626-E@wikicfp.com
END:VEVENT
BEGIN:VEVENT
DTSTAMP:20260423T082105Z
DTSTART;VALUE=DATE:20160805
SUMMARY:ICETC 2016 Deadline
DESCRIPTION:2016 8th International Conference on Education Technology and
  Computer (ICETC 2016)
URL:http://www.wikicfp.com/cfp/servlet/event.showcfp?eventid=50670&copyow
 nerid=81934
UID:cfp604626-D@wikicfp.com
END:VEVENT
BEGIN:VEVENT
DTSTAMP:20260423T082105Z
DTSTART;VALUE=DATE:20170520
DTEND;VALUE=DATE:20170529
SUMMARY:ICSE 2017
DESCRIPTION:39th International Conference on Software Engineering
URL:http://www.wikicfp.com/cfp/servlet/event.showcfp?eventid=54445&copyow
 nerid=81934
UID:cfp631877-E@wikicfp.com
END:VEVENT
BEGIN:VEVENT
DTSTAMP:20260423T082105Z
DTSTART;VALUE=DATE:20160826
SUMMARY:ICSE 2017 Deadline
DESCRIPTION:39th International Conference on Software Engineering
URL:http://www.wikicfp.com/cfp/servlet/event.showcfp?eventid=54445&copyow
 nerid=81934
UID:cfp631877-D@wikicfp.com
END:VEVENT
BEGIN:VEVENT
DTSTAMP:20260423T082105Z
DTSTART;VALUE=DATE:20161212
SUMMARY:ICSE 2017 Notification Due
DESCRIPTION:39th International Conference on Software Engineering
URL:http://www.wikicfp.com/cfp/servlet/event.showcfp?eventid=54445&copyow
 nerid=81934
UID:cfp631877-N@wikicfp.com
END:VEVENT
BEGIN:VEVENT
DTSTAMP:20260423T082105Z
DTSTART;VALUE=DATE:20170213
SUMMARY:ICSE 2017 Final Version Due
DESCRIPTION:39th International Conference on Software Engineering
URL:http://www.wikicfp.com/cfp/servlet/event.showcfp?eventid=54445&copyow
 nerid=81934
UID:cfp631877-N@wikicfp.com
END:VEVENT
BEGIN:VEVENT
DTSTAMP:20260423T082105Z
DTSTART;VALUE=DATE:20170308
DTEND;VALUE=DATE:20170312
SUMMARY:SIGCSE 2017
DESCRIPTION:48th ACM Technical Symposium on Computer Science Education
URL:http://www.wikicfp.com/cfp/servlet/event.showcfp?eventid=59015&copyow
 nerid=81934
UID:cfp632013-E@wikicfp.com
END:VEVENT
BEGIN:VEVENT
DTSTAMP:20260423T082105Z
DTSTART;VALUE=DATE:20160826
SUMMARY:SIGCSE 2017 Deadline
DESCRIPTION:48th ACM Technical Symposium on Computer Science Education
URL:http://www.wikicfp.com/cfp/servlet/event.showcfp?eventid=59015&copyow
 nerid=81934
UID:cfp632013-D@wikicfp.com
END:VEVENT
BEGIN:VEVENT
DTSTAMP:20260423T082105Z
DTSTART;VALUE=DATE:20170204
DTEND;VALUE=DATE:20170210
SUMMARY:AAAI 2017
DESCRIPTION:The Thirty-First AAAI Conference on Artificial Intelligence (
 AAAI-17)
URL:http://www.wikicfp.com/cfp/servlet/event.showcfp?eventid=54779&copyow
 nerid=81934
UID:cfp601167-E@wikicfp.com
END:VEVENT
BEGIN:VEVENT
DTSTAMP:20260423T082105Z
DTSTART;VALUE=DATE:20160909
SUMMARY:AAAI 2017 Abstract Due
DESCRIPTION:The Thirty-First AAAI Conference on Artificial Intelligence (
 AAAI-17)
URL:http://www.wikicfp.com/cfp/servlet/event.showcfp?eventid=54779&copyow
 nerid=81934
UID:cfp601167-A@wikicfp.com
END:VEVENT
BEGIN:VEVENT
DTSTAMP:20260423T082105Z
DTSTART;VALUE=DATE:20160914
SUMMARY:AAAI 2017 Deadline
DESCRIPTION:The Thirty-First AAAI Conference on Artificial Intelligence (
 AAAI-17)
URL:http://www.wikicfp.com/cfp/servlet/event.showcfp?eventid=54779&copyow
 nerid=81934
UID:cfp601167-D@wikicfp.com
END:VEVENT
BEGIN:VEVENT
DTSTAMP:20260423T082105Z
DTSTART;VALUE=DATE:20161111
SUMMARY:AAAI 2017 Notification Due
DESCRIPTION:The Thirty-First AAAI Conference on Artificial Intelligence (
 AAAI-17)
URL:http://www.wikicfp.com/cfp/servlet/event.showcfp?eventid=54779&copyow
 nerid=81934
UID:cfp601167-N@wikicfp.com
END:VEVENT
BEGIN:VEVENT
DTSTAMP:20260423T082105Z
DTSTART;VALUE=DATE:20161128
SUMMARY:AAAI 2017 Final Version Due
DESCRIPTION:The Thirty-First AAAI Conference on Artificial Intelligence (
 AAAI-17)
URL:http://www.wikicfp.com/cfp/servlet/event.showcfp?eventid=54779&copyow
 nerid=81934
UID:cfp601167-N@wikicfp.com
END:VEVENT
BEGIN:VEVENT
DTSTAMP:20260423T082105Z
DTSTART;VALUE=DATE:20170506
DTEND;VALUE=DATE:20170512
SUMMARY:CHI 2017
DESCRIPTION:ACM CHI Conference on Human Factors in Computing Systems
URL:http://www.wikicfp.com/cfp/servlet/event.showcfp?eventid=55625&copyow
 nerid=81934
UID:cfp617046-E@wikicfp.com
END:VEVENT
BEGIN:VEVENT
DTSTAMP:20260423T082105Z
DTSTART;VALUE=DATE:20160914
SUMMARY:CHI 2017 Abstract Due
DESCRIPTION:ACM CHI Conference on Human Factors in Computing Systems
URL:http://www.wikicfp.com/cfp/servlet/event.showcfp?eventid=55625&copyow
 nerid=81934
UID:cfp617046-A@wikicfp.com
END:VEVENT
BEGIN:VEVENT
DTSTAMP:20260423T082105Z
DTSTART;VALUE=DATE:20160921
SUMMARY:CHI 2017 Deadline
DESCRIPTION:ACM CHI Conference on Human Factors in Computing Systems
URL:http://www.wikicfp.com/cfp/servlet/event.showcfp?eventid=55625&copyow
 nerid=81934
UID:cfp617046-D@wikicfp.com
END:VEVENT
BEGIN:VEVENT
DTSTAMP:20260423T082105Z
DTSTART;VALUE=DATE:20161212
SUMMARY:CHI 2017 Notification Due
DESCRIPTION:ACM CHI Conference on Human Factors in Computing Systems
URL:http://www.wikicfp.com/cfp/servlet/event.showcfp?eventid=55625&copyow
 nerid=81934
UID:cfp617046-N@wikicfp.com
END:VEVENT
BEGIN:VEVENT
DTSTAMP:20260423T082105Z
DTSTART;VALUE=DATE:20170106
SUMMARY:CHI 2017 Final Version Due
DESCRIPTION:ACM CHI Conference on Human Factors in Computing Systems
URL:http://www.wikicfp.com/cfp/servlet/event.showcfp?eventid=55625&copyow
 nerid=81934
UID:cfp617046-N@wikicfp.com
END:VEVENT
BEGIN:VEVENT
DTSTAMP:20260423T082105Z
DTSTART;VALUE=DATE:20161204
DTEND;VALUE=DATE:20161210
SUMMARY:NIPS  2016
DESCRIPTION:A NIPS 2016 Workshop: Machine Learning for Education
URL:http://www.wikicfp.com/cfp/servlet/event.showcfp?eventid=57082&copyow
 nerid=81934
UID:cfp617224-E@wikicfp.com
END:VEVENT
BEGIN:VEVENT
DTSTAMP:20260423T082105Z
DTSTART;VALUE=DATE:20160930
SUMMARY:NIPS  2016 Deadline
DESCRIPTION:A NIPS 2016 Workshop: Machine Learning for Education
URL:http://www.wikicfp.com/cfp/servlet/event.showcfp?eventid=57082&copyow
 nerid=81934
UID:cfp617224-D@wikicfp.com
END:VEVENT
BEGIN:VEVENT
DTSTAMP:20260423T082105Z
DTSTART;VALUE=DATE:20161017
SUMMARY:NIPS  2016 Notification Due
DESCRIPTION:A NIPS 2016 Workshop: Machine Learning for Education
URL:http://www.wikicfp.com/cfp/servlet/event.showcfp?eventid=57082&copyow
 nerid=81934
UID:cfp617224-N@wikicfp.com
END:VEVENT
BEGIN:VEVENT
DTSTAMP:20260423T082105Z
DTSTART;VALUE=DATE:20170226
DTEND;VALUE=DATE:20170228
SUMMARY:ICCE 2017
DESCRIPTION:19th International Conference on Computing Education
URL:http://www.wikicfp.com/cfp/servlet/event.showcfp?eventid=57924&copyow
 nerid=81934
UID:cfp623963-E@wikicfp.com
END:VEVENT
BEGIN:VEVENT
DTSTAMP:20260423T082105Z
DTSTART;VALUE=DATE:20161015
SUMMARY:ICCE 2017 Deadline
DESCRIPTION:19th International Conference on Computing Education
URL:http://www.wikicfp.com/cfp/servlet/event.showcfp?eventid=57924&copyow
 nerid=81934
UID:cfp623963-D@wikicfp.com
END:VEVENT
BEGIN:VEVENT
DTSTAMP:20260423T082105Z
DTSTART;VALUE=DATE:20161030
SUMMARY:ICCE 2017 Notification Due
DESCRIPTION:19th International Conference on Computing Education
URL:http://www.wikicfp.com/cfp/servlet/event.showcfp?eventid=57924&copyow
 nerid=81934
UID:cfp623963-N@wikicfp.com
END:VEVENT
BEGIN:VEVENT
DTSTAMP:20260423T082105Z
DTSTART;VALUE=DATE:20161026
SUMMARY:ICCE 2017 Final Version Due
DESCRIPTION:19th International Conference on Computing Education
URL:http://www.wikicfp.com/cfp/servlet/event.showcfp?eventid=57924&copyow
 nerid=81934
UID:cfp623963-N@wikicfp.com
END:VEVENT
BEGIN:VEVENT
DTSTAMP:20260423T082105Z
DTSTART;VALUE=DATE:20170420
DTEND;VALUE=DATE:20170422
SUMMARY:L@S 2017
DESCRIPTION:L@S 2017: Fourth Annual ACM Conference on Learning at Scale
URL:http://www.wikicfp.com/cfp/servlet/event.showcfp?eventid=56541&copyow
 nerid=81934
UID:cfp612916-E@wikicfp.com
END:VEVENT
BEGIN:VEVENT
DTSTAMP:20260423T082105Z
DTSTART;VALUE=DATE:20161025
SUMMARY:L@S 2017 Deadline
DESCRIPTION:L@S 2017: Fourth Annual ACM Conference on Learning at Scale
URL:http://www.wikicfp.com/cfp/servlet/event.showcfp?eventid=56541&copyow
 nerid=81934
UID:cfp612916-D@wikicfp.com
END:VEVENT
BEGIN:VEVENT
DTSTAMP:20260423T082105Z
DTSTART;VALUE=DATE:20161214
SUMMARY:L@S 2017 Notification Due
DESCRIPTION:L@S 2017: Fourth Annual ACM Conference on Learning at Scale
URL:http://www.wikicfp.com/cfp/servlet/event.showcfp?eventid=56541&copyow
 nerid=81934
UID:cfp612916-N@wikicfp.com
END:VEVENT
BEGIN:VEVENT
DTSTAMP:20260423T082105Z
DTSTART;VALUE=DATE:20170210
SUMMARY:L@S 2017 Final Version Due
DESCRIPTION:L@S 2017: Fourth Annual ACM Conference on Learning at Scale
URL:http://www.wikicfp.com/cfp/servlet/event.showcfp?eventid=56541&copyow
 nerid=81934
UID:cfp612916-N@wikicfp.com
END:VEVENT
BEGIN:VEVENT
DTSTAMP:20260423T082105Z
DTSTART;VALUE=DATE:20161201
SUMMARY:IEEE-TETC-TLT 2016 Deadline
DESCRIPTION:Joint Special Issue of IEEE TETC and TLT on âInnovation in 
 Technologies for Educational Computingâ
URL:http://www.wikicfp.com/cfp/servlet/event.showcfp?eventid=53497&copyow
 nerid=81934
UID:cfp601831-D@wikicfp.com
END:VEVENT
BEGIN:VEVENT
DTSTAMP:20260423T082105Z
DTSTART;VALUE=DATE:20170701
SUMMARY:IEEE-TETC-TLT 2016 Notification Due
DESCRIPTION:Joint Special Issue of IEEE TETC and TLT on âInnovation in 
 Technologies for Educational Computingâ
URL:http://www.wikicfp.com/cfp/servlet/event.showcfp?eventid=53497&copyow
 nerid=81934
UID:cfp601831-N@wikicfp.com
END:VEVENT
BEGIN:VEVENT
DTSTAMP:20260423T082105Z
DTSTART;VALUE=DATE:20170801
SUMMARY:IEEE-TETC-TLT 2016 Final Version Due
DESCRIPTION:Joint Special Issue of IEEE TETC and TLT on âInnovation in 
 Technologies for Educational Computingâ
URL:http://www.wikicfp.com/cfp/servlet/event.showcfp?eventid=53497&copyow
 nerid=81934
UID:cfp601831-N@wikicfp.com
END:VEVENT
BEGIN:VEVENT
DTSTAMP:20260423T082105Z
DTSTART;VALUE=DATE:20170403
DTEND;VALUE=DATE:20170407
SUMMARY:Programming 2017
DESCRIPTION:The International Conference on the Art\, Science\, and Engin
 eering of Programming
URL:http://www.wikicfp.com/cfp/servlet/event.showcfp?eventid=57099&copyow
 nerid=81934
UID:cfp632021-E@wikicfp.com
END:VEVENT
BEGIN:VEVENT
DTSTAMP:20260423T082105Z
DTSTART;VALUE=DATE:20161201
SUMMARY:Programming 2017 Deadline
DESCRIPTION:The International Conference on the Art\, Science\, and Engin
 eering of Programming
URL:http://www.wikicfp.com/cfp/servlet/event.showcfp?eventid=57099&copyow
 nerid=81934
UID:cfp632021-D@wikicfp.com
END:VEVENT
BEGIN:VEVENT
DTSTAMP:20260423T082105Z
DTSTART;VALUE=DATE:20170201
SUMMARY:Programming 2017 Notification Due
DESCRIPTION:The International Conference on the Art\, Science\, and Engin
 eering of Programming
URL:http://www.wikicfp.com/cfp/servlet/event.showcfp?eventid=57099&copyow
 nerid=81934
UID:cfp632021-N@wikicfp.com
END:VEVENT
BEGIN:VEVENT
DTSTAMP:20260423T082105Z
DTSTART;VALUE=DATE:20170701
DTEND;VALUE=DATE:20170706
SUMMARY:ITiCSE 2017
DESCRIPTION:22nd ACM Annual Conference on Innovation and Technology in Co
 mputer Science Education
URL:http://www.wikicfp.com/cfp/servlet/event.showcfp?eventid=57927&copyow
 nerid=81934
UID:cfp623972-E@wikicfp.com
END:VEVENT
BEGIN:VEVENT
DTSTAMP:20260423T082105Z
DTSTART;VALUE=DATE:20170115
SUMMARY:ITiCSE 2017 Deadline
DESCRIPTION:22nd ACM Annual Conference on Innovation and Technology in Co
 mputer Science Education
URL:http://www.wikicfp.com/cfp/servlet/event.showcfp?eventid=57927&copyow
 nerid=81934
UID:cfp623972-D@wikicfp.com
END:VEVENT
BEGIN:VEVENT
DTSTAMP:20260423T082105Z
DTSTART;VALUE=DATE:20170327
SUMMARY:ITiCSE 2017 Notification Due
DESCRIPTION:22nd ACM Annual Conference on Innovation and Technology in Co
 mputer Science Education
URL:http://www.wikicfp.com/cfp/servlet/event.showcfp?eventid=57927&copyow
 nerid=81934
UID:cfp623972-N@wikicfp.com
END:VEVENT
BEGIN:VEVENT
DTSTAMP:20260423T082105Z
DTSTART;VALUE=DATE:20170423
SUMMARY:ITiCSE 2017 Final Version Due
DESCRIPTION:22nd ACM Annual Conference on Innovation and Technology in Co
 mputer Science Education
URL:http://www.wikicfp.com/cfp/servlet/event.showcfp?eventid=57927&copyow
 nerid=81934
UID:cfp623972-N@wikicfp.com
END:VEVENT
BEGIN:VEVENT
DTSTAMP:20260423T082105Z
DTSTART;VALUE=DATE:20170522
DTEND;VALUE=DATE:20170527
SUMMARY:EMOOCS 2017
DESCRIPTION:European MOOCs Stakeholder Summit
URL:http://www.wikicfp.com/cfp/servlet/event.showcfp?eventid=59018&copyow
 nerid=81934
UID:cfp632018-E@wikicfp.com
END:VEVENT
BEGIN:VEVENT
DTSTAMP:20260423T082105Z
DTSTART;VALUE=DATE:20170116
SUMMARY:EMOOCS 2017 Deadline
DESCRIPTION:European MOOCs Stakeholder Summit
URL:http://www.wikicfp.com/cfp/servlet/event.showcfp?eventid=59018&copyow
 nerid=81934
UID:cfp632018-D@wikicfp.com
END:VEVENT
BEGIN:VEVENT
DTSTAMP:20260423T082105Z
DTSTART;VALUE=DATE:20170224
SUMMARY:EMOOCS 2017 Notification Due
DESCRIPTION:European MOOCs Stakeholder Summit
URL:http://www.wikicfp.com/cfp/servlet/event.showcfp?eventid=59018&copyow
 nerid=81934
UID:cfp632018-N@wikicfp.com
END:VEVENT
BEGIN:VEVENT
DTSTAMP:20260423T082105Z
DTSTART;VALUE=DATE:20170320
SUMMARY:EMOOCS 2017 Final Version Due
DESCRIPTION:European MOOCs Stakeholder Summit
URL:http://www.wikicfp.com/cfp/servlet/event.showcfp?eventid=59018&copyow
 nerid=81934
UID:cfp632018-N@wikicfp.com
END:VEVENT
BEGIN:VEVENT
DTSTAMP:20260423T082105Z
DTSTART;VALUE=DATE:20170626
DTEND;VALUE=DATE:20170701
SUMMARY:AIED 2017
DESCRIPTION:The 18th International Conference on Artificial Intelligence 
 in Education
URL:http://www.wikicfp.com/cfp/servlet/event.showcfp?eventid=57973&copyow
 nerid=81934
UID:cfp632014-E@wikicfp.com
END:VEVENT
BEGIN:VEVENT
DTSTAMP:20260423T082105Z
DTSTART;VALUE=DATE:20170131
SUMMARY:AIED 2017 Deadline
DESCRIPTION:The 18th International Conference on Artificial Intelligence 
 in Education
URL:http://www.wikicfp.com/cfp/servlet/event.showcfp?eventid=57973&copyow
 nerid=81934
UID:cfp632014-D@wikicfp.com
END:VEVENT
BEGIN:VEVENT
DTSTAMP:20260423T082105Z
DTSTART;VALUE=DATE:20170629
DTEND;VALUE=DATE:20170703
SUMMARY:ECE 2017
DESCRIPTION:The European Conference on Education 2017
URL:http://www.wikicfp.com/cfp/servlet/event.showcfp?eventid=57397&copyow
 nerid=81934
UID:cfp632020-E@wikicfp.com
END:VEVENT
BEGIN:VEVENT
DTSTAMP:20260423T082105Z
DTSTART;VALUE=DATE:20170216
SUMMARY:ECE 2017 Deadline
DESCRIPTION:The European Conference on Education 2017
URL:http://www.wikicfp.com/cfp/servlet/event.showcfp?eventid=57397&copyow
 nerid=81934
UID:cfp632020-D@wikicfp.com
END:VEVENT
BEGIN:VEVENT
DTSTAMP:20260423T082105Z
DTSTART;VALUE=DATE:20170802
SUMMARY:ECE 2017 Final Version Due
DESCRIPTION:The European Conference on Education 2017
URL:http://www.wikicfp.com/cfp/servlet/event.showcfp?eventid=57397&copyow
 nerid=81934
UID:cfp632020-N@wikicfp.com
END:VEVENT
BEGIN:VEVENT
DTSTAMP:20260423T082105Z
DTSTART;VALUE=DATE:20170904
DTEND;VALUE=DATE:20170909
SUMMARY:ESEC/FSE 2017
DESCRIPTION:11th Joint Meeting of the European Software Engineering Confe
 rence and the ACM SIGSOFT Symposium on the Foundations of Software Engin
 eering 
URL:http://www.wikicfp.com/cfp/servlet/event.showcfp?eventid=58264&copyow
 nerid=81934
UID:cfp632019-E@wikicfp.com
END:VEVENT
BEGIN:VEVENT
DTSTAMP:20260423T082105Z
DTSTART;VALUE=DATE:20170227
SUMMARY:ESEC/FSE 2017 Deadline
DESCRIPTION:11th Joint Meeting of the European Software Engineering Confe
 rence and the ACM SIGSOFT Symposium on the Foundations of Software Engin
 eering 
URL:http://www.wikicfp.com/cfp/servlet/event.showcfp?eventid=58264&copyow
 nerid=81934
UID:cfp632019-D@wikicfp.com
END:VEVENT
BEGIN:VEVENT
DTSTAMP:20260423T082105Z
DTSTART;VALUE=DATE:20170602
SUMMARY:ESEC/FSE 2017 Notification Due
DESCRIPTION:11th Joint Meeting of the European Software Engineering Confe
 rence and the ACM SIGSOFT Symposium on the Foundations of Software Engin
 eering 
URL:http://www.wikicfp.com/cfp/servlet/event.showcfp?eventid=58264&copyow
 nerid=81934
UID:cfp632019-N@wikicfp.com
END:VEVENT
BEGIN:VEVENT
DTSTAMP:20260423T082105Z
DTSTART;VALUE=DATE:20170714
SUMMARY:ESEC/FSE 2017 Final Version Due
DESCRIPTION:11th Joint Meeting of the European Software Engineering Confe
 rence and the ACM SIGSOFT Symposium on the Foundations of Software Engin
 eering 
URL:http://www.wikicfp.com/cfp/servlet/event.showcfp?eventid=58264&copyow
 nerid=81934
UID:cfp632019-N@wikicfp.com
END:VEVENT
BEGIN:VEVENT
DTSTAMP:20260423T082105Z
DTSTART;VALUE=DATE:20171229
DTEND;VALUE=DATE:20171231
SUMMARY:ICER - WASET 2017
DESCRIPTION:19th International Conference on Educational Research
URL:http://www.wikicfp.com/cfp/servlet/event.showcfp?eventid=57923&copyow
 nerid=81934
UID:cfp623962-E@wikicfp.com
END:VEVENT
BEGIN:VEVENT
DTSTAMP:20260423T082105Z
DTSTART;VALUE=DATE:20170320
SUMMARY:ICER - WASET 2017 Deadline
DESCRIPTION:19th International Conference on Educational Research
URL:http://www.wikicfp.com/cfp/servlet/event.showcfp?eventid=57923&copyow
 nerid=81934
UID:cfp623962-D@wikicfp.com
END:VEVENT
BEGIN:VEVENT
DTSTAMP:20260423T082105Z
DTSTART;VALUE=DATE:20170331
SUMMARY:ICER - WASET 2017 Notification Due
DESCRIPTION:19th International Conference on Educational Research
URL:http://www.wikicfp.com/cfp/servlet/event.showcfp?eventid=57923&copyow
 nerid=81934
UID:cfp623962-N@wikicfp.com
END:VEVENT
BEGIN:VEVENT
DTSTAMP:20260423T082105Z
DTSTART;VALUE=DATE:20170829
SUMMARY:ICER - WASET 2017 Final Version Due
DESCRIPTION:19th International Conference on Educational Research
URL:http://www.wikicfp.com/cfp/servlet/event.showcfp?eventid=57923&copyow
 nerid=81934
UID:cfp623962-N@wikicfp.com
END:VEVENT
BEGIN:VEVENT
DTSTAMP:20260423T082105Z
DTSTART;VALUE=DATE:20170912
DTEND;VALUE=DATE:20170916
SUMMARY:EC-TEL 2017
DESCRIPTION:European Conference on Technology Enhanced Learning
URL:http://www.wikicfp.com/cfp/servlet/event.showcfp?eventid=60630&copyow
 nerid=81934
UID:cfp643893-E@wikicfp.com
END:VEVENT
BEGIN:VEVENT
DTSTAMP:20260423T082105Z
DTSTART;VALUE=DATE:20170403
SUMMARY:EC-TEL 2017 Abstract Due
DESCRIPTION:European Conference on Technology Enhanced Learning
URL:http://www.wikicfp.com/cfp/servlet/event.showcfp?eventid=60630&copyow
 nerid=81934
UID:cfp643893-A@wikicfp.com
END:VEVENT
BEGIN:VEVENT
DTSTAMP:20260423T082105Z
DTSTART;VALUE=DATE:20170410
SUMMARY:EC-TEL 2017 Deadline
DESCRIPTION:European Conference on Technology Enhanced Learning
URL:http://www.wikicfp.com/cfp/servlet/event.showcfp?eventid=60630&copyow
 nerid=81934
UID:cfp643893-D@wikicfp.com
END:VEVENT
BEGIN:VEVENT
DTSTAMP:20260423T082105Z
DTSTART;VALUE=DATE:20170529
SUMMARY:EC-TEL 2017 Notification Due
DESCRIPTION:European Conference on Technology Enhanced Learning
URL:http://www.wikicfp.com/cfp/servlet/event.showcfp?eventid=60630&copyow
 nerid=81934
UID:cfp643893-N@wikicfp.com
END:VEVENT
BEGIN:VEVENT
DTSTAMP:20260423T082105Z
DTSTART;VALUE=DATE:20170626
SUMMARY:EC-TEL 2017 Final Version Due
DESCRIPTION:European Conference on Technology Enhanced Learning
URL:http://www.wikicfp.com/cfp/servlet/event.showcfp?eventid=60630&copyow
 nerid=81934
UID:cfp643893-N@wikicfp.com
END:VEVENT
BEGIN:VEVENT
DTSTAMP:20260423T082105Z
DTSTART;VALUE=DATE:20170817
DTEND;VALUE=DATE:20170822
SUMMARY:ICER 2017
DESCRIPTION:International Computing Education Research conference
URL:http://www.wikicfp.com/cfp/servlet/event.showcfp?eventid=59737&copyow
 nerid=81934
UID:cfp636269-E@wikicfp.com
END:VEVENT
BEGIN:VEVENT
DTSTAMP:20260423T082105Z
DTSTART;VALUE=DATE:20170407
SUMMARY:ICER 2017 Abstract Due
DESCRIPTION:International Computing Education Research conference
URL:http://www.wikicfp.com/cfp/servlet/event.showcfp?eventid=59737&copyow
 nerid=81934
UID:cfp636269-A@wikicfp.com
END:VEVENT
BEGIN:VEVENT
DTSTAMP:20260423T082105Z
DTSTART;VALUE=DATE:20170414
SUMMARY:ICER 2017 Deadline
DESCRIPTION:International Computing Education Research conference
URL:http://www.wikicfp.com/cfp/servlet/event.showcfp?eventid=59737&copyow
 nerid=81934
UID:cfp636269-D@wikicfp.com
END:VEVENT
BEGIN:VEVENT
DTSTAMP:20260423T082105Z
DTSTART;VALUE=DATE:20170609
SUMMARY:ICER 2017 Notification Due
DESCRIPTION:International Computing Education Research conference
URL:http://www.wikicfp.com/cfp/servlet/event.showcfp?eventid=59737&copyow
 nerid=81934
UID:cfp636269-N@wikicfp.com
END:VEVENT
BEGIN:VEVENT
DTSTAMP:20260423T082105Z
DTSTART;VALUE=DATE:20171022
DTEND;VALUE=DATE:20171028
SUMMARY:SPLASH 2017
DESCRIPTION:ACM SIGPLAN conference on Systems\, Programming\, Languages a
 nd Applications: Software for Humanity
URL:http://www.wikicfp.com/cfp/servlet/event.showcfp?eventid=59017&copyow
 nerid=81934
UID:cfp632017-E@wikicfp.com
END:VEVENT
BEGIN:VEVENT
DTSTAMP:20260423T082105Z
DTSTART;VALUE=DATE:20170413
SUMMARY:SPLASH 2017 Abstract Due
DESCRIPTION:ACM SIGPLAN conference on Systems\, Programming\, Languages a
 nd Applications: Software for Humanity
URL:http://www.wikicfp.com/cfp/servlet/event.showcfp?eventid=59017&copyow
 nerid=81934
UID:cfp632017-A@wikicfp.com
END:VEVENT
BEGIN:VEVENT
DTSTAMP:20260423T082105Z
DTSTART;VALUE=DATE:20170417
SUMMARY:SPLASH 2017 Deadline
DESCRIPTION:ACM SIGPLAN conference on Systems\, Programming\, Languages a
 nd Applications: Software for Humanity
URL:http://www.wikicfp.com/cfp/servlet/event.showcfp?eventid=59017&copyow
 nerid=81934
UID:cfp632017-D@wikicfp.com
END:VEVENT
BEGIN:VEVENT
DTSTAMP:20260423T082105Z
DTSTART;VALUE=DATE:20170621
SUMMARY:SPLASH 2017 Notification Due
DESCRIPTION:ACM SIGPLAN conference on Systems\, Programming\, Languages a
 nd Applications: Software for Humanity
URL:http://www.wikicfp.com/cfp/servlet/event.showcfp?eventid=59017&copyow
 nerid=81934
UID:cfp632017-N@wikicfp.com
END:VEVENT
BEGIN:VEVENT
DTSTAMP:20260423T082105Z
DTSTART;VALUE=DATE:20170828
SUMMARY:SPLASH 2017 Final Version Due
DESCRIPTION:ACM SIGPLAN conference on Systems\, Programming\, Languages a
 nd Applications: Software for Humanity
URL:http://www.wikicfp.com/cfp/servlet/event.showcfp?eventid=59017&copyow
 nerid=81934
UID:cfp632017-N@wikicfp.com
END:VEVENT
BEGIN:VEVENT
DTSTAMP:20260423T082105Z
DTSTART;VALUE=DATE:20170925
DTEND;VALUE=DATE:20170929
SUMMARY:IEEE-STC 2017
DESCRIPTION:IEEE Software Technology Conference
URL:http://www.wikicfp.com/cfp/servlet/event.showcfp?eventid=62958&copyow
 nerid=81934
UID:cfp659242-E@wikicfp.com
END:VEVENT
BEGIN:VEVENT
DTSTAMP:20260423T082105Z
DTSTART;VALUE=DATE:20170430
SUMMARY:IEEE-STC 2017 Deadline
DESCRIPTION:IEEE Software Technology Conference
URL:http://www.wikicfp.com/cfp/servlet/event.showcfp?eventid=62958&copyow
 nerid=81934
UID:cfp659242-D@wikicfp.com
END:VEVENT
BEGIN:VEVENT
DTSTAMP:20260423T082105Z
DTSTART;VALUE=DATE:20171006
DTEND;VALUE=DATE:20171008
SUMMARY:LWMOOC 2017
DESCRIPTION:Learning with MOOCs Conference
URL:http://www.wikicfp.com/cfp/servlet/event.showcfp?eventid=64949&copyow
 nerid=81934
UID:cfp671173-E@wikicfp.com
END:VEVENT
BEGIN:VEVENT
DTSTAMP:20260423T082105Z
DTSTART;VALUE=DATE:20170617
SUMMARY:LWMOOC 2017 Deadline
DESCRIPTION:Learning with MOOCs Conference
URL:http://www.wikicfp.com/cfp/servlet/event.showcfp?eventid=64949&copyow
 nerid=81934
UID:cfp671173-D@wikicfp.com
END:VEVENT
BEGIN:VEVENT
DTSTAMP:20260423T082105Z
DTSTART;VALUE=DATE:20171107
DTEND;VALUE=DATE:20171110
SUMMARY:CSEE&T 2017
DESCRIPTION:30th IEEE Conference on Software Engineering Education and Tr
 aining
URL:http://www.wikicfp.com/cfp/servlet/event.showcfp?eventid=58566&copyow
 nerid=81934
UID:cfp632015-E@wikicfp.com
END:VEVENT
BEGIN:VEVENT
DTSTAMP:20260423T082105Z
DTSTART;VALUE=DATE:20170616
SUMMARY:CSEE&T 2017 Abstract Due
DESCRIPTION:30th IEEE Conference on Software Engineering Education and Tr
 aining
URL:http://www.wikicfp.com/cfp/servlet/event.showcfp?eventid=58566&copyow
 nerid=81934
UID:cfp632015-A@wikicfp.com
END:VEVENT
BEGIN:VEVENT
DTSTAMP:20260423T082105Z
DTSTART;VALUE=DATE:20170623
SUMMARY:CSEE&T 2017 Deadline
DESCRIPTION:30th IEEE Conference on Software Engineering Education and Tr
 aining
URL:http://www.wikicfp.com/cfp/servlet/event.showcfp?eventid=58566&copyow
 nerid=81934
UID:cfp632015-D@wikicfp.com
END:VEVENT
BEGIN:VEVENT
DTSTAMP:20260423T082105Z
DTSTART;VALUE=DATE:20170825
SUMMARY:CSEE&T 2017 Notification Due
DESCRIPTION:30th IEEE Conference on Software Engineering Education and Tr
 aining
URL:http://www.wikicfp.com/cfp/servlet/event.showcfp?eventid=58566&copyow
 nerid=81934
UID:cfp632015-N@wikicfp.com
END:VEVENT
BEGIN:VEVENT
DTSTAMP:20260423T082105Z
DTSTART;VALUE=DATE:20170922
SUMMARY:CSEE&T 2017 Final Version Due
DESCRIPTION:30th IEEE Conference on Software Engineering Education and Tr
 aining
URL:http://www.wikicfp.com/cfp/servlet/event.showcfp?eventid=58566&copyow
 nerid=81934
UID:cfp632015-N@wikicfp.com
END:VEVENT
BEGIN:VEVENT
DTSTAMP:20260423T082105Z
DTSTART;VALUE=DATE:20171116
DTEND;VALUE=DATE:20171120
SUMMARY:Koli Calling 2017
DESCRIPTION:Koli Calling - International Conference on Computing Educatio
 n Research
URL:http://www.wikicfp.com/cfp/servlet/event.showcfp?eventid=67854&copyow
 nerid=81934
UID:cfp684617-E@wikicfp.com
END:VEVENT
BEGIN:VEVENT
DTSTAMP:20260423T082105Z
DTSTART;VALUE=DATE:20170804
SUMMARY:Koli Calling 2017 Deadline
DESCRIPTION:Koli Calling - International Conference on Computing Educatio
 n Research
URL:http://www.wikicfp.com/cfp/servlet/event.showcfp?eventid=67854&copyow
 nerid=81934
UID:cfp684617-D@wikicfp.com
END:VEVENT
BEGIN:VEVENT
DTSTAMP:20260423T082105Z
DTSTART;VALUE=DATE:20170908
SUMMARY:Koli Calling 2017 Notification Due
DESCRIPTION:Koli Calling - International Conference on Computing Educatio
 n Research
URL:http://www.wikicfp.com/cfp/servlet/event.showcfp?eventid=67854&copyow
 nerid=81934
UID:cfp684617-N@wikicfp.com
END:VEVENT
BEGIN:VEVENT
DTSTAMP:20260423T082105Z
DTSTART;VALUE=DATE:20180129
DTEND;VALUE=DATE:20180203
SUMMARY:ACE 2018
DESCRIPTION:Twentieth Australasian Computing Education Conference
URL:http://www.wikicfp.com/cfp/servlet/event.showcfp?eventid=67855&copyow
 nerid=81934
UID:cfp684618-E@wikicfp.com
END:VEVENT
BEGIN:VEVENT
DTSTAMP:20260423T082105Z
DTSTART;VALUE=DATE:20170910
SUMMARY:ACE 2018 Abstract Due
DESCRIPTION:Twentieth Australasian Computing Education Conference
URL:http://www.wikicfp.com/cfp/servlet/event.showcfp?eventid=67855&copyow
 nerid=81934
UID:cfp684618-A@wikicfp.com
END:VEVENT
BEGIN:VEVENT
DTSTAMP:20260423T082105Z
DTSTART;VALUE=DATE:20170917
SUMMARY:ACE 2018 Deadline
DESCRIPTION:Twentieth Australasian Computing Education Conference
URL:http://www.wikicfp.com/cfp/servlet/event.showcfp?eventid=67855&copyow
 nerid=81934
UID:cfp684618-D@wikicfp.com
END:VEVENT
BEGIN:VEVENT
DTSTAMP:20260423T082105Z
DTSTART;VALUE=DATE:20171106
SUMMARY:ACE 2018 Notification Due
DESCRIPTION:Twentieth Australasian Computing Education Conference
URL:http://www.wikicfp.com/cfp/servlet/event.showcfp?eventid=67855&copyow
 nerid=81934
UID:cfp684618-N@wikicfp.com
END:VEVENT
BEGIN:VEVENT
DTSTAMP:20260423T082105Z
DTSTART;VALUE=DATE:20180527
DTEND;VALUE=DATE:20180604
SUMMARY:ICSE 2018
DESCRIPTION:International Conference on Software Engineering
URL:http://www.wikicfp.com/cfp/servlet/event.showcfp?eventid=63197&copyow
 nerid=81934
UID:cfp689380-E@wikicfp.com
END:VEVENT
BEGIN:VEVENT
DTSTAMP:20260423T082105Z
DTSTART;VALUE=DATE:20171010
SUMMARY:ICSE 2018 Deadline
DESCRIPTION:International Conference on Software Engineering
URL:http://www.wikicfp.com/cfp/servlet/event.showcfp?eventid=63197&copyow
 nerid=81934
UID:cfp689380-D@wikicfp.com
END:VEVENT
BEGIN:VEVENT
DTSTAMP:20260423T082105Z
DTSTART;VALUE=DATE:20171120
SUMMARY:ICSE 2018 Notification Due
DESCRIPTION:International Conference on Software Engineering
URL:http://www.wikicfp.com/cfp/servlet/event.showcfp?eventid=63197&copyow
 nerid=81934
UID:cfp689380-N@wikicfp.com
END:VEVENT
BEGIN:VEVENT
DTSTAMP:20260423T082105Z
DTSTART;VALUE=DATE:20181130
SUMMARY:ICSE 2018 Final Version Due
DESCRIPTION:International Conference on Software Engineering
URL:http://www.wikicfp.com/cfp/servlet/event.showcfp?eventid=63197&copyow
 nerid=81934
UID:cfp689380-N@wikicfp.com
END:VEVENT
BEGIN:VEVENT
DTSTAMP:20260423T082105Z
DTSTART;VALUE=DATE:20180611
DTEND;VALUE=DATE:20180616
SUMMARY:ITS 2018
DESCRIPTION:The 14th International Conference on Intelligent Tutoring Sys
 tems
URL:http://www.wikicfp.com/cfp/servlet/event.showcfp?eventid=68008&copyow
 nerid=81934
UID:cfp685930-E@wikicfp.com
END:VEVENT
BEGIN:VEVENT
DTSTAMP:20260423T082105Z
DTSTART;VALUE=DATE:20180128
SUMMARY:ITS 2018 Deadline
DESCRIPTION:The 14th International Conference on Intelligent Tutoring Sys
 tems
URL:http://www.wikicfp.com/cfp/servlet/event.showcfp?eventid=68008&copyow
 nerid=81934
UID:cfp685930-D@wikicfp.com
END:VEVENT
BEGIN:VEVENT
DTSTAMP:20260423T082105Z
DTSTART;VALUE=DATE:20180311
SUMMARY:ITS 2018 Notification Due
DESCRIPTION:The 14th International Conference on Intelligent Tutoring Sys
 tems
URL:http://www.wikicfp.com/cfp/servlet/event.showcfp?eventid=68008&copyow
 nerid=81934
UID:cfp685930-N@wikicfp.com
END:VEVENT
END:VCALENDAR
