BEGIN:VCALENDAR
PRODID:-//WikiCFP//hhittini 1.0//EN
VERSION:2.0
CALSCALE:GREGORIAN
BEGIN:VEVENT
DTSTAMP:20260420T082426Z
DTSTART;VALUE=DATE:20160411
DTEND;VALUE=DATE:20160414
SUMMARY:SPNGN 2016
DESCRIPTION:The 7th Symposium on Security and Privacy in Next-Generation 
 Networks
URL:http://www.wikicfp.com/cfp/servlet/event.showcfp?eventid=48485&copyow
 nerid=81871
UID:cfp554133-E@wikicfp.com
END:VEVENT
BEGIN:VEVENT
DTSTAMP:20260420T082426Z
DTSTART;VALUE=DATE:20151023
SUMMARY:SPNGN 2016 Deadline
DESCRIPTION:The 7th Symposium on Security and Privacy in Next-Generation 
 Networks
URL:http://www.wikicfp.com/cfp/servlet/event.showcfp?eventid=48485&copyow
 nerid=81871
UID:cfp554133-D@wikicfp.com
END:VEVENT
BEGIN:VEVENT
DTSTAMP:20260420T082426Z
DTSTART;VALUE=DATE:20151218
SUMMARY:SPNGN 2016 Notification Due
DESCRIPTION:The 7th Symposium on Security and Privacy in Next-Generation 
 Networks
URL:http://www.wikicfp.com/cfp/servlet/event.showcfp?eventid=48485&copyow
 nerid=81871
UID:cfp554133-N@wikicfp.com
END:VEVENT
BEGIN:VEVENT
DTSTAMP:20260420T082426Z
DTSTART;VALUE=DATE:20160219
SUMMARY:SPNGN 2016 Final Version Due
DESCRIPTION:The 7th Symposium on Security and Privacy in Next-Generation 
 Networks
URL:http://www.wikicfp.com/cfp/servlet/event.showcfp?eventid=48485&copyow
 nerid=81871
UID:cfp554133-N@wikicfp.com
END:VEVENT
BEGIN:VEVENT
DTSTAMP:20260420T082426Z
DTSTART;VALUE=DATE:20160410
DTEND;VALUE=DATE:20160414
SUMMARY:ITNG 2016
DESCRIPTION:13th Int'l Conf. on Information Technology- New Generations
URL:http://www.wikicfp.com/cfp/servlet/event.showcfp?eventid=48749&copyow
 nerid=81871
UID:cfp554141-E@wikicfp.com
END:VEVENT
BEGIN:VEVENT
DTSTAMP:20260420T082426Z
DTSTART;VALUE=DATE:20151023
SUMMARY:ITNG 2016 Deadline
DESCRIPTION:13th Int'l Conf. on Information Technology- New Generations
URL:http://www.wikicfp.com/cfp/servlet/event.showcfp?eventid=48749&copyow
 nerid=81871
UID:cfp554141-D@wikicfp.com
END:VEVENT
BEGIN:VEVENT
DTSTAMP:20260420T082426Z
DTSTART;VALUE=DATE:20160612
SUMMARY:ITNG 2016 Notification Due
DESCRIPTION:13th Int'l Conf. on Information Technology- New Generations
URL:http://www.wikicfp.com/cfp/servlet/event.showcfp?eventid=48749&copyow
 nerid=81871
UID:cfp554141-N@wikicfp.com
END:VEVENT
BEGIN:VEVENT
DTSTAMP:20260420T082426Z
DTSTART;VALUE=DATE:20160219
SUMMARY:ITNG 2016 Final Version Due
DESCRIPTION:13th Int'l Conf. on Information Technology- New Generations
URL:http://www.wikicfp.com/cfp/servlet/event.showcfp?eventid=48749&copyow
 nerid=81871
UID:cfp554141-N@wikicfp.com
END:VEVENT
BEGIN:VEVENT
DTSTAMP:20260420T082426Z
DTSTART;VALUE=DATE:20160323
DTEND;VALUE=DATE:20160326
SUMMARY:WD 2016
DESCRIPTION:The Wireless Days Conference
URL:http://www.wikicfp.com/cfp/servlet/event.showcfp?eventid=47791&copyow
 nerid=81871
UID:cfp554142-E@wikicfp.com
END:VEVENT
BEGIN:VEVENT
DTSTAMP:20260420T082426Z
DTSTART;VALUE=DATE:20151101
SUMMARY:WD 2016 Deadline
DESCRIPTION:The Wireless Days Conference
URL:http://www.wikicfp.com/cfp/servlet/event.showcfp?eventid=47791&copyow
 nerid=81871
UID:cfp554142-D@wikicfp.com
END:VEVENT
BEGIN:VEVENT
DTSTAMP:20260420T082426Z
DTSTART;VALUE=DATE:20160110
SUMMARY:WD 2016 Notification Due
DESCRIPTION:The Wireless Days Conference
URL:http://www.wikicfp.com/cfp/servlet/event.showcfp?eventid=47791&copyow
 nerid=81871
UID:cfp554142-N@wikicfp.com
END:VEVENT
BEGIN:VEVENT
DTSTAMP:20260420T082426Z
DTSTART;VALUE=DATE:20160201
SUMMARY:WD 2016 Final Version Due
DESCRIPTION:The Wireless Days Conference
URL:http://www.wikicfp.com/cfp/servlet/event.showcfp?eventid=47791&copyow
 nerid=81871
UID:cfp554142-N@wikicfp.com
END:VEVENT
BEGIN:VEVENT
DTSTAMP:20260420T082426Z
DTSTART;VALUE=DATE:20160317
DTEND;VALUE=DATE:20160319
SUMMARY:ANCS 2016
DESCRIPTION:Architectures for Networking and Communications Systems
URL:http://www.wikicfp.com/cfp/servlet/event.showcfp?eventid=48201&copyow
 nerid=81871
UID:cfp554144-E@wikicfp.com
END:VEVENT
BEGIN:VEVENT
DTSTAMP:20260420T082426Z
DTSTART;VALUE=DATE:20151102
SUMMARY:ANCS 2016 Abstract Due
DESCRIPTION:Architectures for Networking and Communications Systems
URL:http://www.wikicfp.com/cfp/servlet/event.showcfp?eventid=48201&copyow
 nerid=81871
UID:cfp554144-A@wikicfp.com
END:VEVENT
BEGIN:VEVENT
DTSTAMP:20260420T082426Z
DTSTART;VALUE=DATE:20151109
SUMMARY:ANCS 2016 Deadline
DESCRIPTION:Architectures for Networking and Communications Systems
URL:http://www.wikicfp.com/cfp/servlet/event.showcfp?eventid=48201&copyow
 nerid=81871
UID:cfp554144-D@wikicfp.com
END:VEVENT
BEGIN:VEVENT
DTSTAMP:20260420T082426Z
DTSTART;VALUE=DATE:20151221
SUMMARY:ANCS 2016 Notification Due
DESCRIPTION:Architectures for Networking and Communications Systems
URL:http://www.wikicfp.com/cfp/servlet/event.showcfp?eventid=48201&copyow
 nerid=81871
UID:cfp554144-N@wikicfp.com
END:VEVENT
BEGIN:VEVENT
DTSTAMP:20260420T082426Z
DTSTART;VALUE=DATE:20160523
DTEND;VALUE=DATE:20160526
SUMMARY:IEEE S&P 2016
DESCRIPTION:37th IEEE Symposium on Security and Privacy
URL:http://www.wikicfp.com/cfp/servlet/event.showcfp?eventid=48470&copyow
 nerid=81871
UID:cfp554134-E@wikicfp.com
END:VEVENT
BEGIN:VEVENT
DTSTAMP:20260420T082426Z
DTSTART;VALUE=DATE:20151113
SUMMARY:IEEE S&P 2016 Deadline
DESCRIPTION:37th IEEE Symposium on Security and Privacy
URL:http://www.wikicfp.com/cfp/servlet/event.showcfp?eventid=48470&copyow
 nerid=81871
UID:cfp554134-D@wikicfp.com
END:VEVENT
BEGIN:VEVENT
DTSTAMP:20260420T082426Z
DTSTART;VALUE=DATE:20150207
SUMMARY:IEEE S&P 2016 Notification Due
DESCRIPTION:37th IEEE Symposium on Security and Privacy
URL:http://www.wikicfp.com/cfp/servlet/event.showcfp?eventid=48470&copyow
 nerid=81871
UID:cfp554134-N@wikicfp.com
END:VEVENT
BEGIN:VEVENT
DTSTAMP:20260420T082426Z
DTSTART;VALUE=DATE:20151201
SUMMARY:ANSASA 2015 Deadline
DESCRIPTION: Advances in Networking Systems Architectures\, Security\, an
 d Applications 
URL:http://www.wikicfp.com/cfp/servlet/event.showcfp?eventid=48724&copyow
 nerid=81871
UID:cfp554145-D@wikicfp.com
END:VEVENT
BEGIN:VEVENT
DTSTAMP:20260420T082426Z
DTSTART;VALUE=DATE:20160202
SUMMARY:ANSASA 2015 Notification Due
DESCRIPTION: Advances in Networking Systems Architectures\, Security\, an
 d Applications 
URL:http://www.wikicfp.com/cfp/servlet/event.showcfp?eventid=48724&copyow
 nerid=81871
UID:cfp554145-N@wikicfp.com
END:VEVENT
BEGIN:VEVENT
DTSTAMP:20260420T082426Z
DTSTART;VALUE=DATE:20160215
SUMMARY:ANSASA 2015 Final Version Due
DESCRIPTION: Advances in Networking Systems Architectures\, Security\, an
 d Applications 
URL:http://www.wikicfp.com/cfp/servlet/event.showcfp?eventid=48724&copyow
 nerid=81871
UID:cfp554145-N@wikicfp.com
END:VEVENT
BEGIN:VEVENT
DTSTAMP:20260420T082426Z
DTSTART;VALUE=DATE:20160707
DTEND;VALUE=DATE:20160709
SUMMARY:ECCWS 2016
DESCRIPTION:15th European Conference on Cyber Warfare and Security ECCWS-
 2016
URL:http://www.wikicfp.com/cfp/servlet/event.showcfp?eventid=47540&copyow
 nerid=81871
UID:cfp554136-E@wikicfp.com
END:VEVENT
BEGIN:VEVENT
DTSTAMP:20260420T082426Z
DTSTART;VALUE=DATE:20160616
SUMMARY:ECCWS 2016 Abstract Due
DESCRIPTION:15th European Conference on Cyber Warfare and Security ECCWS-
 2016
URL:http://www.wikicfp.com/cfp/servlet/event.showcfp?eventid=47540&copyow
 nerid=81871
UID:cfp554136-A@wikicfp.com
END:VEVENT
BEGIN:VEVENT
DTSTAMP:20260420T082426Z
DTSTART;VALUE=DATE:20151203
SUMMARY:ECCWS 2016 Deadline
DESCRIPTION:15th European Conference on Cyber Warfare and Security ECCWS-
 2016
URL:http://www.wikicfp.com/cfp/servlet/event.showcfp?eventid=47540&copyow
 nerid=81871
UID:cfp554136-D@wikicfp.com
END:VEVENT
BEGIN:VEVENT
DTSTAMP:20260420T082426Z
DTSTART;VALUE=DATE:20151210
SUMMARY:ECCWS 2016 Notification Due
DESCRIPTION:15th European Conference on Cyber Warfare and Security ECCWS-
 2016
URL:http://www.wikicfp.com/cfp/servlet/event.showcfp?eventid=47540&copyow
 nerid=81871
UID:cfp554136-N@wikicfp.com
END:VEVENT
BEGIN:VEVENT
DTSTAMP:20260420T082426Z
DTSTART;VALUE=DATE:20160512
SUMMARY:ECCWS 2016 Final Version Due
DESCRIPTION:15th European Conference on Cyber Warfare and Security ECCWS-
 2016
URL:http://www.wikicfp.com/cfp/servlet/event.showcfp?eventid=47540&copyow
 nerid=81871
UID:cfp554136-N@wikicfp.com
END:VEVENT
BEGIN:VEVENT
DTSTAMP:20260420T082426Z
DTSTART;VALUE=DATE:20160520
DTEND;VALUE=DATE:20160523
SUMMARY:IEEE ITNEC 2016
DESCRIPTION:2016 IEEE Information Technology\,Networking\,Electronic and 
 Automation Control Conference
URL:http://www.wikicfp.com/cfp/servlet/event.showcfp?eventid=47174&copyow
 nerid=81871
UID:cfp554146-E@wikicfp.com
END:VEVENT
BEGIN:VEVENT
DTSTAMP:20260420T082426Z
DTSTART;VALUE=DATE:20151210
SUMMARY:IEEE ITNEC 2016 Deadline
DESCRIPTION:2016 IEEE Information Technology\,Networking\,Electronic and 
 Automation Control Conference
URL:http://www.wikicfp.com/cfp/servlet/event.showcfp?eventid=47174&copyow
 nerid=81871
UID:cfp554146-D@wikicfp.com
END:VEVENT
BEGIN:VEVENT
DTSTAMP:20260420T082426Z
DTSTART;VALUE=DATE:20151220
SUMMARY:IEEE ITNEC 2016 Notification Due
DESCRIPTION:2016 IEEE Information Technology\,Networking\,Electronic and 
 Automation Control Conference
URL:http://www.wikicfp.com/cfp/servlet/event.showcfp?eventid=47174&copyow
 nerid=81871
UID:cfp554146-N@wikicfp.com
END:VEVENT
BEGIN:VEVENT
DTSTAMP:20260420T082426Z
DTSTART;VALUE=DATE:20151230
SUMMARY:IEEE ITNEC 2016 Final Version Due
DESCRIPTION:2016 IEEE Information Technology\,Networking\,Electronic and 
 Automation Control Conference
URL:http://www.wikicfp.com/cfp/servlet/event.showcfp?eventid=47174&copyow
 nerid=81871
UID:cfp554146-N@wikicfp.com
END:VEVENT
BEGIN:VEVENT
DTSTAMP:20260420T082426Z
DTSTART;VALUE=DATE:20160303
DTEND;VALUE=DATE:20160305
SUMMARY:ICCEI 2016
DESCRIPTION:2016 4th International Conference on Communication and Electr
 onics Information
URL:http://www.wikicfp.com/cfp/servlet/event.showcfp?eventid=48121&copyow
 nerid=81871
UID:cfp554143-E@wikicfp.com
END:VEVENT
BEGIN:VEVENT
DTSTAMP:20260420T082426Z
DTSTART;VALUE=DATE:20151220
SUMMARY:ICCEI 2016 Deadline
DESCRIPTION:2016 4th International Conference on Communication and Electr
 onics Information
URL:http://www.wikicfp.com/cfp/servlet/event.showcfp?eventid=48121&copyow
 nerid=81871
UID:cfp554143-D@wikicfp.com
END:VEVENT
BEGIN:VEVENT
DTSTAMP:20260420T082426Z
DTSTART;VALUE=DATE:20160110
SUMMARY:ICCEI 2016 Notification Due
DESCRIPTION:2016 4th International Conference on Communication and Electr
 onics Information
URL:http://www.wikicfp.com/cfp/servlet/event.showcfp?eventid=48121&copyow
 nerid=81871
UID:cfp554143-N@wikicfp.com
END:VEVENT
BEGIN:VEVENT
DTSTAMP:20260420T082426Z
DTSTART;VALUE=DATE:20160125
SUMMARY:ICCEI 2016 Final Version Due
DESCRIPTION:2016 4th International Conference on Communication and Electr
 onics Information
URL:http://www.wikicfp.com/cfp/servlet/event.showcfp?eventid=48121&copyow
 nerid=81871
UID:cfp554143-N@wikicfp.com
END:VEVENT
BEGIN:VEVENT
DTSTAMP:20260420T082426Z
DTSTART;VALUE=DATE:20160727
DTEND;VALUE=DATE:20160730
SUMMARY:ICCE 2016
DESCRIPTION:THE SIXTH INTERNATIONAL CONFERENCE ON COMMUNICATIONS AND ELEC
 TRONICS 2016 
URL:http://www.wikicfp.com/cfp/servlet/event.showcfp?eventid=47582&copyow
 nerid=81871
UID:cfp569341-E@wikicfp.com
END:VEVENT
BEGIN:VEVENT
DTSTAMP:20260420T082426Z
DTSTART;VALUE=DATE:20160111
SUMMARY:ICCE 2016 Deadline
DESCRIPTION:THE SIXTH INTERNATIONAL CONFERENCE ON COMMUNICATIONS AND ELEC
 TRONICS 2016 
URL:http://www.wikicfp.com/cfp/servlet/event.showcfp?eventid=47582&copyow
 nerid=81871
UID:cfp569341-D@wikicfp.com
END:VEVENT
BEGIN:VEVENT
DTSTAMP:20260420T082426Z
DTSTART;VALUE=DATE:20160330
SUMMARY:ICCE 2016 Notification Due
DESCRIPTION:THE SIXTH INTERNATIONAL CONFERENCE ON COMMUNICATIONS AND ELEC
 TRONICS 2016 
URL:http://www.wikicfp.com/cfp/servlet/event.showcfp?eventid=47582&copyow
 nerid=81871
UID:cfp569341-N@wikicfp.com
END:VEVENT
BEGIN:VEVENT
DTSTAMP:20260420T082426Z
DTSTART;VALUE=DATE:20160411
SUMMARY:ICCE 2016 Final Version Due
DESCRIPTION:THE SIXTH INTERNATIONAL CONFERENCE ON COMMUNICATIONS AND ELEC
 TRONICS 2016 
URL:http://www.wikicfp.com/cfp/servlet/event.showcfp?eventid=47582&copyow
 nerid=81871
UID:cfp569341-N@wikicfp.com
END:VEVENT
BEGIN:VEVENT
DTSTAMP:20260420T082426Z
DTSTART;VALUE=DATE:20160619
DTEND;VALUE=DATE:20160623
SUMMARY:ACNS 2016
DESCRIPTION:14th International Conference on Applied Cryptography and Net
 work Security
URL:http://www.wikicfp.com/cfp/servlet/event.showcfp?eventid=48103&copyow
 nerid=81871
UID:cfp554147-E@wikicfp.com
END:VEVENT
BEGIN:VEVENT
DTSTAMP:20260420T082426Z
DTSTART;VALUE=DATE:20160127
SUMMARY:ACNS 2016 Deadline
DESCRIPTION:14th International Conference on Applied Cryptography and Net
 work Security
URL:http://www.wikicfp.com/cfp/servlet/event.showcfp?eventid=48103&copyow
 nerid=81871
UID:cfp554147-D@wikicfp.com
END:VEVENT
BEGIN:VEVENT
DTSTAMP:20260420T082426Z
DTSTART;VALUE=DATE:20160325
SUMMARY:ACNS 2016 Notification Due
DESCRIPTION:14th International Conference on Applied Cryptography and Net
 work Security
URL:http://www.wikicfp.com/cfp/servlet/event.showcfp?eventid=48103&copyow
 nerid=81871
UID:cfp554147-N@wikicfp.com
END:VEVENT
BEGIN:VEVENT
DTSTAMP:20260420T082426Z
DTSTART;VALUE=DATE:20160402
SUMMARY:ACNS 2016 Final Version Due
DESCRIPTION:14th International Conference on Applied Cryptography and Net
 work Security
URL:http://www.wikicfp.com/cfp/servlet/event.showcfp?eventid=48103&copyow
 nerid=81871
UID:cfp554147-N@wikicfp.com
END:VEVENT
BEGIN:VEVENT
DTSTAMP:20260420T082426Z
DTSTART;VALUE=DATE:20160320
DTEND;VALUE=DATE:20160323
SUMMARY:ACPEE 2016
DESCRIPTION:2016 Asia Conference on Power and Electrical Engineering
URL:http://www.wikicfp.com/cfp/servlet/event.showcfp?eventid=48304&copyow
 nerid=81871
UID:cfp554140-E@wikicfp.com
END:VEVENT
BEGIN:VEVENT
DTSTAMP:20260420T082426Z
DTSTART;VALUE=DATE:20160130
SUMMARY:ACPEE 2016 Deadline
DESCRIPTION:2016 Asia Conference on Power and Electrical Engineering
URL:http://www.wikicfp.com/cfp/servlet/event.showcfp?eventid=48304&copyow
 nerid=81871
UID:cfp554140-D@wikicfp.com
END:VEVENT
BEGIN:VEVENT
DTSTAMP:20260420T082426Z
DTSTART;VALUE=DATE:20160210
SUMMARY:ACPEE 2016 Notification Due
DESCRIPTION:2016 Asia Conference on Power and Electrical Engineering
URL:http://www.wikicfp.com/cfp/servlet/event.showcfp?eventid=48304&copyow
 nerid=81871
UID:cfp554140-N@wikicfp.com
END:VEVENT
BEGIN:VEVENT
DTSTAMP:20260420T082426Z
DTSTART;VALUE=DATE:20160225
SUMMARY:ACPEE 2016 Final Version Due
DESCRIPTION:2016 Asia Conference on Power and Electrical Engineering
URL:http://www.wikicfp.com/cfp/servlet/event.showcfp?eventid=48304&copyow
 nerid=81871
UID:cfp554140-N@wikicfp.com
END:VEVENT
END:VCALENDAR
