BEGIN:VCALENDAR
PRODID:-//WikiCFP//jagritisrvstv 1.0//EN
VERSION:2.0
CALSCALE:GREGORIAN
BEGIN:VEVENT
DTSTAMP:20260420T134833Z
DTSTART;VALUE=DATE:20151130
DTEND;VALUE=DATE:20151202
SUMMARY:DIPDMW 2015
DESCRIPTION:The Second International Conference on Digital Information Pr
 ocessing\, Data Mining\, and Wireless Communications (DIPDMWC2015) 
URL:http://www.wikicfp.com/cfp/servlet/event.showcfp?eventid=45338&copyow
 nerid=81585
UID:cfp552041-E@wikicfp.com
END:VEVENT
BEGIN:VEVENT
DTSTAMP:20260420T134833Z
DTSTART;VALUE=DATE:20151003
SUMMARY:DIPDMW 2015 Deadline
DESCRIPTION:The Second International Conference on Digital Information Pr
 ocessing\, Data Mining\, and Wireless Communications (DIPDMWC2015) 
URL:http://www.wikicfp.com/cfp/servlet/event.showcfp?eventid=45338&copyow
 nerid=81585
UID:cfp552041-D@wikicfp.com
END:VEVENT
BEGIN:VEVENT
DTSTAMP:20260420T134833Z
DTSTART;VALUE=DATE:20151210
DTEND;VALUE=DATE:20151212
SUMMARY:ICCSIT 2015
DESCRIPTION:2015 8th International Conference on Computer Science and Inf
 ormation Technology
URL:http://www.wikicfp.com/cfp/servlet/event.showcfp?eventid=46488&copyow
 nerid=81585
UID:cfp552043-E@wikicfp.com
END:VEVENT
BEGIN:VEVENT
DTSTAMP:20260420T134833Z
DTSTART;VALUE=DATE:20151005
SUMMARY:ICCSIT 2015 Deadline
DESCRIPTION:2015 8th International Conference on Computer Science and Inf
 ormation Technology
URL:http://www.wikicfp.com/cfp/servlet/event.showcfp?eventid=46488&copyow
 nerid=81585
UID:cfp552043-D@wikicfp.com
END:VEVENT
BEGIN:VEVENT
DTSTAMP:20260420T134833Z
DTSTART;VALUE=DATE:20151030
SUMMARY:ICCSIT 2015 Notification Due
DESCRIPTION:2015 8th International Conference on Computer Science and Inf
 ormation Technology
URL:http://www.wikicfp.com/cfp/servlet/event.showcfp?eventid=46488&copyow
 nerid=81585
UID:cfp552043-N@wikicfp.com
END:VEVENT
BEGIN:VEVENT
DTSTAMP:20260420T134833Z
DTSTART;VALUE=DATE:20151110
SUMMARY:ICCSIT 2015 Final Version Due
DESCRIPTION:2015 8th International Conference on Computer Science and Inf
 ormation Technology
URL:http://www.wikicfp.com/cfp/servlet/event.showcfp?eventid=46488&copyow
 nerid=81585
UID:cfp552043-N@wikicfp.com
END:VEVENT
BEGIN:VEVENT
DTSTAMP:20260420T134833Z
DTSTART;VALUE=DATE:20151221
DTEND;VALUE=DATE:20151223
SUMMARY:ICIMT 2015
DESCRIPTION:2015 7th International Conference on Information and Multimed
 ia Technology
URL:http://www.wikicfp.com/cfp/servlet/event.showcfp?eventid=46484&copyow
 nerid=81585
UID:cfp552042-E@wikicfp.com
END:VEVENT
BEGIN:VEVENT
DTSTAMP:20260420T134833Z
DTSTART;VALUE=DATE:20151015
SUMMARY:ICIMT 2015 Deadline
DESCRIPTION:2015 7th International Conference on Information and Multimed
 ia Technology
URL:http://www.wikicfp.com/cfp/servlet/event.showcfp?eventid=46484&copyow
 nerid=81585
UID:cfp552042-D@wikicfp.com
END:VEVENT
BEGIN:VEVENT
DTSTAMP:20260420T134833Z
DTSTART;VALUE=DATE:20151105
SUMMARY:ICIMT 2015 Notification Due
DESCRIPTION:2015 7th International Conference on Information and Multimed
 ia Technology
URL:http://www.wikicfp.com/cfp/servlet/event.showcfp?eventid=46484&copyow
 nerid=81585
UID:cfp552042-N@wikicfp.com
END:VEVENT
BEGIN:VEVENT
DTSTAMP:20260420T134833Z
DTSTART;VALUE=DATE:20151120
SUMMARY:ICIMT 2015 Final Version Due
DESCRIPTION:2015 7th International Conference on Information and Multimed
 ia Technology
URL:http://www.wikicfp.com/cfp/servlet/event.showcfp?eventid=46484&copyow
 nerid=81585
UID:cfp552042-N@wikicfp.com
END:VEVENT
BEGIN:VEVENT
DTSTAMP:20260420T134833Z
DTSTART;VALUE=DATE:20160104
DTEND;VALUE=DATE:20160107
SUMMARY:ICIET 2016
DESCRIPTION:2016 4th International Conference on Information and Educatio
 n Technology
URL:http://www.wikicfp.com/cfp/servlet/event.showcfp?eventid=47263&copyow
 nerid=81585
UID:cfp552044-E@wikicfp.com
END:VEVENT
BEGIN:VEVENT
DTSTAMP:20260420T134833Z
DTSTART;VALUE=DATE:20151020
SUMMARY:ICIET 2016 Deadline
DESCRIPTION:2016 4th International Conference on Information and Educatio
 n Technology
URL:http://www.wikicfp.com/cfp/servlet/event.showcfp?eventid=47263&copyow
 nerid=81585
UID:cfp552044-D@wikicfp.com
END:VEVENT
BEGIN:VEVENT
DTSTAMP:20260420T134833Z
DTSTART;VALUE=DATE:20151110
SUMMARY:ICIET 2016 Notification Due
DESCRIPTION:2016 4th International Conference on Information and Educatio
 n Technology
URL:http://www.wikicfp.com/cfp/servlet/event.showcfp?eventid=47263&copyow
 nerid=81585
UID:cfp552044-N@wikicfp.com
END:VEVENT
BEGIN:VEVENT
DTSTAMP:20260420T134833Z
DTSTART;VALUE=DATE:20151125
SUMMARY:ICIET 2016 Final Version Due
DESCRIPTION:2016 4th International Conference on Information and Educatio
 n Technology
URL:http://www.wikicfp.com/cfp/servlet/event.showcfp?eventid=47263&copyow
 nerid=81585
UID:cfp552044-N@wikicfp.com
END:VEVENT
BEGIN:VEVENT
DTSTAMP:20260420T134833Z
DTSTART;VALUE=DATE:20160411
DTEND;VALUE=DATE:20160414
SUMMARY:SPNGN 2016
DESCRIPTION:The 7th Symposium on Security and Privacy in Next-Generation 
 Networks
URL:http://www.wikicfp.com/cfp/servlet/event.showcfp?eventid=48485&copyow
 nerid=81585
UID:cfp552048-E@wikicfp.com
END:VEVENT
BEGIN:VEVENT
DTSTAMP:20260420T134833Z
DTSTART;VALUE=DATE:20151023
SUMMARY:SPNGN 2016 Deadline
DESCRIPTION:The 7th Symposium on Security and Privacy in Next-Generation 
 Networks
URL:http://www.wikicfp.com/cfp/servlet/event.showcfp?eventid=48485&copyow
 nerid=81585
UID:cfp552048-D@wikicfp.com
END:VEVENT
BEGIN:VEVENT
DTSTAMP:20260420T134833Z
DTSTART;VALUE=DATE:20151218
SUMMARY:SPNGN 2016 Notification Due
DESCRIPTION:The 7th Symposium on Security and Privacy in Next-Generation 
 Networks
URL:http://www.wikicfp.com/cfp/servlet/event.showcfp?eventid=48485&copyow
 nerid=81585
UID:cfp552048-N@wikicfp.com
END:VEVENT
BEGIN:VEVENT
DTSTAMP:20260420T134833Z
DTSTART;VALUE=DATE:20160219
SUMMARY:SPNGN 2016 Final Version Due
DESCRIPTION:The 7th Symposium on Security and Privacy in Next-Generation 
 Networks
URL:http://www.wikicfp.com/cfp/servlet/event.showcfp?eventid=48485&copyow
 nerid=81585
UID:cfp552048-N@wikicfp.com
END:VEVENT
BEGIN:VEVENT
DTSTAMP:20260420T134833Z
DTSTART;VALUE=DATE:20151030
SUMMARY:ISIJ 2015 Deadline
DESCRIPTION:Cybersecurity Awareness\, special issue of Information & Secu
 rity: An International Journal
URL:http://www.wikicfp.com/cfp/servlet/event.showcfp?eventid=48235&copyow
 nerid=81585
UID:cfp552047-D@wikicfp.com
END:VEVENT
BEGIN:VEVENT
DTSTAMP:20260420T134833Z
DTSTART;VALUE=DATE:20151130
SUMMARY:ISIJ 2015 Notification Due
DESCRIPTION:Cybersecurity Awareness\, special issue of Information & Secu
 rity: An International Journal
URL:http://www.wikicfp.com/cfp/servlet/event.showcfp?eventid=48235&copyow
 nerid=81585
UID:cfp552047-N@wikicfp.com
END:VEVENT
BEGIN:VEVENT
DTSTAMP:20260420T134833Z
DTSTART;VALUE=DATE:20151220
SUMMARY:ISIJ 2015 Final Version Due
DESCRIPTION:Cybersecurity Awareness\, special issue of Information & Secu
 rity: An International Journal
URL:http://www.wikicfp.com/cfp/servlet/event.showcfp?eventid=48235&copyow
 nerid=81585
UID:cfp552047-N@wikicfp.com
END:VEVENT
BEGIN:VEVENT
DTSTAMP:20260420T134833Z
DTSTART;VALUE=DATE:20160201
DTEND;VALUE=DATE:20160204
SUMMARY:ICIIE 2016
DESCRIPTION:2016 5th International Conference on Information and Industri
 al Electronics
URL:http://www.wikicfp.com/cfp/servlet/event.showcfp?eventid=47266&copyow
 nerid=81585
UID:cfp552045-E@wikicfp.com
END:VEVENT
BEGIN:VEVENT
DTSTAMP:20260420T134833Z
DTSTART;VALUE=DATE:20151215
SUMMARY:ICIIE 2016 Deadline
DESCRIPTION:2016 5th International Conference on Information and Industri
 al Electronics
URL:http://www.wikicfp.com/cfp/servlet/event.showcfp?eventid=47266&copyow
 nerid=81585
UID:cfp552045-D@wikicfp.com
END:VEVENT
BEGIN:VEVENT
DTSTAMP:20260420T134833Z
DTSTART;VALUE=DATE:20160101
SUMMARY:ICIIE 2016 Notification Due
DESCRIPTION:2016 5th International Conference on Information and Industri
 al Electronics
URL:http://www.wikicfp.com/cfp/servlet/event.showcfp?eventid=47266&copyow
 nerid=81585
UID:cfp552045-N@wikicfp.com
END:VEVENT
BEGIN:VEVENT
DTSTAMP:20260420T134833Z
DTSTART;VALUE=DATE:20160110
SUMMARY:ICIIE 2016 Final Version Due
DESCRIPTION:2016 5th International Conference on Information and Industri
 al Electronics
URL:http://www.wikicfp.com/cfp/servlet/event.showcfp?eventid=47266&copyow
 nerid=81585
UID:cfp552045-N@wikicfp.com
END:VEVENT
BEGIN:VEVENT
DTSTAMP:20260420T134833Z
DTSTART;VALUE=DATE:20160317
DTEND;VALUE=DATE:20160319
SUMMARY:ICITM 2016
DESCRIPTION:2016 the 5th International Conference on Industrial Technolog
 y and Management
URL:http://www.wikicfp.com/cfp/servlet/event.showcfp?eventid=48118&copyow
 nerid=81585
UID:cfp552046-E@wikicfp.com
END:VEVENT
BEGIN:VEVENT
DTSTAMP:20260420T134833Z
DTSTART;VALUE=DATE:20160125
SUMMARY:ICITM 2016 Deadline
DESCRIPTION:2016 the 5th International Conference on Industrial Technolog
 y and Management
URL:http://www.wikicfp.com/cfp/servlet/event.showcfp?eventid=48118&copyow
 nerid=81585
UID:cfp552046-D@wikicfp.com
END:VEVENT
END:VCALENDAR
