BEGIN:VCALENDAR
PRODID:-//WikiCFP//vanderalves 1.0//EN
VERSION:2.0
CALSCALE:GREGORIAN
BEGIN:VEVENT
DTSTAMP:20260420T065538Z
DTSTART;VALUE=DATE:20160127
DTEND;VALUE=DATE:20160130
SUMMARY:VaMoS 2016
DESCRIPTION:Variability Modelling of Software-Intensive Systems
URL:http://www.wikicfp.com/cfp/servlet/event.showcfp?eventid=48503&copyow
 nerid=81427
UID:cfp550979-E@wikicfp.com
END:VEVENT
BEGIN:VEVENT
DTSTAMP:20260420T065538Z
DTSTART;VALUE=DATE:20151109
SUMMARY:VaMoS 2016 Deadline
DESCRIPTION:Variability Modelling of Software-Intensive Systems
URL:http://www.wikicfp.com/cfp/servlet/event.showcfp?eventid=48503&copyow
 nerid=81427
UID:cfp550979-D@wikicfp.com
END:VEVENT
BEGIN:VEVENT
DTSTAMP:20260420T065538Z
DTSTART;VALUE=DATE:20151207
SUMMARY:VaMoS 2016 Notification Due
DESCRIPTION:Variability Modelling of Software-Intensive Systems
URL:http://www.wikicfp.com/cfp/servlet/event.showcfp?eventid=48503&copyow
 nerid=81427
UID:cfp550979-N@wikicfp.com
END:VEVENT
BEGIN:VEVENT
DTSTAMP:20260420T065538Z
DTSTART;VALUE=DATE:20151214
SUMMARY:VaMoS 2016 Final Version Due
DESCRIPTION:Variability Modelling of Software-Intensive Systems
URL:http://www.wikicfp.com/cfp/servlet/event.showcfp?eventid=48503&copyow
 nerid=81427
UID:cfp550979-N@wikicfp.com
END:VEVENT
END:VCALENDAR
