BEGIN:VCALENDAR
PRODID:-//WikiCFP//ETFA2016 1.0//EN
VERSION:2.0
CALSCALE:GREGORIAN
BEGIN:VEVENT
DTSTAMP:20260422T224139Z
DTSTART;VALUE=DATE:20160906
DTEND;VALUE=DATE:20160910
SUMMARY:ETFA 2016
DESCRIPTION:21st IEEE International Conference on Emerging Technologies a
 nd Factory Automation
URL:http://www.wikicfp.com/cfp/servlet/event.showcfp?eventid=48469&copyow
 nerid=81341
UID:cfp550861-E@wikicfp.com
END:VEVENT
BEGIN:VEVENT
DTSTAMP:20260422T224139Z
DTSTART;VALUE=DATE:20160315
SUMMARY:ETFA 2016 Deadline
DESCRIPTION:21st IEEE International Conference on Emerging Technologies a
 nd Factory Automation
URL:http://www.wikicfp.com/cfp/servlet/event.showcfp?eventid=48469&copyow
 nerid=81341
UID:cfp550861-D@wikicfp.com
END:VEVENT
BEGIN:VEVENT
DTSTAMP:20260422T224139Z
DTSTART;VALUE=DATE:20160515
SUMMARY:ETFA 2016 Notification Due
DESCRIPTION:21st IEEE International Conference on Emerging Technologies a
 nd Factory Automation
URL:http://www.wikicfp.com/cfp/servlet/event.showcfp?eventid=48469&copyow
 nerid=81341
UID:cfp550861-N@wikicfp.com
END:VEVENT
BEGIN:VEVENT
DTSTAMP:20260422T224139Z
DTSTART;VALUE=DATE:20160701
SUMMARY:ETFA 2016 Final Version Due
DESCRIPTION:21st IEEE International Conference on Emerging Technologies a
 nd Factory Automation
URL:http://www.wikicfp.com/cfp/servlet/event.showcfp?eventid=48469&copyow
 nerid=81341
UID:cfp550861-N@wikicfp.com
END:VEVENT
END:VCALENDAR
