BEGIN:VCALENDAR
PRODID:-//WikiCFP//spraskar 1.0//EN
VERSION:2.0
CALSCALE:GREGORIAN
BEGIN:VEVENT
DTSTAMP:20260422T103649Z
DTSTART;VALUE=DATE:20170913
DTEND;VALUE=DATE:20170918
SUMMARY:PACT Workshops and Tutorials 2017
DESCRIPTION:International Conference on Parallel Architectures and Compil
 ations Techniques - Workshops and Tutorials
URL:http://www.wikicfp.com/cfp/servlet/event.showcfp?eventid=62406&copyow
 nerid=81224
UID:cfp735135-E@wikicfp.com
END:VEVENT
BEGIN:VEVENT
DTSTAMP:20260422T103649Z
DTSTART;VALUE=DATE:20170407
SUMMARY:PACT Workshops and Tutorials 2017 Deadline
DESCRIPTION:International Conference on Parallel Architectures and Compil
 ations Techniques - Workshops and Tutorials
URL:http://www.wikicfp.com/cfp/servlet/event.showcfp?eventid=62406&copyow
 nerid=81224
UID:cfp735135-D@wikicfp.com
END:VEVENT
BEGIN:VEVENT
DTSTAMP:20260422T103649Z
DTSTART;VALUE=DATE:20170421
SUMMARY:PACT Workshops and Tutorials 2017 Notification Due
DESCRIPTION:International Conference on Parallel Architectures and Compil
 ations Techniques - Workshops and Tutorials
URL:http://www.wikicfp.com/cfp/servlet/event.showcfp?eventid=62406&copyow
 nerid=81224
UID:cfp735135-N@wikicfp.com
END:VEVENT
BEGIN:VEVENT
DTSTAMP:20260422T103649Z
DTSTART;VALUE=DATE:20180224
DTEND;VALUE=DATE:20180301
SUMMARY:HPCA 2018
DESCRIPTION:HPCA 2018: 24th IEEE International Symposium on High-Performa
 nce Computer Architecture
URL:http://www.wikicfp.com/cfp/servlet/event.showcfp?eventid=65259&copyow
 nerid=81224
UID:cfp735134-E@wikicfp.com
END:VEVENT
BEGIN:VEVENT
DTSTAMP:20260422T103649Z
DTSTART;VALUE=DATE:20170725
SUMMARY:HPCA 2018 Abstract Due
DESCRIPTION:HPCA 2018: 24th IEEE International Symposium on High-Performa
 nce Computer Architecture
URL:http://www.wikicfp.com/cfp/servlet/event.showcfp?eventid=65259&copyow
 nerid=81224
UID:cfp735134-A@wikicfp.com
END:VEVENT
BEGIN:VEVENT
DTSTAMP:20260422T103649Z
DTSTART;VALUE=DATE:20170801
SUMMARY:HPCA 2018 Deadline
DESCRIPTION:HPCA 2018: 24th IEEE International Symposium on High-Performa
 nce Computer Architecture
URL:http://www.wikicfp.com/cfp/servlet/event.showcfp?eventid=65259&copyow
 nerid=81224
UID:cfp735134-D@wikicfp.com
END:VEVENT
BEGIN:VEVENT
DTSTAMP:20260422T103649Z
DTSTART;VALUE=DATE:20180930
DTEND;VALUE=DATE:20181006
SUMMARY:CASES 2018
DESCRIPTION:International Conference on Compilers\, Architectures\, and S
 ynthesis for Embedded Systems
URL:http://www.wikicfp.com/cfp/servlet/event.showcfp?eventid=71122&copyow
 nerid=81224
UID:cfp735136-E@wikicfp.com
END:VEVENT
BEGIN:VEVENT
DTSTAMP:20260422T103649Z
DTSTART;VALUE=DATE:20180327
SUMMARY:CASES 2018 Abstract Due
DESCRIPTION:International Conference on Compilers\, Architectures\, and S
 ynthesis for Embedded Systems
URL:http://www.wikicfp.com/cfp/servlet/event.showcfp?eventid=71122&copyow
 nerid=81224
UID:cfp735136-A@wikicfp.com
END:VEVENT
BEGIN:VEVENT
DTSTAMP:20260422T103649Z
DTSTART;VALUE=DATE:20180403
SUMMARY:CASES 2018 Deadline
DESCRIPTION:International Conference on Compilers\, Architectures\, and S
 ynthesis for Embedded Systems
URL:http://www.wikicfp.com/cfp/servlet/event.showcfp?eventid=71122&copyow
 nerid=81224
UID:cfp735136-D@wikicfp.com
END:VEVENT
BEGIN:VEVENT
DTSTAMP:20260422T103649Z
DTSTART;VALUE=DATE:20180701
SUMMARY:CASES 2018 Notification Due
DESCRIPTION:International Conference on Compilers\, Architectures\, and S
 ynthesis for Embedded Systems
URL:http://www.wikicfp.com/cfp/servlet/event.showcfp?eventid=71122&copyow
 nerid=81224
UID:cfp735136-N@wikicfp.com
END:VEVENT
BEGIN:VEVENT
DTSTAMP:20260422T103649Z
DTSTART;VALUE=DATE:20181009
DTEND;VALUE=DATE:20181012
SUMMARY:LCPC 2018
DESCRIPTION:The 31st International Workshop on Languages and Compilers fo
 r Parallel Computing
URL:http://www.wikicfp.com/cfp/servlet/event.showcfp?eventid=77699&copyow
 nerid=81224
UID:cfp735133-E@wikicfp.com
END:VEVENT
BEGIN:VEVENT
DTSTAMP:20260422T103649Z
DTSTART;VALUE=DATE:20180730
SUMMARY:LCPC 2018 Deadline
DESCRIPTION:The 31st International Workshop on Languages and Compilers fo
 r Parallel Computing
URL:http://www.wikicfp.com/cfp/servlet/event.showcfp?eventid=77699&copyow
 nerid=81224
UID:cfp735133-D@wikicfp.com
END:VEVENT
BEGIN:VEVENT
DTSTAMP:20260422T103649Z
DTSTART;VALUE=DATE:20180828
SUMMARY:LCPC 2018 Notification Due
DESCRIPTION:The 31st International Workshop on Languages and Compilers fo
 r Parallel Computing
URL:http://www.wikicfp.com/cfp/servlet/event.showcfp?eventid=77699&copyow
 nerid=81224
UID:cfp735133-N@wikicfp.com
END:VEVENT
BEGIN:VEVENT
DTSTAMP:20260422T103649Z
DTSTART;VALUE=DATE:20181210
SUMMARY:LCPC 2018 Final Version Due
DESCRIPTION:The 31st International Workshop on Languages and Compilers fo
 r Parallel Computing
URL:http://www.wikicfp.com/cfp/servlet/event.showcfp?eventid=77699&copyow
 nerid=81224
UID:cfp735133-N@wikicfp.com
END:VEVENT
BEGIN:VEVENT
DTSTAMP:20260422T103649Z
DTSTART;VALUE=DATE:20190216
DTEND;VALUE=DATE:20190221
SUMMARY:PPoPP 2019
DESCRIPTION:24th ACM SIGPLAN Symposium on Principles and Practice of Para
 llel Programming
URL:http://www.wikicfp.com/cfp/servlet/event.showcfp?eventid=78249&copyow
 nerid=81224
UID:cfp770617-E@wikicfp.com
END:VEVENT
BEGIN:VEVENT
DTSTAMP:20260422T103649Z
DTSTART;VALUE=DATE:20180813
SUMMARY:PPoPP 2019 Abstract Due
DESCRIPTION:24th ACM SIGPLAN Symposium on Principles and Practice of Para
 llel Programming
URL:http://www.wikicfp.com/cfp/servlet/event.showcfp?eventid=78249&copyow
 nerid=81224
UID:cfp770617-A@wikicfp.com
END:VEVENT
BEGIN:VEVENT
DTSTAMP:20260422T103649Z
DTSTART;VALUE=DATE:20180820
SUMMARY:PPoPP 2019 Deadline
DESCRIPTION:24th ACM SIGPLAN Symposium on Principles and Practice of Para
 llel Programming
URL:http://www.wikicfp.com/cfp/servlet/event.showcfp?eventid=78249&copyow
 nerid=81224
UID:cfp770617-D@wikicfp.com
END:VEVENT
BEGIN:VEVENT
DTSTAMP:20260422T103649Z
DTSTART;VALUE=DATE:20181115
SUMMARY:PPoPP 2019 Notification Due
DESCRIPTION:24th ACM SIGPLAN Symposium on Principles and Practice of Para
 llel Programming
URL:http://www.wikicfp.com/cfp/servlet/event.showcfp?eventid=78249&copyow
 nerid=81224
UID:cfp770617-N@wikicfp.com
END:VEVENT
BEGIN:VEVENT
DTSTAMP:20260422T103649Z
DTSTART;VALUE=DATE:20190104
SUMMARY:PPoPP 2019 Final Version Due
DESCRIPTION:24th ACM SIGPLAN Symposium on Principles and Practice of Para
 llel Programming
URL:http://www.wikicfp.com/cfp/servlet/event.showcfp?eventid=78249&copyow
 nerid=81224
UID:cfp770617-N@wikicfp.com
END:VEVENT
BEGIN:VEVENT
DTSTAMP:20260422T103649Z
DTSTART;VALUE=DATE:20190216
DTEND;VALUE=DATE:20190221
SUMMARY:CGO 2019
DESCRIPTION:International Symposium on Code Generation and Optimization
URL:http://www.wikicfp.com/cfp/servlet/event.showcfp?eventid=79451&copyow
 nerid=81224
UID:cfp770618-E@wikicfp.com
END:VEVENT
BEGIN:VEVENT
DTSTAMP:20260422T103649Z
DTSTART;VALUE=DATE:20180831
SUMMARY:CGO 2019 Abstract Due
DESCRIPTION:International Symposium on Code Generation and Optimization
URL:http://www.wikicfp.com/cfp/servlet/event.showcfp?eventid=79451&copyow
 nerid=81224
UID:cfp770618-A@wikicfp.com
END:VEVENT
BEGIN:VEVENT
DTSTAMP:20260422T103649Z
DTSTART;VALUE=DATE:20180907
SUMMARY:CGO 2019 Deadline
DESCRIPTION:International Symposium on Code Generation and Optimization
URL:http://www.wikicfp.com/cfp/servlet/event.showcfp?eventid=79451&copyow
 nerid=81224
UID:cfp770618-D@wikicfp.com
END:VEVENT
BEGIN:VEVENT
DTSTAMP:20260422T103649Z
DTSTART;VALUE=DATE:20181030
SUMMARY:CGO 2019 Notification Due
DESCRIPTION:International Symposium on Code Generation and Optimization
URL:http://www.wikicfp.com/cfp/servlet/event.showcfp?eventid=79451&copyow
 nerid=81224
UID:cfp770618-N@wikicfp.com
END:VEVENT
BEGIN:VEVENT
DTSTAMP:20260422T103649Z
DTSTART;VALUE=DATE:20190216
DTEND;VALUE=DATE:20190218
SUMMARY:CC 2019
DESCRIPTION:Compiler Construction
URL:http://www.wikicfp.com/cfp/servlet/event.showcfp?eventid=80607&copyow
 nerid=81224
UID:cfp770621-E@wikicfp.com
END:VEVENT
BEGIN:VEVENT
DTSTAMP:20260422T103649Z
DTSTART;VALUE=DATE:20181102
SUMMARY:CC 2019 Abstract Due
DESCRIPTION:Compiler Construction
URL:http://www.wikicfp.com/cfp/servlet/event.showcfp?eventid=80607&copyow
 nerid=81224
UID:cfp770621-A@wikicfp.com
END:VEVENT
BEGIN:VEVENT
DTSTAMP:20260422T103649Z
DTSTART;VALUE=DATE:20181107
SUMMARY:CC 2019 Deadline
DESCRIPTION:Compiler Construction
URL:http://www.wikicfp.com/cfp/servlet/event.showcfp?eventid=80607&copyow
 nerid=81224
UID:cfp770621-D@wikicfp.com
END:VEVENT
BEGIN:VEVENT
DTSTAMP:20260422T103649Z
DTSTART;VALUE=DATE:20190101
SUMMARY:CC 2019 Notification Due
DESCRIPTION:Compiler Construction
URL:http://www.wikicfp.com/cfp/servlet/event.showcfp?eventid=80607&copyow
 nerid=81224
UID:cfp770621-N@wikicfp.com
END:VEVENT
BEGIN:VEVENT
DTSTAMP:20260422T103649Z
DTSTART;VALUE=DATE:20190115
SUMMARY:CC 2019 Final Version Due
DESCRIPTION:Compiler Construction
URL:http://www.wikicfp.com/cfp/servlet/event.showcfp?eventid=80607&copyow
 nerid=81224
UID:cfp770621-N@wikicfp.com
END:VEVENT
BEGIN:VEVENT
DTSTAMP:20260422T103649Z
DTSTART;VALUE=DATE:20191119
DTEND;VALUE=DATE:20191122
SUMMARY:SC 2019
DESCRIPTION:Conference on High Performance Computing (Supercomputing)
URL:http://www.wikicfp.com/cfp/servlet/event.showcfp?eventid=84626&copyow
 nerid=81224
UID:cfp770619-E@wikicfp.com
END:VEVENT
BEGIN:VEVENT
DTSTAMP:20260422T103649Z
DTSTART;VALUE=DATE:20190402
SUMMARY:SC 2019 Abstract Due
DESCRIPTION:Conference on High Performance Computing (Supercomputing)
URL:http://www.wikicfp.com/cfp/servlet/event.showcfp?eventid=84626&copyow
 nerid=81224
UID:cfp770619-A@wikicfp.com
END:VEVENT
BEGIN:VEVENT
DTSTAMP:20260422T103649Z
DTSTART;VALUE=DATE:20190410
SUMMARY:SC 2019 Deadline
DESCRIPTION:Conference on High Performance Computing (Supercomputing)
URL:http://www.wikicfp.com/cfp/servlet/event.showcfp?eventid=84626&copyow
 nerid=81224
UID:cfp770619-D@wikicfp.com
END:VEVENT
BEGIN:VEVENT
DTSTAMP:20260422T103649Z
DTSTART;VALUE=DATE:20190615
SUMMARY:SC 2019 Notification Due
DESCRIPTION:Conference on High Performance Computing (Supercomputing)
URL:http://www.wikicfp.com/cfp/servlet/event.showcfp?eventid=84626&copyow
 nerid=81224
UID:cfp770619-N@wikicfp.com
END:VEVENT
BEGIN:VEVENT
DTSTAMP:20260422T103649Z
DTSTART;VALUE=DATE:20190828
SUMMARY:SC 2019 Final Version Due
DESCRIPTION:Conference on High Performance Computing (Supercomputing)
URL:http://www.wikicfp.com/cfp/servlet/event.showcfp?eventid=84626&copyow
 nerid=81224
UID:cfp770619-N@wikicfp.com
END:VEVENT
BEGIN:VEVENT
DTSTAMP:20260422T103649Z
DTSTART;VALUE=DATE:20191013
DTEND;VALUE=DATE:20191019
SUMMARY:CASES 2019
DESCRIPTION:International Conference on Compilers\, Architectures\, and S
 ynthesis for Embedded Systems
URL:http://www.wikicfp.com/cfp/servlet/event.showcfp?eventid=83545&copyow
 nerid=81224
UID:cfp824819-E@wikicfp.com
END:VEVENT
BEGIN:VEVENT
DTSTAMP:20260422T103649Z
DTSTART;VALUE=DATE:20190405
SUMMARY:CASES 2019 Abstract Due
DESCRIPTION:International Conference on Compilers\, Architectures\, and S
 ynthesis for Embedded Systems
URL:http://www.wikicfp.com/cfp/servlet/event.showcfp?eventid=83545&copyow
 nerid=81224
UID:cfp824819-A@wikicfp.com
END:VEVENT
BEGIN:VEVENT
DTSTAMP:20260422T103649Z
DTSTART;VALUE=DATE:20190412
SUMMARY:CASES 2019 Deadline
DESCRIPTION:International Conference on Compilers\, Architectures\, and S
 ynthesis for Embedded Systems
URL:http://www.wikicfp.com/cfp/servlet/event.showcfp?eventid=83545&copyow
 nerid=81224
UID:cfp824819-D@wikicfp.com
END:VEVENT
BEGIN:VEVENT
DTSTAMP:20260422T103649Z
DTSTART;VALUE=DATE:20190710
SUMMARY:CASES 2019 Notification Due
DESCRIPTION:International Conference on Compilers\, Architectures\, and S
 ynthesis for Embedded Systems
URL:http://www.wikicfp.com/cfp/servlet/event.showcfp?eventid=83545&copyow
 nerid=81224
UID:cfp824819-N@wikicfp.com
END:VEVENT
BEGIN:VEVENT
DTSTAMP:20260422T103649Z
DTSTART;VALUE=DATE:20190923
DTEND;VALUE=DATE:20190927
SUMMARY:PACT 2019
DESCRIPTION:28th International Conference on Parallel Architectures and C
 ompilation Techniques
URL:http://www.wikicfp.com/cfp/servlet/event.showcfp?eventid=84848&copyow
 nerid=81224
UID:cfp770620-E@wikicfp.com
END:VEVENT
BEGIN:VEVENT
DTSTAMP:20260422T103649Z
DTSTART;VALUE=DATE:20190411
SUMMARY:PACT 2019 Abstract Due
DESCRIPTION:28th International Conference on Parallel Architectures and C
 ompilation Techniques
URL:http://www.wikicfp.com/cfp/servlet/event.showcfp?eventid=84848&copyow
 nerid=81224
UID:cfp770620-A@wikicfp.com
END:VEVENT
BEGIN:VEVENT
DTSTAMP:20260422T103649Z
DTSTART;VALUE=DATE:20190415
SUMMARY:PACT 2019 Deadline
DESCRIPTION:28th International Conference on Parallel Architectures and C
 ompilation Techniques
URL:http://www.wikicfp.com/cfp/servlet/event.showcfp?eventid=84848&copyow
 nerid=81224
UID:cfp770620-D@wikicfp.com
END:VEVENT
BEGIN:VEVENT
DTSTAMP:20260422T103649Z
DTSTART;VALUE=DATE:20190608
SUMMARY:PACT 2019 Notification Due
DESCRIPTION:28th International Conference on Parallel Architectures and C
 ompilation Techniques
URL:http://www.wikicfp.com/cfp/servlet/event.showcfp?eventid=84848&copyow
 nerid=81224
UID:cfp770620-N@wikicfp.com
END:VEVENT
BEGIN:VEVENT
DTSTAMP:20260422T103649Z
DTSTART;VALUE=DATE:20190823
SUMMARY:PACT 2019 Final Version Due
DESCRIPTION:28th International Conference on Parallel Architectures and C
 ompilation Techniques
URL:http://www.wikicfp.com/cfp/servlet/event.showcfp?eventid=84848&copyow
 nerid=81224
UID:cfp770620-N@wikicfp.com
END:VEVENT
BEGIN:VEVENT
DTSTAMP:20260422T103649Z
DTSTART;VALUE=DATE:20200222
DTEND;VALUE=DATE:20200227
SUMMARY:HPCA 2020
DESCRIPTION:High-Performance Computer Architecture
URL:http://www.wikicfp.com/cfp/servlet/event.showcfp?eventid=90696&copyow
 nerid=81224
UID:cfp791520-E@wikicfp.com
END:VEVENT
BEGIN:VEVENT
DTSTAMP:20260422T103649Z
DTSTART;VALUE=DATE:20190730
SUMMARY:HPCA 2020 Abstract Due
DESCRIPTION:High-Performance Computer Architecture
URL:http://www.wikicfp.com/cfp/servlet/event.showcfp?eventid=90696&copyow
 nerid=81224
UID:cfp791520-A@wikicfp.com
END:VEVENT
BEGIN:VEVENT
DTSTAMP:20260422T103649Z
DTSTART;VALUE=DATE:20190806
SUMMARY:HPCA 2020 Deadline
DESCRIPTION:High-Performance Computer Architecture
URL:http://www.wikicfp.com/cfp/servlet/event.showcfp?eventid=90696&copyow
 nerid=81224
UID:cfp791520-D@wikicfp.com
END:VEVENT
BEGIN:VEVENT
DTSTAMP:20260422T103649Z
DTSTART;VALUE=DATE:20191106
SUMMARY:HPCA 2020 Notification Due
DESCRIPTION:High-Performance Computer Architecture
URL:http://www.wikicfp.com/cfp/servlet/event.showcfp?eventid=90696&copyow
 nerid=81224
UID:cfp791520-N@wikicfp.com
END:VEVENT
END:VCALENDAR
