BEGIN:VCALENDAR
PRODID:-//WikiCFP//Semoo 1.0//EN
VERSION:2.0
CALSCALE:GREGORIAN
BEGIN:VEVENT
DTSTAMP:20260424T162715Z
DTSTART;VALUE=DATE:20151014
DTEND;VALUE=DATE:20151018
SUMMARY:SSH  2015
DESCRIPTION:SSH 2015: The 3rd International Workshop on Service Science f
 or e-Health
URL:http://www.wikicfp.com/cfp/servlet/event.showcfp?eventid=46326&copyow
 nerid=81216
UID:cfp549488-E@wikicfp.com
END:VEVENT
BEGIN:VEVENT
DTSTAMP:20260424T162715Z
DTSTART;VALUE=DATE:20150715
SUMMARY:SSH  2015 Deadline
DESCRIPTION:SSH 2015: The 3rd International Workshop on Service Science f
 or e-Health
URL:http://www.wikicfp.com/cfp/servlet/event.showcfp?eventid=46326&copyow
 nerid=81216
UID:cfp549488-D@wikicfp.com
END:VEVENT
BEGIN:VEVENT
DTSTAMP:20260424T162715Z
DTSTART;VALUE=DATE:20150731
SUMMARY:SSH  2015 Notification Due
DESCRIPTION:SSH 2015: The 3rd International Workshop on Service Science f
 or e-Health
URL:http://www.wikicfp.com/cfp/servlet/event.showcfp?eventid=46326&copyow
 nerid=81216
UID:cfp549488-N@wikicfp.com
END:VEVENT
BEGIN:VEVENT
DTSTAMP:20260424T162715Z
DTSTART;VALUE=DATE:20150831
SUMMARY:SSH  2015 Final Version Due
DESCRIPTION:SSH 2015: The 3rd International Workshop on Service Science f
 or e-Health
URL:http://www.wikicfp.com/cfp/servlet/event.showcfp?eventid=46326&copyow
 nerid=81216
UID:cfp549488-N@wikicfp.com
END:VEVENT
BEGIN:VEVENT
DTSTAMP:20260424T162715Z
DTSTART;VALUE=DATE:20151207
DTEND;VALUE=DATE:20151211
SUMMARY:UCC  2015
DESCRIPTION:IEEE/ACM International Conference on Utility and Cloud Comput
 ing
URL:http://www.wikicfp.com/cfp/servlet/event.showcfp?eventid=43334&copyow
 nerid=81216
UID:cfp549484-E@wikicfp.com
END:VEVENT
BEGIN:VEVENT
DTSTAMP:20260424T162715Z
DTSTART;VALUE=DATE:20150717
SUMMARY:UCC  2015 Deadline
DESCRIPTION:IEEE/ACM International Conference on Utility and Cloud Comput
 ing
URL:http://www.wikicfp.com/cfp/servlet/event.showcfp?eventid=43334&copyow
 nerid=81216
UID:cfp549484-D@wikicfp.com
END:VEVENT
BEGIN:VEVENT
DTSTAMP:20260424T162715Z
DTSTART;VALUE=DATE:20150821
SUMMARY:UCC  2015 Notification Due
DESCRIPTION:IEEE/ACM International Conference on Utility and Cloud Comput
 ing
URL:http://www.wikicfp.com/cfp/servlet/event.showcfp?eventid=43334&copyow
 nerid=81216
UID:cfp549484-N@wikicfp.com
END:VEVENT
BEGIN:VEVENT
DTSTAMP:20260424T162715Z
DTSTART;VALUE=DATE:20151207
DTEND;VALUE=DATE:20151211
SUMMARY:UCC  2015
DESCRIPTION:IEEE/ACM UCC 2015: Combined Call for Workshops Papers
URL:http://www.wikicfp.com/cfp/servlet/event.showcfp?eventid=47335&copyow
 nerid=81216
UID:cfp549494-E@wikicfp.com
END:VEVENT
BEGIN:VEVENT
DTSTAMP:20260424T162715Z
DTSTART;VALUE=DATE:20150720
SUMMARY:UCC  2015 Deadline
DESCRIPTION:IEEE/ACM UCC 2015: Combined Call for Workshops Papers
URL:http://www.wikicfp.com/cfp/servlet/event.showcfp?eventid=47335&copyow
 nerid=81216
UID:cfp549494-D@wikicfp.com
END:VEVENT
BEGIN:VEVENT
DTSTAMP:20260424T162715Z
DTSTART;VALUE=DATE:20150831
SUMMARY:UCC  2015 Notification Due
DESCRIPTION:IEEE/ACM UCC 2015: Combined Call for Workshops Papers
URL:http://www.wikicfp.com/cfp/servlet/event.showcfp?eventid=47335&copyow
 nerid=81216
UID:cfp549494-N@wikicfp.com
END:VEVENT
BEGIN:VEVENT
DTSTAMP:20260424T162715Z
DTSTART;VALUE=DATE:20150921
SUMMARY:UCC  2015 Final Version Due
DESCRIPTION:IEEE/ACM UCC 2015: Combined Call for Workshops Papers
URL:http://www.wikicfp.com/cfp/servlet/event.showcfp?eventid=47335&copyow
 nerid=81216
UID:cfp549494-N@wikicfp.com
END:VEVENT
BEGIN:VEVENT
DTSTAMP:20260424T162715Z
DTSTART;VALUE=DATE:20151116
DTEND;VALUE=DATE:20151120
SUMMARY:ISC 2015
DESCRIPTION:ISC 2015 - 2ND WORKSHOP ON INTELLIGENT SERVICE CLOUDS
URL:http://www.wikicfp.com/cfp/servlet/event.showcfp?eventid=47371&copyow
 nerid=81216
UID:cfp549496-E@wikicfp.com
END:VEVENT
BEGIN:VEVENT
DTSTAMP:20260424T162715Z
DTSTART;VALUE=DATE:20150730
SUMMARY:ISC 2015 Deadline
DESCRIPTION:ISC 2015 - 2ND WORKSHOP ON INTELLIGENT SERVICE CLOUDS
URL:http://www.wikicfp.com/cfp/servlet/event.showcfp?eventid=47371&copyow
 nerid=81216
UID:cfp549496-D@wikicfp.com
END:VEVENT
BEGIN:VEVENT
DTSTAMP:20260424T162715Z
DTSTART;VALUE=DATE:20150830
SUMMARY:ISC 2015 Notification Due
DESCRIPTION:ISC 2015 - 2ND WORKSHOP ON INTELLIGENT SERVICE CLOUDS
URL:http://www.wikicfp.com/cfp/servlet/event.showcfp?eventid=47371&copyow
 nerid=81216
UID:cfp549496-N@wikicfp.com
END:VEVENT
BEGIN:VEVENT
DTSTAMP:20260424T162715Z
DTSTART;VALUE=DATE:20150930
SUMMARY:ISC 2015 Final Version Due
DESCRIPTION:ISC 2015 - 2ND WORKSHOP ON INTELLIGENT SERVICE CLOUDS
URL:http://www.wikicfp.com/cfp/servlet/event.showcfp?eventid=47371&copyow
 nerid=81216
UID:cfp549496-N@wikicfp.com
END:VEVENT
BEGIN:VEVENT
DTSTAMP:20260424T162715Z
DTSTART;VALUE=DATE:20150731
SUMMARY:IJIPT 2015 Deadline
DESCRIPTION:Int Journal of Internet Protocol Technology - Special Issue o
 n Supporting Wireless Sensor Networks with Big Data and Cloud Computing 
 Technologies
URL:http://www.wikicfp.com/cfp/servlet/event.showcfp?eventid=45243&copyow
 nerid=81216
UID:cfp549485-D@wikicfp.com
END:VEVENT
BEGIN:VEVENT
DTSTAMP:20260424T162715Z
DTSTART;VALUE=DATE:20150915
SUMMARY:IJIPT 2015 Notification Due
DESCRIPTION:Int Journal of Internet Protocol Technology - Special Issue o
 n Supporting Wireless Sensor Networks with Big Data and Cloud Computing 
 Technologies
URL:http://www.wikicfp.com/cfp/servlet/event.showcfp?eventid=45243&copyow
 nerid=81216
UID:cfp549485-N@wikicfp.com
END:VEVENT
BEGIN:VEVENT
DTSTAMP:20260424T162715Z
DTSTART;VALUE=DATE:20151015
SUMMARY:IJIPT 2015 Final Version Due
DESCRIPTION:Int Journal of Internet Protocol Technology - Special Issue o
 n Supporting Wireless Sensor Networks with Big Data and Cloud Computing 
 Technologies
URL:http://www.wikicfp.com/cfp/servlet/event.showcfp?eventid=45243&copyow
 nerid=81216
UID:cfp549485-N@wikicfp.com
END:VEVENT
BEGIN:VEVENT
DTSTAMP:20260424T162715Z
DTSTART;VALUE=DATE:20151030
DTEND;VALUE=DATE:20151102
SUMMARY:CBD 2015
DESCRIPTION:The Third International Conference on Advanced Cloud and Big 
 Data
URL:http://www.wikicfp.com/cfp/servlet/event.showcfp?eventid=45818&copyow
 nerid=81216
UID:cfp549486-E@wikicfp.com
END:VEVENT
BEGIN:VEVENT
DTSTAMP:20260424T162715Z
DTSTART;VALUE=DATE:20150731
SUMMARY:CBD 2015 Deadline
DESCRIPTION:The Third International Conference on Advanced Cloud and Big 
 Data
URL:http://www.wikicfp.com/cfp/servlet/event.showcfp?eventid=45818&copyow
 nerid=81216
UID:cfp549486-D@wikicfp.com
END:VEVENT
BEGIN:VEVENT
DTSTAMP:20260424T162715Z
DTSTART;VALUE=DATE:20150901
SUMMARY:CBD 2015 Notification Due
DESCRIPTION:The Third International Conference on Advanced Cloud and Big 
 Data
URL:http://www.wikicfp.com/cfp/servlet/event.showcfp?eventid=45818&copyow
 nerid=81216
UID:cfp549486-N@wikicfp.com
END:VEVENT
BEGIN:VEVENT
DTSTAMP:20260424T162715Z
DTSTART;VALUE=DATE:20150920
SUMMARY:CBD 2015 Final Version Due
DESCRIPTION:The Third International Conference on Advanced Cloud and Big 
 Data
URL:http://www.wikicfp.com/cfp/servlet/event.showcfp?eventid=45818&copyow
 nerid=81216
UID:cfp549486-N@wikicfp.com
END:VEVENT
BEGIN:VEVENT
DTSTAMP:20260424T162715Z
DTSTART;VALUE=DATE:20151207
DTEND;VALUE=DATE:20151211
SUMMARY:UCC  2015
DESCRIPTION:IEEE/ACM UCC 2015: Final Call for Tutorial Proposals
URL:http://www.wikicfp.com/cfp/servlet/event.showcfp?eventid=47341&copyow
 nerid=81216
UID:cfp549495-E@wikicfp.com
END:VEVENT
BEGIN:VEVENT
DTSTAMP:20260424T162715Z
DTSTART;VALUE=DATE:20150807
SUMMARY:UCC  2015 Deadline
DESCRIPTION:IEEE/ACM UCC 2015: Final Call for Tutorial Proposals
URL:http://www.wikicfp.com/cfp/servlet/event.showcfp?eventid=47341&copyow
 nerid=81216
UID:cfp549495-D@wikicfp.com
END:VEVENT
BEGIN:VEVENT
DTSTAMP:20260424T162715Z
DTSTART;VALUE=DATE:20150814
SUMMARY:UCC  2015 Notification Due
DESCRIPTION:IEEE/ACM UCC 2015: Final Call for Tutorial Proposals
URL:http://www.wikicfp.com/cfp/servlet/event.showcfp?eventid=47341&copyow
 nerid=81216
UID:cfp549495-N@wikicfp.com
END:VEVENT
BEGIN:VEVENT
DTSTAMP:20260424T162715Z
DTSTART;VALUE=DATE:20150914
SUMMARY:UCC  2015 Final Version Due
DESCRIPTION:IEEE/ACM UCC 2015: Final Call for Tutorial Proposals
URL:http://www.wikicfp.com/cfp/servlet/event.showcfp?eventid=47341&copyow
 nerid=81216
UID:cfp549495-N@wikicfp.com
END:VEVENT
BEGIN:VEVENT
DTSTAMP:20260424T162715Z
DTSTART;VALUE=DATE:20151122
DTEND;VALUE=DATE:20151126
SUMMARY:BusinessClouds 2015
DESCRIPTION:The 2nd international workshop on new models\, algorithms and
  simulation tools for cloud computing\, cloud brokering\, Internet shopp
 ing\, and e-commerce trading
URL:http://www.wikicfp.com/cfp/servlet/event.showcfp?eventid=46844&copyow
 nerid=81216
UID:cfp549492-E@wikicfp.com
END:VEVENT
BEGIN:VEVENT
DTSTAMP:20260424T162715Z
DTSTART;VALUE=DATE:20150810
SUMMARY:BusinessClouds 2015 Deadline
DESCRIPTION:The 2nd international workshop on new models\, algorithms and
  simulation tools for cloud computing\, cloud brokering\, Internet shopp
 ing\, and e-commerce trading
URL:http://www.wikicfp.com/cfp/servlet/event.showcfp?eventid=46844&copyow
 nerid=81216
UID:cfp549492-D@wikicfp.com
END:VEVENT
BEGIN:VEVENT
DTSTAMP:20260424T162715Z
DTSTART;VALUE=DATE:20150901
SUMMARY:BusinessClouds 2015 Notification Due
DESCRIPTION:The 2nd international workshop on new models\, algorithms and
  simulation tools for cloud computing\, cloud brokering\, Internet shopp
 ing\, and e-commerce trading
URL:http://www.wikicfp.com/cfp/servlet/event.showcfp?eventid=46844&copyow
 nerid=81216
UID:cfp549492-N@wikicfp.com
END:VEVENT
BEGIN:VEVENT
DTSTAMP:20260424T162715Z
DTSTART;VALUE=DATE:20150915
SUMMARY:BusinessClouds 2015 Final Version Due
DESCRIPTION:The 2nd international workshop on new models\, algorithms and
  simulation tools for cloud computing\, cloud brokering\, Internet shopp
 ing\, and e-commerce trading
URL:http://www.wikicfp.com/cfp/servlet/event.showcfp?eventid=46844&copyow
 nerid=81216
UID:cfp549492-N@wikicfp.com
END:VEVENT
BEGIN:VEVENT
DTSTAMP:20260424T162715Z
DTSTART;VALUE=DATE:20151102
DTEND;VALUE=DATE:20151106
SUMMARY:WoSoCer 2015
DESCRIPTION:5th International IEEE Workshop on Software Certification
URL:http://www.wikicfp.com/cfp/servlet/event.showcfp?eventid=47137&copyow
 nerid=81216
UID:cfp549493-E@wikicfp.com
END:VEVENT
BEGIN:VEVENT
DTSTAMP:20260424T162715Z
DTSTART;VALUE=DATE:20150814
SUMMARY:WoSoCer 2015 Deadline
DESCRIPTION:5th International IEEE Workshop on Software Certification
URL:http://www.wikicfp.com/cfp/servlet/event.showcfp?eventid=47137&copyow
 nerid=81216
UID:cfp549493-D@wikicfp.com
END:VEVENT
BEGIN:VEVENT
DTSTAMP:20260424T162715Z
DTSTART;VALUE=DATE:20150904
SUMMARY:WoSoCer 2015 Notification Due
DESCRIPTION:5th International IEEE Workshop on Software Certification
URL:http://www.wikicfp.com/cfp/servlet/event.showcfp?eventid=47137&copyow
 nerid=81216
UID:cfp549493-N@wikicfp.com
END:VEVENT
BEGIN:VEVENT
DTSTAMP:20260424T162715Z
DTSTART;VALUE=DATE:20150915
SUMMARY:WoSoCer 2015 Final Version Due
DESCRIPTION:5th International IEEE Workshop on Software Certification
URL:http://www.wikicfp.com/cfp/servlet/event.showcfp?eventid=47137&copyow
 nerid=81216
UID:cfp549493-N@wikicfp.com
END:VEVENT
BEGIN:VEVENT
DTSTAMP:20260424T162715Z
DTSTART;VALUE=DATE:20151130
DTEND;VALUE=DATE:20151204
SUMMARY:QAC 2015
DESCRIPTION:IEEE International Workshop of Quality of Service Assurance i
 n the Cloud [in Conjunction with IEEE CLoudCom]
URL:http://www.wikicfp.com/cfp/servlet/event.showcfp?eventid=46473&copyow
 nerid=81216
UID:cfp549490-E@wikicfp.com
END:VEVENT
BEGIN:VEVENT
DTSTAMP:20260424T162715Z
DTSTART;VALUE=DATE:20150815
SUMMARY:QAC 2015 Deadline
DESCRIPTION:IEEE International Workshop of Quality of Service Assurance i
 n the Cloud [in Conjunction with IEEE CLoudCom]
URL:http://www.wikicfp.com/cfp/servlet/event.showcfp?eventid=46473&copyow
 nerid=81216
UID:cfp549490-D@wikicfp.com
END:VEVENT
BEGIN:VEVENT
DTSTAMP:20260424T162715Z
DTSTART;VALUE=DATE:20150901
SUMMARY:QAC 2015 Notification Due
DESCRIPTION:IEEE International Workshop of Quality of Service Assurance i
 n the Cloud [in Conjunction with IEEE CLoudCom]
URL:http://www.wikicfp.com/cfp/servlet/event.showcfp?eventid=46473&copyow
 nerid=81216
UID:cfp549490-N@wikicfp.com
END:VEVENT
BEGIN:VEVENT
DTSTAMP:20260424T162715Z
DTSTART;VALUE=DATE:20150915
SUMMARY:QAC 2015 Final Version Due
DESCRIPTION:IEEE International Workshop of Quality of Service Assurance i
 n the Cloud [in Conjunction with IEEE CLoudCom]
URL:http://www.wikicfp.com/cfp/servlet/event.showcfp?eventid=46473&copyow
 nerid=81216
UID:cfp549490-N@wikicfp.com
END:VEVENT
BEGIN:VEVENT
DTSTAMP:20260424T162715Z
DTSTART;VALUE=DATE:20151207
DTEND;VALUE=DATE:20151210
SUMMARY:APSCC  2015
DESCRIPTION:The Ninth Asia-Pacific Services Computing Conference (APSCC 2
 015)
URL:http://www.wikicfp.com/cfp/servlet/event.showcfp?eventid=46378&copyow
 nerid=81216
UID:cfp549489-E@wikicfp.com
END:VEVENT
BEGIN:VEVENT
DTSTAMP:20260424T162715Z
DTSTART;VALUE=DATE:20150816
SUMMARY:APSCC  2015 Deadline
DESCRIPTION:The Ninth Asia-Pacific Services Computing Conference (APSCC 2
 015)
URL:http://www.wikicfp.com/cfp/servlet/event.showcfp?eventid=46378&copyow
 nerid=81216
UID:cfp549489-D@wikicfp.com
END:VEVENT
BEGIN:VEVENT
DTSTAMP:20260424T162715Z
DTSTART;VALUE=DATE:20150906
SUMMARY:APSCC  2015 Notification Due
DESCRIPTION:The Ninth Asia-Pacific Services Computing Conference (APSCC 2
 015)
URL:http://www.wikicfp.com/cfp/servlet/event.showcfp?eventid=46378&copyow
 nerid=81216
UID:cfp549489-N@wikicfp.com
END:VEVENT
BEGIN:VEVENT
DTSTAMP:20260424T162715Z
DTSTART;VALUE=DATE:20150920
SUMMARY:APSCC  2015 Final Version Due
DESCRIPTION:The Ninth Asia-Pacific Services Computing Conference (APSCC 2
 015)
URL:http://www.wikicfp.com/cfp/servlet/event.showcfp?eventid=46378&copyow
 nerid=81216
UID:cfp549489-N@wikicfp.com
END:VEVENT
BEGIN:VEVENT
DTSTAMP:20260424T162715Z
DTSTART;VALUE=DATE:20151021
DTEND;VALUE=DATE:20151024
SUMMARY:CRoNe 2015
DESCRIPTION:Call for Posters - 1st Congress on Robotics and Neuroscience
URL:http://www.wikicfp.com/cfp/servlet/event.showcfp?eventid=47629&copyow
 nerid=81216
UID:cfp549483-E@wikicfp.com
END:VEVENT
BEGIN:VEVENT
DTSTAMP:20260424T162715Z
DTSTART;VALUE=DATE:20150816
SUMMARY:CRoNe 2015 Deadline
DESCRIPTION:Call for Posters - 1st Congress on Robotics and Neuroscience
URL:http://www.wikicfp.com/cfp/servlet/event.showcfp?eventid=47629&copyow
 nerid=81216
UID:cfp549483-D@wikicfp.com
END:VEVENT
BEGIN:VEVENT
DTSTAMP:20260424T162715Z
DTSTART;VALUE=DATE:20150904
SUMMARY:CRoNe 2015 Notification Due
DESCRIPTION:Call for Posters - 1st Congress on Robotics and Neuroscience
URL:http://www.wikicfp.com/cfp/servlet/event.showcfp?eventid=47629&copyow
 nerid=81216
UID:cfp549483-N@wikicfp.com
END:VEVENT
BEGIN:VEVENT
DTSTAMP:20260424T162715Z
DTSTART;VALUE=DATE:20151018
DTEND;VALUE=DATE:20151021
SUMMARY:WoTBD 2015
DESCRIPTION:2015 International Symposium on Web of Things and Big Data
URL:http://www.wikicfp.com/cfp/servlet/event.showcfp?eventid=45869&copyow
 nerid=81216
UID:cfp549487-E@wikicfp.com
END:VEVENT
BEGIN:VEVENT
DTSTAMP:20260424T162715Z
DTSTART;VALUE=DATE:20150830
SUMMARY:WoTBD 2015 Deadline
DESCRIPTION:2015 International Symposium on Web of Things and Big Data
URL:http://www.wikicfp.com/cfp/servlet/event.showcfp?eventid=45869&copyow
 nerid=81216
UID:cfp549487-D@wikicfp.com
END:VEVENT
BEGIN:VEVENT
DTSTAMP:20260424T162715Z
DTSTART;VALUE=DATE:20150915
SUMMARY:WoTBD 2015 Notification Due
DESCRIPTION:2015 International Symposium on Web of Things and Big Data
URL:http://www.wikicfp.com/cfp/servlet/event.showcfp?eventid=45869&copyow
 nerid=81216
UID:cfp549487-N@wikicfp.com
END:VEVENT
BEGIN:VEVENT
DTSTAMP:20260424T162715Z
DTSTART;VALUE=DATE:20150930
SUMMARY:WoTBD 2015 Final Version Due
DESCRIPTION:2015 International Symposium on Web of Things and Big Data
URL:http://www.wikicfp.com/cfp/servlet/event.showcfp?eventid=45869&copyow
 nerid=81216
UID:cfp549487-N@wikicfp.com
END:VEVENT
BEGIN:VEVENT
DTSTAMP:20260424T162715Z
DTSTART;VALUE=DATE:20151207
DTEND;VALUE=DATE:20151211
SUMMARY:NetCloud 2015
DESCRIPTION:The 5th workshop on Network Infrastructure Services as part o
 f Cloud Computing (NetCloud 2015)
URL:http://www.wikicfp.com/cfp/servlet/event.showcfp?eventid=46738&copyow
 nerid=81216
UID:cfp549491-E@wikicfp.com
END:VEVENT
BEGIN:VEVENT
DTSTAMP:20260424T162715Z
DTSTART;VALUE=DATE:20150831
SUMMARY:NetCloud 2015 Deadline
DESCRIPTION:The 5th workshop on Network Infrastructure Services as part o
 f Cloud Computing (NetCloud 2015)
URL:http://www.wikicfp.com/cfp/servlet/event.showcfp?eventid=46738&copyow
 nerid=81216
UID:cfp549491-D@wikicfp.com
END:VEVENT
BEGIN:VEVENT
DTSTAMP:20260424T162715Z
DTSTART;VALUE=DATE:20150911
SUMMARY:NetCloud 2015 Notification Due
DESCRIPTION:The 5th workshop on Network Infrastructure Services as part o
 f Cloud Computing (NetCloud 2015)
URL:http://www.wikicfp.com/cfp/servlet/event.showcfp?eventid=46738&copyow
 nerid=81216
UID:cfp549491-N@wikicfp.com
END:VEVENT
BEGIN:VEVENT
DTSTAMP:20260424T162715Z
DTSTART;VALUE=DATE:20150925
SUMMARY:NetCloud 2015 Final Version Due
DESCRIPTION:The 5th workshop on Network Infrastructure Services as part o
 f Cloud Computing (NetCloud 2015)
URL:http://www.wikicfp.com/cfp/servlet/event.showcfp?eventid=46738&copyow
 nerid=81216
UID:cfp549491-N@wikicfp.com
END:VEVENT
BEGIN:VEVENT
DTSTAMP:20260424T162715Z
DTSTART;VALUE=DATE:20151116
DTEND;VALUE=DATE:20151117
SUMMARY:NDM 2015
DESCRIPTION:Network-aware Data Management: ACM SIGHPC\, IEEE/ACM SC'15 wo
 rkshop
URL:http://www.wikicfp.com/cfp/servlet/event.showcfp?eventid=47448&copyow
 nerid=81216
UID:cfp549497-E@wikicfp.com
END:VEVENT
BEGIN:VEVENT
DTSTAMP:20260424T162715Z
DTSTART;VALUE=DATE:20150824
SUMMARY:NDM 2015 Abstract Due
DESCRIPTION:Network-aware Data Management: ACM SIGHPC\, IEEE/ACM SC'15 wo
 rkshop
URL:http://www.wikicfp.com/cfp/servlet/event.showcfp?eventid=47448&copyow
 nerid=81216
UID:cfp549497-A@wikicfp.com
END:VEVENT
BEGIN:VEVENT
DTSTAMP:20260424T162715Z
DTSTART;VALUE=DATE:20150831
SUMMARY:NDM 2015 Deadline
DESCRIPTION:Network-aware Data Management: ACM SIGHPC\, IEEE/ACM SC'15 wo
 rkshop
URL:http://www.wikicfp.com/cfp/servlet/event.showcfp?eventid=47448&copyow
 nerid=81216
UID:cfp549497-D@wikicfp.com
END:VEVENT
BEGIN:VEVENT
DTSTAMP:20260424T162715Z
DTSTART;VALUE=DATE:20150925
SUMMARY:NDM 2015 Notification Due
DESCRIPTION:Network-aware Data Management: ACM SIGHPC\, IEEE/ACM SC'15 wo
 rkshop
URL:http://www.wikicfp.com/cfp/servlet/event.showcfp?eventid=47448&copyow
 nerid=81216
UID:cfp549497-N@wikicfp.com
END:VEVENT
BEGIN:VEVENT
DTSTAMP:20260424T162715Z
DTSTART;VALUE=DATE:20151009
SUMMARY:NDM 2015 Final Version Due
DESCRIPTION:Network-aware Data Management: ACM SIGHPC\, IEEE/ACM SC'15 wo
 rkshop
URL:http://www.wikicfp.com/cfp/servlet/event.showcfp?eventid=47448&copyow
 nerid=81216
UID:cfp549497-N@wikicfp.com
END:VEVENT
BEGIN:VEVENT
DTSTAMP:20260424T162715Z
DTSTART;VALUE=DATE:20151116
DTEND;VALUE=DATE:20151117
SUMMARY:NDM@SC 2015
DESCRIPTION:Network-aware Data Management
URL:http://www.wikicfp.com/cfp/servlet/event.showcfp?eventid=48089&copyow
 nerid=81216
UID:cfp549498-E@wikicfp.com
END:VEVENT
BEGIN:VEVENT
DTSTAMP:20260424T162715Z
DTSTART;VALUE=DATE:20150831
SUMMARY:NDM@SC 2015 Deadline
DESCRIPTION:Network-aware Data Management
URL:http://www.wikicfp.com/cfp/servlet/event.showcfp?eventid=48089&copyow
 nerid=81216
UID:cfp549498-D@wikicfp.com
END:VEVENT
BEGIN:VEVENT
DTSTAMP:20260424T162715Z
DTSTART;VALUE=DATE:20150925
SUMMARY:NDM@SC 2015 Notification Due
DESCRIPTION:Network-aware Data Management
URL:http://www.wikicfp.com/cfp/servlet/event.showcfp?eventid=48089&copyow
 nerid=81216
UID:cfp549498-N@wikicfp.com
END:VEVENT
BEGIN:VEVENT
DTSTAMP:20260424T162715Z
DTSTART;VALUE=DATE:20151009
SUMMARY:NDM@SC 2015 Final Version Due
DESCRIPTION:Network-aware Data Management
URL:http://www.wikicfp.com/cfp/servlet/event.showcfp?eventid=48089&copyow
 nerid=81216
UID:cfp549498-N@wikicfp.com
END:VEVENT
BEGIN:VEVENT
DTSTAMP:20260424T162715Z
DTSTART;VALUE=DATE:20151121
DTEND;VALUE=DATE:20151124
SUMMARY:ICSCC 2015
DESCRIPTION:2015 International Conference on Systems\, Control and Commun
 ications
URL:http://www.wikicfp.com/cfp/servlet/event.showcfp?eventid=45932&copyow
 nerid=81216
UID:cfp549481-E@wikicfp.com
END:VEVENT
BEGIN:VEVENT
DTSTAMP:20260424T162715Z
DTSTART;VALUE=DATE:20150905
SUMMARY:ICSCC 2015 Deadline
DESCRIPTION:2015 International Conference on Systems\, Control and Commun
 ications
URL:http://www.wikicfp.com/cfp/servlet/event.showcfp?eventid=45932&copyow
 nerid=81216
UID:cfp549481-D@wikicfp.com
END:VEVENT
BEGIN:VEVENT
DTSTAMP:20260424T162715Z
DTSTART;VALUE=DATE:20150925
SUMMARY:ICSCC 2015 Notification Due
DESCRIPTION:2015 International Conference on Systems\, Control and Commun
 ications
URL:http://www.wikicfp.com/cfp/servlet/event.showcfp?eventid=45932&copyow
 nerid=81216
UID:cfp549481-N@wikicfp.com
END:VEVENT
BEGIN:VEVENT
DTSTAMP:20260424T162715Z
DTSTART;VALUE=DATE:20151010
SUMMARY:ICSCC 2015 Final Version Due
DESCRIPTION:2015 International Conference on Systems\, Control and Commun
 ications
URL:http://www.wikicfp.com/cfp/servlet/event.showcfp?eventid=45932&copyow
 nerid=81216
UID:cfp549481-N@wikicfp.com
END:VEVENT
BEGIN:VEVENT
DTSTAMP:20260424T162715Z
DTSTART;VALUE=DATE:20150922
SUMMARY:IJCCSA 2015 Deadline
DESCRIPTION:International Journal on Cloud Computing: Services and Archit
 ecture
URL:http://www.wikicfp.com/cfp/servlet/event.showcfp?eventid=40776&copyow
 nerid=81216
UID:cfp549477-D@wikicfp.com
END:VEVENT
BEGIN:VEVENT
DTSTAMP:20260424T162715Z
DTSTART;VALUE=DATE:20151022
SUMMARY:IJCCSA 2015 Notification Due
DESCRIPTION:International Journal on Cloud Computing: Services and Archit
 ecture
URL:http://www.wikicfp.com/cfp/servlet/event.showcfp?eventid=40776&copyow
 nerid=81216
UID:cfp549477-N@wikicfp.com
END:VEVENT
BEGIN:VEVENT
DTSTAMP:20260424T162715Z
DTSTART;VALUE=DATE:20151031
SUMMARY:IJCCSA 2015 Final Version Due
DESCRIPTION:International Journal on Cloud Computing: Services and Archit
 ecture
URL:http://www.wikicfp.com/cfp/servlet/event.showcfp?eventid=40776&copyow
 nerid=81216
UID:cfp549477-N@wikicfp.com
END:VEVENT
BEGIN:VEVENT
DTSTAMP:20260424T162715Z
DTSTART;VALUE=DATE:20151031
SUMMARY:ACIJ 2015 Deadline
DESCRIPTION:Advanced Computing: An International Journal
URL:http://www.wikicfp.com/cfp/servlet/event.showcfp?eventid=41400&copyow
 nerid=81216
UID:cfp549478-D@wikicfp.com
END:VEVENT
BEGIN:VEVENT
DTSTAMP:20260424T162715Z
DTSTART;VALUE=DATE:20151130
SUMMARY:ACIJ 2015 Notification Due
DESCRIPTION:Advanced Computing: An International Journal
URL:http://www.wikicfp.com/cfp/servlet/event.showcfp?eventid=41400&copyow
 nerid=81216
UID:cfp549478-N@wikicfp.com
END:VEVENT
BEGIN:VEVENT
DTSTAMP:20260424T162715Z
DTSTART;VALUE=DATE:20151208
SUMMARY:ACIJ 2015 Final Version Due
DESCRIPTION:Advanced Computing: An International Journal
URL:http://www.wikicfp.com/cfp/servlet/event.showcfp?eventid=41400&copyow
 nerid=81216
UID:cfp549478-N@wikicfp.com
END:VEVENT
BEGIN:VEVENT
DTSTAMP:20260424T162715Z
DTSTART;VALUE=DATE:20160109
SUMMARY:IJCACS 2016 Deadline
DESCRIPTION:International Journal of Control\, Automation\, Communication
  and Systems
URL:http://www.wikicfp.com/cfp/servlet/event.showcfp?eventid=43501&copyow
 nerid=81216
UID:cfp549480-D@wikicfp.com
END:VEVENT
BEGIN:VEVENT
DTSTAMP:20260424T162715Z
DTSTART;VALUE=DATE:20160209
SUMMARY:IJCACS 2016 Notification Due
DESCRIPTION:International Journal of Control\, Automation\, Communication
  and Systems
URL:http://www.wikicfp.com/cfp/servlet/event.showcfp?eventid=43501&copyow
 nerid=81216
UID:cfp549480-N@wikicfp.com
END:VEVENT
BEGIN:VEVENT
DTSTAMP:20260424T162715Z
DTSTART;VALUE=DATE:20160217
SUMMARY:IJCACS 2016 Final Version Due
DESCRIPTION:International Journal of Control\, Automation\, Communication
  and Systems
URL:http://www.wikicfp.com/cfp/servlet/event.showcfp?eventid=43501&copyow
 nerid=81216
UID:cfp549480-N@wikicfp.com
END:VEVENT
BEGIN:VEVENT
DTSTAMP:20260424T162715Z
DTSTART;VALUE=DATE:20160201
SUMMARY:CEIJ 2016 Deadline
DESCRIPTION:Chemical Engineering: An International Journal
URL:http://www.wikicfp.com/cfp/servlet/event.showcfp?eventid=43730&copyow
 nerid=81216
UID:cfp549479-D@wikicfp.com
END:VEVENT
BEGIN:VEVENT
DTSTAMP:20260424T162715Z
DTSTART;VALUE=DATE:20160301
SUMMARY:CEIJ 2016 Notification Due
DESCRIPTION:Chemical Engineering: An International Journal
URL:http://www.wikicfp.com/cfp/servlet/event.showcfp?eventid=43730&copyow
 nerid=81216
UID:cfp549479-N@wikicfp.com
END:VEVENT
BEGIN:VEVENT
DTSTAMP:20260424T162715Z
DTSTART;VALUE=DATE:20160309
SUMMARY:CEIJ 2016 Final Version Due
DESCRIPTION:Chemical Engineering: An International Journal
URL:http://www.wikicfp.com/cfp/servlet/event.showcfp?eventid=43730&copyow
 nerid=81216
UID:cfp549479-N@wikicfp.com
END:VEVENT
BEGIN:VEVENT
DTSTAMP:20260424T162715Z
DTSTART;VALUE=DATE:20160723
SUMMARY:IJITMC 2016 Deadline
DESCRIPTION:International Journal of Information Technology\, Modeling an
 d Computing
URL:http://www.wikicfp.com/cfp/servlet/event.showcfp?eventid=47561&copyow
 nerid=81216
UID:cfp549482-D@wikicfp.com
END:VEVENT
BEGIN:VEVENT
DTSTAMP:20260424T162715Z
DTSTART;VALUE=DATE:20160823
SUMMARY:IJITMC 2016 Notification Due
DESCRIPTION:International Journal of Information Technology\, Modeling an
 d Computing
URL:http://www.wikicfp.com/cfp/servlet/event.showcfp?eventid=47561&copyow
 nerid=81216
UID:cfp549482-N@wikicfp.com
END:VEVENT
BEGIN:VEVENT
DTSTAMP:20260424T162715Z
DTSTART;VALUE=DATE:20160831
SUMMARY:IJITMC 2016 Final Version Due
DESCRIPTION:International Journal of Information Technology\, Modeling an
 d Computing
URL:http://www.wikicfp.com/cfp/servlet/event.showcfp?eventid=47561&copyow
 nerid=81216
UID:cfp549482-N@wikicfp.com
END:VEVENT
END:VCALENDAR
