BEGIN:VCALENDAR
PRODID:-//WikiCFP//oaurbanov 1.0//EN
VERSION:2.0
CALSCALE:GREGORIAN
BEGIN:VEVENT
DTSTAMP:20260424T041453Z
DTSTART;VALUE=DATE:20180328
DTEND;VALUE=DATE:20180330
SUMMARY:Living in the Internet of Things 2018
DESCRIPTION:Living in the Internet of Things: Cybersecurity of the IoT - 
 A PETRAS\, IoTUK & IET Event
URL:http://www.wikicfp.com/cfp/servlet/event.showcfp?eventid=69346&copyow
 nerid=81040
UID:cfp695945-E@wikicfp.com
END:VEVENT
BEGIN:VEVENT
DTSTAMP:20260424T041453Z
DTSTART;VALUE=DATE:20171110
SUMMARY:Living in the Internet of Things 2018 Abstract Due
DESCRIPTION:Living in the Internet of Things: Cybersecurity of the IoT - 
 A PETRAS\, IoTUK & IET Event
URL:http://www.wikicfp.com/cfp/servlet/event.showcfp?eventid=69346&copyow
 nerid=81040
UID:cfp695945-A@wikicfp.com
END:VEVENT
BEGIN:VEVENT
DTSTAMP:20260424T041453Z
DTSTART;VALUE=DATE:20171208
SUMMARY:Living in the Internet of Things 2018 Deadline
DESCRIPTION:Living in the Internet of Things: Cybersecurity of the IoT - 
 A PETRAS\, IoTUK & IET Event
URL:http://www.wikicfp.com/cfp/servlet/event.showcfp?eventid=69346&copyow
 nerid=81040
UID:cfp695945-D@wikicfp.com
END:VEVENT
BEGIN:VEVENT
DTSTAMP:20260424T041453Z
DTSTART;VALUE=DATE:20180115
SUMMARY:Living in the Internet of Things 2018 Final Version Due
DESCRIPTION:Living in the Internet of Things: Cybersecurity of the IoT - 
 A PETRAS\, IoTUK & IET Event
URL:http://www.wikicfp.com/cfp/servlet/event.showcfp?eventid=69346&copyow
 nerid=81040
UID:cfp695945-N@wikicfp.com
END:VEVENT
BEGIN:VEVENT
DTSTAMP:20260424T041453Z
DTSTART;VALUE=DATE:20180626
DTEND;VALUE=DATE:20180629
SUMMARY:ICT 2018
DESCRIPTION:International Conference on Telecommunications
URL:http://www.wikicfp.com/cfp/servlet/event.showcfp?eventid=66595&copyow
 nerid=81040
UID:cfp695960-E@wikicfp.com
END:VEVENT
BEGIN:VEVENT
DTSTAMP:20260424T041453Z
DTSTART;VALUE=DATE:20180122
SUMMARY:ICT 2018 Deadline
DESCRIPTION:International Conference on Telecommunications
URL:http://www.wikicfp.com/cfp/servlet/event.showcfp?eventid=66595&copyow
 nerid=81040
UID:cfp695960-D@wikicfp.com
END:VEVENT
BEGIN:VEVENT
DTSTAMP:20260424T041453Z
DTSTART;VALUE=DATE:20180323
SUMMARY:ICT 2018 Notification Due
DESCRIPTION:International Conference on Telecommunications
URL:http://www.wikicfp.com/cfp/servlet/event.showcfp?eventid=66595&copyow
 nerid=81040
UID:cfp695960-N@wikicfp.com
END:VEVENT
BEGIN:VEVENT
DTSTAMP:20260424T041453Z
DTSTART;VALUE=DATE:20180406
SUMMARY:ICT 2018 Final Version Due
DESCRIPTION:International Conference on Telecommunications
URL:http://www.wikicfp.com/cfp/servlet/event.showcfp?eventid=66595&copyow
 nerid=81040
UID:cfp695960-N@wikicfp.com
END:VEVENT
BEGIN:VEVENT
DTSTAMP:20260424T041453Z
DTSTART;VALUE=DATE:20180508
DTEND;VALUE=DATE:20180512
SUMMARY:RAMCOM -  2018
DESCRIPTION:The Fourth International Workshop on Recent Advances on Inter
 net of Things
URL:http://www.wikicfp.com/cfp/servlet/event.showcfp?eventid=69787&copyow
 nerid=81040
UID:cfp695957-E@wikicfp.com
END:VEVENT
BEGIN:VEVENT
DTSTAMP:20260424T041453Z
DTSTART;VALUE=DATE:20180115
SUMMARY:RAMCOM -  2018 Abstract Due
DESCRIPTION:The Fourth International Workshop on Recent Advances on Inter
 net of Things
URL:http://www.wikicfp.com/cfp/servlet/event.showcfp?eventid=69787&copyow
 nerid=81040
UID:cfp695957-A@wikicfp.com
END:VEVENT
BEGIN:VEVENT
DTSTAMP:20260424T041453Z
DTSTART;VALUE=DATE:20180122
SUMMARY:RAMCOM -  2018 Deadline
DESCRIPTION:The Fourth International Workshop on Recent Advances on Inter
 net of Things
URL:http://www.wikicfp.com/cfp/servlet/event.showcfp?eventid=69787&copyow
 nerid=81040
UID:cfp695957-D@wikicfp.com
END:VEVENT
BEGIN:VEVENT
DTSTAMP:20260424T041453Z
DTSTART;VALUE=DATE:20180215
SUMMARY:RAMCOM -  2018 Notification Due
DESCRIPTION:The Fourth International Workshop on Recent Advances on Inter
 net of Things
URL:http://www.wikicfp.com/cfp/servlet/event.showcfp?eventid=69787&copyow
 nerid=81040
UID:cfp695957-N@wikicfp.com
END:VEVENT
BEGIN:VEVENT
DTSTAMP:20260424T041453Z
DTSTART;VALUE=DATE:20180305
SUMMARY:RAMCOM -  2018 Final Version Due
DESCRIPTION:The Fourth International Workshop on Recent Advances on Inter
 net of Things
URL:http://www.wikicfp.com/cfp/servlet/event.showcfp?eventid=69787&copyow
 nerid=81040
UID:cfp695957-N@wikicfp.com
END:VEVENT
BEGIN:VEVENT
DTSTAMP:20260424T041453Z
DTSTART;VALUE=DATE:20180911
DTEND;VALUE=DATE:20180913
SUMMARY:Eurasip RFID 2018
DESCRIPTION:6th International EURASIP Workshop on RFID Technology
URL:http://www.wikicfp.com/cfp/servlet/event.showcfp?eventid=68539&copyow
 nerid=81040
UID:cfp695942-E@wikicfp.com
END:VEVENT
BEGIN:VEVENT
DTSTAMP:20260424T041453Z
DTSTART;VALUE=DATE:20180501
SUMMARY:Eurasip RFID 2018 Deadline
DESCRIPTION:6th International EURASIP Workshop on RFID Technology
URL:http://www.wikicfp.com/cfp/servlet/event.showcfp?eventid=68539&copyow
 nerid=81040
UID:cfp695942-D@wikicfp.com
END:VEVENT
END:VCALENDAR
