BEGIN:VCALENDAR
PRODID:-//WikiCFP//yvonneli 1.0//EN
VERSION:2.0
CALSCALE:GREGORIAN
BEGIN:VEVENT
DTSTAMP:20260422T115354Z
DTSTART;VALUE=DATE:20150531
SUMMARY:Journal of Big Data 2015 Deadline
DESCRIPTION:Journal of Big Data (Springer) 2015 : Special Issue on Servic
 e Provisioning in the Big Data Era
URL:http://www.wikicfp.com/cfp/servlet/event.showcfp?eventid=45684&copyow
 nerid=81025
UID:cfp547527-D@wikicfp.com
END:VEVENT
BEGIN:VEVENT
DTSTAMP:20260422T115354Z
DTSTART;VALUE=DATE:20160523
DTEND;VALUE=DATE:20160528
SUMMARY:IPDPS 2016
DESCRIPTION:IEEE International Parallel and Distributed Processing Sympos
 ium 
URL:http://www.wikicfp.com/cfp/servlet/event.showcfp?eventid=44913&copyow
 nerid=81025
UID:cfp547526-E@wikicfp.com
END:VEVENT
BEGIN:VEVENT
DTSTAMP:20260422T115354Z
DTSTART;VALUE=DATE:20151009
SUMMARY:IPDPS 2016 Abstract Due
DESCRIPTION:IEEE International Parallel and Distributed Processing Sympos
 ium 
URL:http://www.wikicfp.com/cfp/servlet/event.showcfp?eventid=44913&copyow
 nerid=81025
UID:cfp547526-A@wikicfp.com
END:VEVENT
BEGIN:VEVENT
DTSTAMP:20260422T115354Z
DTSTART;VALUE=DATE:20151016
SUMMARY:IPDPS 2016 Deadline
DESCRIPTION:IEEE International Parallel and Distributed Processing Sympos
 ium 
URL:http://www.wikicfp.com/cfp/servlet/event.showcfp?eventid=44913&copyow
 nerid=81025
UID:cfp547526-D@wikicfp.com
END:VEVENT
BEGIN:VEVENT
DTSTAMP:20260422T115354Z
DTSTART;VALUE=DATE:20151218
SUMMARY:IPDPS 2016 Notification Due
DESCRIPTION:IEEE International Parallel and Distributed Processing Sympos
 ium 
URL:http://www.wikicfp.com/cfp/servlet/event.showcfp?eventid=44913&copyow
 nerid=81025
UID:cfp547526-N@wikicfp.com
END:VEVENT
BEGIN:VEVENT
DTSTAMP:20260422T115354Z
DTSTART;VALUE=DATE:20160201
SUMMARY:IPDPS 2016 Final Version Due
DESCRIPTION:IEEE International Parallel and Distributed Processing Sympos
 ium 
URL:http://www.wikicfp.com/cfp/servlet/event.showcfp?eventid=44913&copyow
 nerid=81025
UID:cfp547526-N@wikicfp.com
END:VEVENT
END:VCALENDAR
