BEGIN:VCALENDAR
PRODID:-//WikiCFP//stephan6727 1.0//EN
VERSION:2.0
CALSCALE:GREGORIAN
BEGIN:VEVENT
DTSTAMP:20260424T005932Z
DTSTART;VALUE=DATE:20100915
DTEND;VALUE=DATE:20100919
SUMMARY:XDiff 2010
DESCRIPTION:Xth International Conference on what the Difference? (fun)
URL:http://www.wikicfp.com/cfp/servlet/event.showcfp?eventid=10528&copyow
 nerid=8084
UID:cfp93534-E@wikicfp.com
END:VEVENT
BEGIN:VEVENT
DTSTAMP:20260424T005932Z
DTSTART;VALUE=DATE:20100712
DTEND;VALUE=DATE:20100715
SUMMARY:PLM 2010
DESCRIPTION:The 7th International Product Lifecycle Management Conference
 
URL:http://www.wikicfp.com/cfp/servlet/event.showcfp?eventid=7603&copyown
 erid=8084
UID:cfp60438-E@wikicfp.com
END:VEVENT
BEGIN:VEVENT
DTSTAMP:20260424T005932Z
DTSTART;VALUE=DATE:20100111
SUMMARY:PLM 2010 Deadline
DESCRIPTION:The 7th International Product Lifecycle Management Conference
 
URL:http://www.wikicfp.com/cfp/servlet/event.showcfp?eventid=7603&copyown
 erid=8084
UID:cfp60438-D@wikicfp.com
END:VEVENT
BEGIN:VEVENT
DTSTAMP:20260424T005932Z
DTSTART;VALUE=DATE:20100420
SUMMARY:PLM 2010 Notification Due
DESCRIPTION:The 7th International Product Lifecycle Management Conference
 
URL:http://www.wikicfp.com/cfp/servlet/event.showcfp?eventid=7603&copyown
 erid=8084
UID:cfp60438-N@wikicfp.com
END:VEVENT
BEGIN:VEVENT
DTSTAMP:20260424T005932Z
DTSTART;VALUE=DATE:20100521
SUMMARY:PLM 2010 Final Version Due
DESCRIPTION:The 7th International Product Lifecycle Management Conference
 
URL:http://www.wikicfp.com/cfp/servlet/event.showcfp?eventid=7603&copyown
 erid=8084
UID:cfp60438-N@wikicfp.com
END:VEVENT
BEGIN:VEVENT
DTSTAMP:20260424T005932Z
DTSTART;VALUE=DATE:20101025
DTEND;VALUE=DATE:20101029
SUMMARY:KEOD 2010
DESCRIPTION:2nd International Conference on Knowledge Engineering and Ont
 ology Development
URL:http://www.wikicfp.com/cfp/servlet/event.showcfp?eventid=8525&copyown
 erid=8084
UID:cfp82152-E@wikicfp.com
END:VEVENT
BEGIN:VEVENT
DTSTAMP:20260424T005932Z
DTSTART;VALUE=DATE:20100520
SUMMARY:KEOD 2010 Deadline
DESCRIPTION:2nd International Conference on Knowledge Engineering and Ont
 ology Development
URL:http://www.wikicfp.com/cfp/servlet/event.showcfp?eventid=8525&copyown
 erid=8084
UID:cfp82152-D@wikicfp.com
END:VEVENT
BEGIN:VEVENT
DTSTAMP:20260424T005932Z
DTSTART;VALUE=DATE:20100709
SUMMARY:KEOD 2010 Notification Due
DESCRIPTION:2nd International Conference on Knowledge Engineering and Ont
 ology Development
URL:http://www.wikicfp.com/cfp/servlet/event.showcfp?eventid=8525&copyown
 erid=8084
UID:cfp82152-N@wikicfp.com
END:VEVENT
BEGIN:VEVENT
DTSTAMP:20260424T005932Z
DTSTART;VALUE=DATE:20100727
SUMMARY:KEOD 2010 Final Version Due
DESCRIPTION:2nd International Conference on Knowledge Engineering and Ont
 ology Development
URL:http://www.wikicfp.com/cfp/servlet/event.showcfp?eventid=8525&copyown
 erid=8084
UID:cfp82152-N@wikicfp.com
END:VEVENT
BEGIN:VEVENT
DTSTAMP:20260424T005932Z
DTSTART;VALUE=DATE:20101025
DTEND;VALUE=DATE:20101030
SUMMARY:CIKM 2010
DESCRIPTION:International Conference on Information and Knowledge Managem
 ent
URL:http://www.wikicfp.com/cfp/servlet/event.showcfp?eventid=5822&copyown
 erid=8084
UID:cfp82151-E@wikicfp.com
END:VEVENT
BEGIN:VEVENT
DTSTAMP:20260424T005932Z
DTSTART;VALUE=DATE:20100527
SUMMARY:CIKM 2010 Abstract Due
DESCRIPTION:International Conference on Information and Knowledge Managem
 ent
URL:http://www.wikicfp.com/cfp/servlet/event.showcfp?eventid=5822&copyown
 erid=8084
UID:cfp82151-A@wikicfp.com
END:VEVENT
BEGIN:VEVENT
DTSTAMP:20260424T005932Z
DTSTART;VALUE=DATE:20100603
SUMMARY:CIKM 2010 Deadline
DESCRIPTION:International Conference on Information and Knowledge Managem
 ent
URL:http://www.wikicfp.com/cfp/servlet/event.showcfp?eventid=5822&copyown
 erid=8084
UID:cfp82151-D@wikicfp.com
END:VEVENT
BEGIN:VEVENT
DTSTAMP:20260424T005932Z
DTSTART;VALUE=DATE:20100715
SUMMARY:CIKM 2010 Notification Due
DESCRIPTION:International Conference on Information and Knowledge Managem
 ent
URL:http://www.wikicfp.com/cfp/servlet/event.showcfp?eventid=5822&copyown
 erid=8084
UID:cfp82151-N@wikicfp.com
END:VEVENT
BEGIN:VEVENT
DTSTAMP:20260424T005932Z
DTSTART;VALUE=DATE:20100920
DTEND;VALUE=DATE:20100921
SUMMARY:ACNE 2010
DESCRIPTION:First Workshop on Analysing Complex NEtworks 2010
URL:http://www.wikicfp.com/cfp/servlet/event.showcfp?eventid=9906&copyown
 erid=8084
UID:cfp86581-E@wikicfp.com
END:VEVENT
BEGIN:VEVENT
DTSTAMP:20260424T005932Z
DTSTART;VALUE=DATE:20100621
SUMMARY:ACNE 2010 Deadline
DESCRIPTION:First Workshop on Analysing Complex NEtworks 2010
URL:http://www.wikicfp.com/cfp/servlet/event.showcfp?eventid=9906&copyown
 erid=8084
UID:cfp86581-D@wikicfp.com
END:VEVENT
BEGIN:VEVENT
DTSTAMP:20260424T005932Z
DTSTART;VALUE=DATE:20100712
SUMMARY:ACNE 2010 Notification Due
DESCRIPTION:First Workshop on Analysing Complex NEtworks 2010
URL:http://www.wikicfp.com/cfp/servlet/event.showcfp?eventid=9906&copyown
 erid=8084
UID:cfp86581-N@wikicfp.com
END:VEVENT
BEGIN:VEVENT
DTSTAMP:20260424T005932Z
DTSTART;VALUE=DATE:20100721
SUMMARY:ACNE 2010 Final Version Due
DESCRIPTION:First Workshop on Analysing Complex NEtworks 2010
URL:http://www.wikicfp.com/cfp/servlet/event.showcfp?eventid=9906&copyown
 erid=8084
UID:cfp86581-N@wikicfp.com
END:VEVENT
BEGIN:VEVENT
DTSTAMP:20260424T005932Z
DTSTART;VALUE=DATE:20101213
DTEND;VALUE=DATE:20101214
SUMMARY:SADM 2010
DESCRIPTION:Third International Workshop on Semantic Aspects in Data Mini
 ng (SADM)
URL:http://www.wikicfp.com/cfp/servlet/event.showcfp?eventid=9882&copyown
 erid=8084
UID:cfp86021-E@wikicfp.com
END:VEVENT
BEGIN:VEVENT
DTSTAMP:20260424T005932Z
DTSTART;VALUE=DATE:20100723
SUMMARY:SADM 2010 Deadline
DESCRIPTION:Third International Workshop on Semantic Aspects in Data Mini
 ng (SADM)
URL:http://www.wikicfp.com/cfp/servlet/event.showcfp?eventid=9882&copyown
 erid=8084
UID:cfp86021-D@wikicfp.com
END:VEVENT
BEGIN:VEVENT
DTSTAMP:20260424T005932Z
DTSTART;VALUE=DATE:20100920
SUMMARY:SADM 2010 Notification Due
DESCRIPTION:Third International Workshop on Semantic Aspects in Data Mini
 ng (SADM)
URL:http://www.wikicfp.com/cfp/servlet/event.showcfp?eventid=9882&copyown
 erid=8084
UID:cfp86021-N@wikicfp.com
END:VEVENT
BEGIN:VEVENT
DTSTAMP:20260424T005932Z
DTSTART;VALUE=DATE:20101211
SUMMARY:SADM 2010 Final Version Due
DESCRIPTION:Third International Workshop on Semantic Aspects in Data Mini
 ng (SADM)
URL:http://www.wikicfp.com/cfp/servlet/event.showcfp?eventid=9882&copyown
 erid=8084
UID:cfp86021-N@wikicfp.com
END:VEVENT
BEGIN:VEVENT
DTSTAMP:20260424T005932Z
DTSTART;VALUE=DATE:20101213
DTEND;VALUE=DATE:20101214
SUMMARY:SADM 2010
DESCRIPTION:Third International Workshop on Semantic Aspects in Data Mini
 ng
URL:http://www.wikicfp.com/cfp/servlet/event.showcfp?eventid=10096&copyow
 nerid=8084
UID:cfp88010-E@wikicfp.com
END:VEVENT
BEGIN:VEVENT
DTSTAMP:20260424T005932Z
DTSTART;VALUE=DATE:20100723
SUMMARY:SADM 2010 Deadline
DESCRIPTION:Third International Workshop on Semantic Aspects in Data Mini
 ng
URL:http://www.wikicfp.com/cfp/servlet/event.showcfp?eventid=10096&copyow
 nerid=8084
UID:cfp88010-D@wikicfp.com
END:VEVENT
BEGIN:VEVENT
DTSTAMP:20260424T005932Z
DTSTART;VALUE=DATE:20100920
SUMMARY:SADM 2010 Notification Due
DESCRIPTION:Third International Workshop on Semantic Aspects in Data Mini
 ng
URL:http://www.wikicfp.com/cfp/servlet/event.showcfp?eventid=10096&copyow
 nerid=8084
UID:cfp88010-N@wikicfp.com
END:VEVENT
BEGIN:VEVENT
DTSTAMP:20260424T005932Z
DTSTART;VALUE=DATE:20101011
SUMMARY:SADM 2010 Final Version Due
DESCRIPTION:Third International Workshop on Semantic Aspects in Data Mini
 ng
URL:http://www.wikicfp.com/cfp/servlet/event.showcfp?eventid=10096&copyow
 nerid=8084
UID:cfp88010-N@wikicfp.com
END:VEVENT
BEGIN:VEVENT
DTSTAMP:20260424T005932Z
DTSTART;VALUE=DATE:20101020
DTEND;VALUE=DATE:20101023
SUMMARY:WCECS 2010
DESCRIPTION:World Congress on Engineering and Computer Science 2010
URL:http://www.wikicfp.com/cfp/servlet/event.showcfp?eventid=7449&copyown
 erid=8084
UID:cfp82150-E@wikicfp.com
END:VEVENT
BEGIN:VEVENT
DTSTAMP:20260424T005932Z
DTSTART;VALUE=DATE:20100726
SUMMARY:WCECS 2010 Deadline
DESCRIPTION:World Congress on Engineering and Computer Science 2010
URL:http://www.wikicfp.com/cfp/servlet/event.showcfp?eventid=7449&copyown
 erid=8084
UID:cfp82150-D@wikicfp.com
END:VEVENT
BEGIN:VEVENT
DTSTAMP:20260424T005932Z
DTSTART;VALUE=DATE:20100816
SUMMARY:WCECS 2010 Final Version Due
DESCRIPTION:World Congress on Engineering and Computer Science 2010
URL:http://www.wikicfp.com/cfp/servlet/event.showcfp?eventid=7449&copyown
 erid=8084
UID:cfp82150-N@wikicfp.com
END:VEVENT
BEGIN:VEVENT
DTSTAMP:20260424T005932Z
DTSTART;VALUE=DATE:20110325
SUMMARY:IBIS Special Issue 2011 Deadline
DESCRIPTION:International Journal of Interoperability in Business Informa
 tion Systems: Special Issue on Interoperability for the Energy Sector 
URL:http://www.wikicfp.com/cfp/servlet/event.showcfp?eventid=13612&copyow
 nerid=8084
UID:cfp132848-D@wikicfp.com
END:VEVENT
END:VCALENDAR
