BEGIN:VCALENDAR
PRODID:-//WikiCFP//mvinasco 1.0//EN
VERSION:2.0
CALSCALE:GREGORIAN
BEGIN:VEVENT
DTSTAMP:20260423T175212Z
DTSTART;VALUE=DATE:20160215
DTEND;VALUE=DATE:20160219
SUMMARY:SIREN 2016
DESCRIPTION:First International Workshop on Sustainability\, Implementati
 on and Resilience of Energy-Aware Networks
URL:http://www.wikicfp.com/cfp/servlet/event.showcfp?eventid=46287&copyow
 nerid=80776
UID:cfp546128-E@wikicfp.com
END:VEVENT
BEGIN:VEVENT
DTSTAMP:20260423T175212Z
DTSTART;VALUE=DATE:20150901
SUMMARY:SIREN 2016 Deadline
DESCRIPTION:First International Workshop on Sustainability\, Implementati
 on and Resilience of Energy-Aware Networks
URL:http://www.wikicfp.com/cfp/servlet/event.showcfp?eventid=46287&copyow
 nerid=80776
UID:cfp546128-D@wikicfp.com
END:VEVENT
BEGIN:VEVENT
DTSTAMP:20260423T175212Z
DTSTART;VALUE=DATE:20150930
SUMMARY:SIREN 2016 Notification Due
DESCRIPTION:First International Workshop on Sustainability\, Implementati
 on and Resilience of Energy-Aware Networks
URL:http://www.wikicfp.com/cfp/servlet/event.showcfp?eventid=46287&copyow
 nerid=80776
UID:cfp546128-N@wikicfp.com
END:VEVENT
BEGIN:VEVENT
DTSTAMP:20260423T175212Z
DTSTART;VALUE=DATE:20151020
SUMMARY:SIREN 2016 Final Version Due
DESCRIPTION:First International Workshop on Sustainability\, Implementati
 on and Resilience of Energy-Aware Networks
URL:http://www.wikicfp.com/cfp/servlet/event.showcfp?eventid=46287&copyow
 nerid=80776
UID:cfp546128-N@wikicfp.com
END:VEVENT
BEGIN:VEVENT
DTSTAMP:20260423T175212Z
DTSTART;VALUE=DATE:20160525
DTEND;VALUE=DATE:20160528
SUMMARY:SCIFI 2016
DESCRIPTION:EAI International Conference on Smart Cities and the Future I
 nternet
URL:http://www.wikicfp.com/cfp/servlet/event.showcfp?eventid=50208&copyow
 nerid=80776
UID:cfp568475-E@wikicfp.com
END:VEVENT
BEGIN:VEVENT
DTSTAMP:20260423T175212Z
DTSTART;VALUE=DATE:20151215
SUMMARY:SCIFI 2016 Deadline
DESCRIPTION:EAI International Conference on Smart Cities and the Future I
 nternet
URL:http://www.wikicfp.com/cfp/servlet/event.showcfp?eventid=50208&copyow
 nerid=80776
UID:cfp568475-D@wikicfp.com
END:VEVENT
BEGIN:VEVENT
DTSTAMP:20260423T175212Z
DTSTART;VALUE=DATE:20160225
SUMMARY:SCIFI 2016 Notification Due
DESCRIPTION:EAI International Conference on Smart Cities and the Future I
 nternet
URL:http://www.wikicfp.com/cfp/servlet/event.showcfp?eventid=50208&copyow
 nerid=80776
UID:cfp568475-N@wikicfp.com
END:VEVENT
BEGIN:VEVENT
DTSTAMP:20260423T175212Z
DTSTART;VALUE=DATE:20160325
SUMMARY:SCIFI 2016 Final Version Due
DESCRIPTION:EAI International Conference on Smart Cities and the Future I
 nternet
URL:http://www.wikicfp.com/cfp/servlet/event.showcfp?eventid=50208&copyow
 nerid=80776
UID:cfp568475-N@wikicfp.com
END:VEVENT
BEGIN:VEVENT
DTSTAMP:20260423T175212Z
DTSTART;VALUE=DATE:20160829
DTEND;VALUE=DATE:20160902
SUMMARY:EcoSummit 2016
DESCRIPTION:EcoSummit 2016. Ecological Sustainability: Engineering Change
 
URL:http://www.wikicfp.com/cfp/servlet/event.showcfp?eventid=45825&copyow
 nerid=80776
UID:cfp546127-E@wikicfp.com
END:VEVENT
BEGIN:VEVENT
DTSTAMP:20260423T175212Z
DTSTART;VALUE=DATE:20160129
SUMMARY:EcoSummit 2016 Deadline
DESCRIPTION:EcoSummit 2016. Ecological Sustainability: Engineering Change
 
URL:http://www.wikicfp.com/cfp/servlet/event.showcfp?eventid=45825&copyow
 nerid=80776
UID:cfp546127-D@wikicfp.com
END:VEVENT
BEGIN:VEVENT
DTSTAMP:20260423T175212Z
DTSTART;VALUE=DATE:20160416
DTEND;VALUE=DATE:20160419
SUMMARY:ICACER-Ei 2016
DESCRIPTION:2016 International Conference on Advances on Clean Energy Res
 earch--ICACER 2016
URL:http://www.wikicfp.com/cfp/servlet/event.showcfp?eventid=49834&copyow
 nerid=80776
UID:cfp568476-E@wikicfp.com
END:VEVENT
BEGIN:VEVENT
DTSTAMP:20260423T175212Z
DTSTART;VALUE=DATE:20160301
SUMMARY:ICACER-Ei 2016 Deadline
DESCRIPTION:2016 International Conference on Advances on Clean Energy Res
 earch--ICACER 2016
URL:http://www.wikicfp.com/cfp/servlet/event.showcfp?eventid=49834&copyow
 nerid=80776
UID:cfp568476-D@wikicfp.com
END:VEVENT
BEGIN:VEVENT
DTSTAMP:20260423T175212Z
DTSTART;VALUE=DATE:20160610
DTEND;VALUE=DATE:20160613
SUMMARY:ICEST 2016
DESCRIPTION:Ei Compendex & Scopus - 2016 7thInternational Conference on E
 nvironmental Science and Technology (ICEST 2016)
URL:http://www.wikicfp.com/cfp/servlet/event.showcfp?eventid=49670&copyow
 nerid=80776
UID:cfp568474-E@wikicfp.com
END:VEVENT
BEGIN:VEVENT
DTSTAMP:20260423T175212Z
DTSTART;VALUE=DATE:20160410
SUMMARY:ICEST 2016 Deadline
DESCRIPTION:Ei Compendex & Scopus - 2016 7thInternational Conference on E
 nvironmental Science and Technology (ICEST 2016)
URL:http://www.wikicfp.com/cfp/servlet/event.showcfp?eventid=49670&copyow
 nerid=80776
UID:cfp568474-D@wikicfp.com
END:VEVENT
BEGIN:VEVENT
DTSTAMP:20260423T175212Z
DTSTART;VALUE=DATE:20160609
DTEND;VALUE=DATE:20160613
SUMMARY:ACSEE 2016
DESCRIPTION:The Asian Conference on Sustainability\, Energy & the Environ
 ment 2016
URL:http://www.wikicfp.com/cfp/servlet/event.showcfp?eventid=48164&copyow
 nerid=80776
UID:cfp568471-E@wikicfp.com
END:VEVENT
BEGIN:VEVENT
DTSTAMP:20260423T175212Z
DTSTART;VALUE=DATE:20160415
SUMMARY:ACSEE 2016 Deadline
DESCRIPTION:The Asian Conference on Sustainability\, Energy & the Environ
 ment 2016
URL:http://www.wikicfp.com/cfp/servlet/event.showcfp?eventid=48164&copyow
 nerid=80776
UID:cfp568471-D@wikicfp.com
END:VEVENT
BEGIN:VEVENT
DTSTAMP:20260423T175212Z
DTSTART;VALUE=DATE:20160712
SUMMARY:ACSEE 2016 Final Version Due
DESCRIPTION:The Asian Conference on Sustainability\, Energy & the Environ
 ment 2016
URL:http://www.wikicfp.com/cfp/servlet/event.showcfp?eventid=48164&copyow
 nerid=80776
UID:cfp568471-N@wikicfp.com
END:VEVENT
BEGIN:VEVENT
DTSTAMP:20260423T175212Z
DTSTART;VALUE=DATE:20160916
DTEND;VALUE=DATE:20160918
SUMMARY:ICSD 2016
DESCRIPTION:4th International Conference on Sustainable Development\, 16 
 - 17 September 2016 Rome\, Italy
URL:http://www.wikicfp.com/cfp/servlet/event.showcfp?eventid=48456&copyow
 nerid=80776
UID:cfp568473-E@wikicfp.com
END:VEVENT
BEGIN:VEVENT
DTSTAMP:20260423T175212Z
DTSTART;VALUE=DATE:20160530
SUMMARY:ICSD 2016 Deadline
DESCRIPTION:4th International Conference on Sustainable Development\, 16 
 - 17 September 2016 Rome\, Italy
URL:http://www.wikicfp.com/cfp/servlet/event.showcfp?eventid=48456&copyow
 nerid=80776
UID:cfp568473-D@wikicfp.com
END:VEVENT
BEGIN:VEVENT
DTSTAMP:20260423T175212Z
DTSTART;VALUE=DATE:20160712
DTEND;VALUE=DATE:20160715
SUMMARY:Sustainable City 2016
DESCRIPTION:11th International Conference on Urban Regeneration and Susta
 inability
URL:http://www.wikicfp.com/cfp/servlet/event.showcfp?eventid=45841&copyow
 nerid=80776
UID:cfp568472-E@wikicfp.com
END:VEVENT
BEGIN:VEVENT
DTSTAMP:20260423T175212Z
DTSTART;VALUE=DATE:20160612
SUMMARY:Sustainable City 2016 Deadline
DESCRIPTION:11th International Conference on Urban Regeneration and Susta
 inability
URL:http://www.wikicfp.com/cfp/servlet/event.showcfp?eventid=45841&copyow
 nerid=80776
UID:cfp568472-D@wikicfp.com
END:VEVENT
END:VCALENDAR
