BEGIN:VCALENDAR
PRODID:-//WikiCFP//aoncevay 1.0//EN
VERSION:2.0
CALSCALE:GREGORIAN
BEGIN:VEVENT
DTSTAMP:20260421T194411Z
DTSTART;VALUE=DATE:20160419
DTEND;VALUE=DATE:20160423
SUMMARY:PAKDD 2016
DESCRIPTION:The 20th Pacific-Asia Conference on Knowledge Discovery and D
 ata Mining
URL:http://www.wikicfp.com/cfp/servlet/event.showcfp?eventid=47481&copyow
 nerid=80648
UID:cfp545048-E@wikicfp.com
END:VEVENT
BEGIN:VEVENT
DTSTAMP:20260421T194411Z
DTSTART;VALUE=DATE:20151002
SUMMARY:PAKDD 2016 Deadline
DESCRIPTION:The 20th Pacific-Asia Conference on Knowledge Discovery and D
 ata Mining
URL:http://www.wikicfp.com/cfp/servlet/event.showcfp?eventid=47481&copyow
 nerid=80648
UID:cfp545048-D@wikicfp.com
END:VEVENT
BEGIN:VEVENT
DTSTAMP:20260421T194411Z
DTSTART;VALUE=DATE:20151211
SUMMARY:PAKDD 2016 Notification Due
DESCRIPTION:The 20th Pacific-Asia Conference on Knowledge Discovery and D
 ata Mining
URL:http://www.wikicfp.com/cfp/servlet/event.showcfp?eventid=47481&copyow
 nerid=80648
UID:cfp545048-N@wikicfp.com
END:VEVENT
BEGIN:VEVENT
DTSTAMP:20260421T194411Z
DTSTART;VALUE=DATE:20160115
SUMMARY:PAKDD 2016 Final Version Due
DESCRIPTION:The 20th Pacific-Asia Conference on Knowledge Discovery and D
 ata Mining
URL:http://www.wikicfp.com/cfp/servlet/event.showcfp?eventid=47481&copyow
 nerid=80648
UID:cfp545048-N@wikicfp.com
END:VEVENT
BEGIN:VEVENT
DTSTAMP:20260421T194411Z
DTSTART;VALUE=DATE:20160505
DTEND;VALUE=DATE:20150508
SUMMARY:SDM 2016
DESCRIPTION:THE SIXTEENTH SIAM INTERNATIONAL CONFERENCE ON DATA MINING
URL:http://www.wikicfp.com/cfp/servlet/event.showcfp?eventid=47910&copyow
 nerid=80648
UID:cfp545047-E@wikicfp.com
END:VEVENT
BEGIN:VEVENT
DTSTAMP:20260421T194411Z
DTSTART;VALUE=DATE:20151009
SUMMARY:SDM 2016 Abstract Due
DESCRIPTION:THE SIXTEENTH SIAM INTERNATIONAL CONFERENCE ON DATA MINING
URL:http://www.wikicfp.com/cfp/servlet/event.showcfp?eventid=47910&copyow
 nerid=80648
UID:cfp545047-A@wikicfp.com
END:VEVENT
BEGIN:VEVENT
DTSTAMP:20260421T194411Z
DTSTART;VALUE=DATE:20151016
SUMMARY:SDM 2016 Deadline
DESCRIPTION:THE SIXTEENTH SIAM INTERNATIONAL CONFERENCE ON DATA MINING
URL:http://www.wikicfp.com/cfp/servlet/event.showcfp?eventid=47910&copyow
 nerid=80648
UID:cfp545047-D@wikicfp.com
END:VEVENT
BEGIN:VEVENT
DTSTAMP:20260421T194411Z
DTSTART;VALUE=DATE:20151221
SUMMARY:SDM 2016 Notification Due
DESCRIPTION:THE SIXTEENTH SIAM INTERNATIONAL CONFERENCE ON DATA MINING
URL:http://www.wikicfp.com/cfp/servlet/event.showcfp?eventid=47910&copyow
 nerid=80648
UID:cfp545047-N@wikicfp.com
END:VEVENT
BEGIN:VEVENT
DTSTAMP:20260421T194411Z
DTSTART;VALUE=DATE:20160125
SUMMARY:SDM 2016 Final Version Due
DESCRIPTION:THE SIXTEENTH SIAM INTERNATIONAL CONFERENCE ON DATA MINING
URL:http://www.wikicfp.com/cfp/servlet/event.showcfp?eventid=47910&copyow
 nerid=80648
UID:cfp545047-N@wikicfp.com
END:VEVENT
BEGIN:VEVENT
DTSTAMP:20260421T194411Z
DTSTART;VALUE=DATE:20160709
DTEND;VALUE=DATE:20160722
SUMMARY:MLDM 2016
DESCRIPTION:Machine Learning and Data Mining in Pattern Recognition
URL:http://www.wikicfp.com/cfp/servlet/event.showcfp?eventid=46140&copyow
 nerid=80648
UID:cfp545046-E@wikicfp.com
END:VEVENT
BEGIN:VEVENT
DTSTAMP:20260421T194411Z
DTSTART;VALUE=DATE:20160116
SUMMARY:MLDM 2016 Deadline
DESCRIPTION:Machine Learning and Data Mining in Pattern Recognition
URL:http://www.wikicfp.com/cfp/servlet/event.showcfp?eventid=46140&copyow
 nerid=80648
UID:cfp545046-D@wikicfp.com
END:VEVENT
BEGIN:VEVENT
DTSTAMP:20260421T194411Z
DTSTART;VALUE=DATE:20160318
SUMMARY:MLDM 2016 Notification Due
DESCRIPTION:Machine Learning and Data Mining in Pattern Recognition
URL:http://www.wikicfp.com/cfp/servlet/event.showcfp?eventid=46140&copyow
 nerid=80648
UID:cfp545046-N@wikicfp.com
END:VEVENT
BEGIN:VEVENT
DTSTAMP:20260421T194411Z
DTSTART;VALUE=DATE:20160505
SUMMARY:MLDM 2016 Final Version Due
DESCRIPTION:Machine Learning and Data Mining in Pattern Recognition
URL:http://www.wikicfp.com/cfp/servlet/event.showcfp?eventid=46140&copyow
 nerid=80648
UID:cfp545046-N@wikicfp.com
END:VEVENT
END:VCALENDAR
