BEGIN:VCALENDAR
PRODID:-//WikiCFP//nikenp14 1.0//EN
VERSION:2.0
CALSCALE:GREGORIAN
BEGIN:VEVENT
DTSTAMP:20260423T130647Z
DTSTART;VALUE=DATE:20221226
DTEND;VALUE=DATE:20221229
SUMMARY:ACM ICCBB 2022
DESCRIPTION:ACM--2022 6th International Conference on Computational Biolo
 gy and Bioinformatics (ICCBB 2022)
URL:http://www.wikicfp.com/cfp/servlet/event.showcfp?eventid=161184&copyo
 wnerid=80484
UID:cfp945140-E@wikicfp.com
END:VEVENT
BEGIN:VEVENT
DTSTAMP:20260423T130647Z
DTSTART;VALUE=DATE:20221105
SUMMARY:ACM ICCBB 2022 Deadline
DESCRIPTION:ACM--2022 6th International Conference on Computational Biolo
 gy and Bioinformatics (ICCBB 2022)
URL:http://www.wikicfp.com/cfp/servlet/event.showcfp?eventid=161184&copyo
 wnerid=80484
UID:cfp945140-D@wikicfp.com
END:VEVENT
BEGIN:VEVENT
DTSTAMP:20260423T130647Z
DTSTART;VALUE=DATE:20240509
DTEND;VALUE=DATE:20240511
SUMMARY:ICACDS 2024
DESCRIPTION:Eighth International Conference on Advances in Computing and 
 Data Sciences (Springer CCIS)
URL:http://www.wikicfp.com/cfp/servlet/event.showcfp?eventid=177089&copyo
 wnerid=80484
UID:cfp978380-E@wikicfp.com
END:VEVENT
BEGIN:VEVENT
DTSTAMP:20260423T130647Z
DTSTART;VALUE=DATE:20240115
SUMMARY:ICACDS 2024 Deadline
DESCRIPTION:Eighth International Conference on Advances in Computing and 
 Data Sciences (Springer CCIS)
URL:http://www.wikicfp.com/cfp/servlet/event.showcfp?eventid=177089&copyo
 wnerid=80484
UID:cfp978380-D@wikicfp.com
END:VEVENT
BEGIN:VEVENT
DTSTAMP:20260423T130647Z
DTSTART;VALUE=DATE:20240315
SUMMARY:ICACDS 2024 Notification Due
DESCRIPTION:Eighth International Conference on Advances in Computing and 
 Data Sciences (Springer CCIS)
URL:http://www.wikicfp.com/cfp/servlet/event.showcfp?eventid=177089&copyo
 wnerid=80484
UID:cfp978380-N@wikicfp.com
END:VEVENT
BEGIN:VEVENT
DTSTAMP:20260423T130647Z
DTSTART;VALUE=DATE:20240405
SUMMARY:ICACDS 2024 Final Version Due
DESCRIPTION:Eighth International Conference on Advances in Computing and 
 Data Sciences (Springer CCIS)
URL:http://www.wikicfp.com/cfp/servlet/event.showcfp?eventid=177089&copyo
 wnerid=80484
UID:cfp978380-N@wikicfp.com
END:VEVENT
BEGIN:VEVENT
DTSTAMP:20260423T130647Z
DTSTART;VALUE=DATE:20240719
DTEND;VALUE=DATE:20240722
SUMMARY:Springer AIVR 2024
DESCRIPTION:Springer--2024 8th International Conference on Artificial Int
 elligence and Virtual Reality (AIVR 2024)
URL:http://www.wikicfp.com/cfp/servlet/event.showcfp?eventid=177158&copyo
 wnerid=80484
UID:cfp978811-E@wikicfp.com
END:VEVENT
BEGIN:VEVENT
DTSTAMP:20260423T130647Z
DTSTART;VALUE=DATE:20240525
SUMMARY:Springer AIVR 2024 Deadline
DESCRIPTION:Springer--2024 8th International Conference on Artificial Int
 elligence and Virtual Reality (AIVR 2024)
URL:http://www.wikicfp.com/cfp/servlet/event.showcfp?eventid=177158&copyo
 wnerid=80484
UID:cfp978811-D@wikicfp.com
END:VEVENT
BEGIN:VEVENT
DTSTAMP:20260423T130647Z
DTSTART;VALUE=DATE:20250729
DTEND;VALUE=DATE:20250802
SUMMARY:ICEMT--EI 2025
DESCRIPTION:2025 The 9th International Conference on Education and Multim
 edia Technology (ICEMT 2025)
URL:http://www.wikicfp.com/cfp/servlet/event.showcfp?eventid=182990&copyo
 wnerid=80484
UID:cfp1001691-E@wikicfp.com
END:VEVENT
BEGIN:VEVENT
DTSTAMP:20260423T130647Z
DTSTART;VALUE=DATE:20250520
SUMMARY:ICEMT--EI 2025 Deadline
DESCRIPTION:2025 The 9th International Conference on Education and Multim
 edia Technology (ICEMT 2025)
URL:http://www.wikicfp.com/cfp/servlet/event.showcfp?eventid=182990&copyo
 wnerid=80484
UID:cfp1001691-D@wikicfp.com
END:VEVENT
END:VCALENDAR
