BEGIN:VCALENDAR
PRODID:-//WikiCFP//satoshimasuda 1.0//EN
VERSION:2.0
CALSCALE:GREGORIAN
BEGIN:VEVENT
DTSTAMP:20260420T164708Z
DTSTART;VALUE=DATE:20230514
DTEND;VALUE=DATE:20230521
SUMMARY:ICSE 2023
DESCRIPTION:45th International Conference on Software Engineering
URL:http://www.wikicfp.com/cfp/servlet/event.showcfp?eventid=156689&copyo
 wnerid=80257
UID:cfp970536-E@wikicfp.com
END:VEVENT
BEGIN:VEVENT
DTSTAMP:20260420T164708Z
DTSTART;VALUE=DATE:20220901
SUMMARY:ICSE 2023 Deadline
DESCRIPTION:45th International Conference on Software Engineering
URL:http://www.wikicfp.com/cfp/servlet/event.showcfp?eventid=156689&copyo
 wnerid=80257
UID:cfp970536-D@wikicfp.com
END:VEVENT
BEGIN:VEVENT
DTSTAMP:20260420T164708Z
DTSTART;VALUE=DATE:20221209
SUMMARY:ICSE 2023 Notification Due
DESCRIPTION:45th International Conference on Software Engineering
URL:http://www.wikicfp.com/cfp/servlet/event.showcfp?eventid=156689&copyo
 wnerid=80257
UID:cfp970536-N@wikicfp.com
END:VEVENT
BEGIN:VEVENT
DTSTAMP:20260420T164708Z
DTSTART;VALUE=DATE:20230210
SUMMARY:ICSE 2023 Final Version Due
DESCRIPTION:45th International Conference on Software Engineering
URL:http://www.wikicfp.com/cfp/servlet/event.showcfp?eventid=156689&copyo
 wnerid=80257
UID:cfp970536-N@wikicfp.com
END:VEVENT
BEGIN:VEVENT
DTSTAMP:20260420T164708Z
DTSTART;VALUE=DATE:20230424
DTEND;VALUE=DATE:20230427
SUMMARY:CODASPY 2023
DESCRIPTION:The 13th ACM Conference on Data and Application Security and 
 Privacy
URL:http://www.wikicfp.com/cfp/servlet/event.showcfp?eventid=168011&copyo
 wnerid=80257
UID:cfp970531-E@wikicfp.com
END:VEVENT
BEGIN:VEVENT
DTSTAMP:20260420T164708Z
DTSTART;VALUE=DATE:20221010
SUMMARY:CODASPY 2023 Abstract Due
DESCRIPTION:The 13th ACM Conference on Data and Application Security and 
 Privacy
URL:http://www.wikicfp.com/cfp/servlet/event.showcfp?eventid=168011&copyo
 wnerid=80257
UID:cfp970531-A@wikicfp.com
END:VEVENT
BEGIN:VEVENT
DTSTAMP:20260420T164708Z
DTSTART;VALUE=DATE:20221017
SUMMARY:CODASPY 2023 Deadline
DESCRIPTION:The 13th ACM Conference on Data and Application Security and 
 Privacy
URL:http://www.wikicfp.com/cfp/servlet/event.showcfp?eventid=168011&copyo
 wnerid=80257
UID:cfp970531-D@wikicfp.com
END:VEVENT
BEGIN:VEVENT
DTSTAMP:20260420T164708Z
DTSTART;VALUE=DATE:20221217
SUMMARY:CODASPY 2023 Notification Due
DESCRIPTION:The 13th ACM Conference on Data and Application Security and 
 Privacy
URL:http://www.wikicfp.com/cfp/servlet/event.showcfp?eventid=168011&copyo
 wnerid=80257
UID:cfp970531-N@wikicfp.com
END:VEVENT
BEGIN:VEVENT
DTSTAMP:20260420T164708Z
DTSTART;VALUE=DATE:20230416
DTEND;VALUE=DATE:20230421
SUMMARY:ICST 2023
DESCRIPTION:16th IEEE International Conference on Software Testing\, Veri
 fication and Validation
URL:http://www.wikicfp.com/cfp/servlet/event.showcfp?eventid=168050&copyo
 wnerid=80257
UID:cfp970535-E@wikicfp.com
END:VEVENT
BEGIN:VEVENT
DTSTAMP:20260420T164708Z
DTSTART;VALUE=DATE:20221020
SUMMARY:ICST 2023 Deadline
DESCRIPTION:16th IEEE International Conference on Software Testing\, Veri
 fication and Validation
URL:http://www.wikicfp.com/cfp/servlet/event.showcfp?eventid=168050&copyo
 wnerid=80257
UID:cfp970535-D@wikicfp.com
END:VEVENT
BEGIN:VEVENT
DTSTAMP:20260420T164708Z
DTSTART;VALUE=DATE:20221216
SUMMARY:ICST 2023 Notification Due
DESCRIPTION:16th IEEE International Conference on Software Testing\, Veri
 fication and Validation
URL:http://www.wikicfp.com/cfp/servlet/event.showcfp?eventid=168050&copyo
 wnerid=80257
UID:cfp970535-N@wikicfp.com
END:VEVENT
BEGIN:VEVENT
DTSTAMP:20260420T164708Z
DTSTART;VALUE=DATE:20230529
DTEND;VALUE=DATE:20230602
SUMMARY:WISEC 2023
DESCRIPTION:16th ACM Conference on Security and Privacy in Wireless and M
 obile Networks
URL:http://www.wikicfp.com/cfp/servlet/event.showcfp?eventid=169412&copyo
 wnerid=80257
UID:cfp970529-E@wikicfp.com
END:VEVENT
BEGIN:VEVENT
DTSTAMP:20260420T164708Z
DTSTART;VALUE=DATE:20221117
SUMMARY:WISEC 2023 Deadline
DESCRIPTION:16th ACM Conference on Security and Privacy in Wireless and M
 obile Networks
URL:http://www.wikicfp.com/cfp/servlet/event.showcfp?eventid=169412&copyo
 wnerid=80257
UID:cfp970529-D@wikicfp.com
END:VEVENT
BEGIN:VEVENT
DTSTAMP:20260420T164708Z
DTSTART;VALUE=DATE:20221220
SUMMARY:WISEC 2023 Notification Due
DESCRIPTION:16th ACM Conference on Security and Privacy in Wireless and M
 obile Networks
URL:http://www.wikicfp.com/cfp/servlet/event.showcfp?eventid=169412&copyo
 wnerid=80257
UID:cfp970529-N@wikicfp.com
END:VEVENT
BEGIN:VEVENT
DTSTAMP:20260420T164708Z
DTSTART;VALUE=DATE:20230114
SUMMARY:WISEC 2023 Final Version Due
DESCRIPTION:16th ACM Conference on Security and Privacy in Wireless and M
 obile Networks
URL:http://www.wikicfp.com/cfp/servlet/event.showcfp?eventid=169412&copyo
 wnerid=80257
UID:cfp970529-N@wikicfp.com
END:VEVENT
BEGIN:VEVENT
DTSTAMP:20260420T164708Z
DTSTART;VALUE=DATE:20230712
DTEND;VALUE=DATE:20230715
SUMMARY:DIMVA 2023
DESCRIPTION:20th Conference on Detection of Intrusions and Malware & Vuln
 erability Assessment
URL:http://www.wikicfp.com/cfp/servlet/event.showcfp?eventid=170121&copyo
 wnerid=80257
UID:cfp970527-E@wikicfp.com
END:VEVENT
BEGIN:VEVENT
DTSTAMP:20260420T164708Z
DTSTART;VALUE=DATE:20221207
SUMMARY:DIMVA 2023 Deadline
DESCRIPTION:20th Conference on Detection of Intrusions and Malware & Vuln
 erability Assessment
URL:http://www.wikicfp.com/cfp/servlet/event.showcfp?eventid=170121&copyo
 wnerid=80257
UID:cfp970527-D@wikicfp.com
END:VEVENT
BEGIN:VEVENT
DTSTAMP:20260420T164708Z
DTSTART;VALUE=DATE:20230125
SUMMARY:DIMVA 2023 Notification Due
DESCRIPTION:20th Conference on Detection of Intrusions and Malware & Vuln
 erability Assessment
URL:http://www.wikicfp.com/cfp/servlet/event.showcfp?eventid=170121&copyo
 wnerid=80257
UID:cfp970527-N@wikicfp.com
END:VEVENT
BEGIN:VEVENT
DTSTAMP:20260420T164708Z
DTSTART;VALUE=DATE:20230419
SUMMARY:DIMVA 2023 Final Version Due
DESCRIPTION:20th Conference on Detection of Intrusions and Malware & Vuln
 erability Assessment
URL:http://www.wikicfp.com/cfp/servlet/event.showcfp?eventid=170121&copyo
 wnerid=80257
UID:cfp970527-N@wikicfp.com
END:VEVENT
BEGIN:VEVENT
DTSTAMP:20260420T164708Z
DTSTART;VALUE=DATE:20230426
DTEND;VALUE=DATE:20230427
SUMMARY:ACM SaT-CPS 2023
DESCRIPTION:ACM Workshop on Secure and Trustworthy Cyber-Physical Systems
 
URL:http://www.wikicfp.com/cfp/servlet/event.showcfp?eventid=169981&copyo
 wnerid=80257
UID:cfp970534-E@wikicfp.com
END:VEVENT
BEGIN:VEVENT
DTSTAMP:20260420T164708Z
DTSTART;VALUE=DATE:20230107
SUMMARY:ACM SaT-CPS 2023 Deadline
DESCRIPTION:ACM Workshop on Secure and Trustworthy Cyber-Physical Systems
 
URL:http://www.wikicfp.com/cfp/servlet/event.showcfp?eventid=169981&copyo
 wnerid=80257
UID:cfp970534-D@wikicfp.com
END:VEVENT
BEGIN:VEVENT
DTSTAMP:20260420T164708Z
DTSTART;VALUE=DATE:20230426
DTEND;VALUE=DATE:20230427
SUMMARY:IWSPA 2023
DESCRIPTION:9th ACM International Workshop on Security and Privacy Analyt
 ics
URL:http://www.wikicfp.com/cfp/servlet/event.showcfp?eventid=169753&copyo
 wnerid=80257
UID:cfp970533-E@wikicfp.com
END:VEVENT
BEGIN:VEVENT
DTSTAMP:20260420T164708Z
DTSTART;VALUE=DATE:20230116
SUMMARY:IWSPA 2023 Deadline
DESCRIPTION:9th ACM International Workshop on Security and Privacy Analyt
 ics
URL:http://www.wikicfp.com/cfp/servlet/event.showcfp?eventid=169753&copyo
 wnerid=80257
UID:cfp970533-D@wikicfp.com
END:VEVENT
BEGIN:VEVENT
DTSTAMP:20260420T164708Z
DTSTART;VALUE=DATE:20230201
SUMMARY:IWSPA 2023 Notification Due
DESCRIPTION:9th ACM International Workshop on Security and Privacy Analyt
 ics
URL:http://www.wikicfp.com/cfp/servlet/event.showcfp?eventid=169753&copyo
 wnerid=80257
UID:cfp970533-N@wikicfp.com
END:VEVENT
BEGIN:VEVENT
DTSTAMP:20260420T164708Z
DTSTART;VALUE=DATE:20230207
SUMMARY:IWSPA 2023 Final Version Due
DESCRIPTION:9th ACM International Workshop on Security and Privacy Analyt
 ics
URL:http://www.wikicfp.com/cfp/servlet/event.showcfp?eventid=169753&copyo
 wnerid=80257
UID:cfp970533-N@wikicfp.com
END:VEVENT
BEGIN:VEVENT
DTSTAMP:20260420T164708Z
DTSTART;VALUE=DATE:20230707
DTEND;VALUE=DATE:20230708
SUMMARY:WoRMA 2023
DESCRIPTION:2nd Workshop on Robust Malware Analysis
URL:http://www.wikicfp.com/cfp/servlet/event.showcfp?eventid=171166&copyo
 wnerid=80257
UID:cfp972582-E@wikicfp.com
END:VEVENT
BEGIN:VEVENT
DTSTAMP:20260420T164708Z
DTSTART;VALUE=DATE:20230315
SUMMARY:WoRMA 2023 Deadline
DESCRIPTION:2nd Workshop on Robust Malware Analysis
URL:http://www.wikicfp.com/cfp/servlet/event.showcfp?eventid=171166&copyo
 wnerid=80257
UID:cfp972582-D@wikicfp.com
END:VEVENT
BEGIN:VEVENT
DTSTAMP:20260420T164708Z
DTSTART;VALUE=DATE:20230430
SUMMARY:WoRMA 2023 Notification Due
DESCRIPTION:2nd Workshop on Robust Malware Analysis
URL:http://www.wikicfp.com/cfp/servlet/event.showcfp?eventid=171166&copyo
 wnerid=80257
UID:cfp972582-N@wikicfp.com
END:VEVENT
BEGIN:VEVENT
DTSTAMP:20260420T164708Z
DTSTART;VALUE=DATE:20230515
SUMMARY:WoRMA 2023 Final Version Due
DESCRIPTION:2nd Workshop on Robust Malware Analysis
URL:http://www.wikicfp.com/cfp/servlet/event.showcfp?eventid=171166&copyo
 wnerid=80257
UID:cfp972582-N@wikicfp.com
END:VEVENT
BEGIN:VEVENT
DTSTAMP:20260420T164708Z
DTSTART;VALUE=DATE:20231118
DTEND;VALUE=DATE:20231121
SUMMARY:ICICS 2023
DESCRIPTION:The 25th International Conference on Information and Communic
 ations Security
URL:http://www.wikicfp.com/cfp/servlet/event.showcfp?eventid=171137&copyo
 wnerid=80257
UID:cfp970528-E@wikicfp.com
END:VEVENT
BEGIN:VEVENT
DTSTAMP:20260420T164708Z
DTSTART;VALUE=DATE:20230406
SUMMARY:ICICS 2023 Deadline
DESCRIPTION:The 25th International Conference on Information and Communic
 ations Security
URL:http://www.wikicfp.com/cfp/servlet/event.showcfp?eventid=171137&copyo
 wnerid=80257
UID:cfp970528-D@wikicfp.com
END:VEVENT
BEGIN:VEVENT
DTSTAMP:20260420T164708Z
DTSTART;VALUE=DATE:20230610
SUMMARY:ICICS 2023 Notification Due
DESCRIPTION:The 25th International Conference on Information and Communic
 ations Security
URL:http://www.wikicfp.com/cfp/servlet/event.showcfp?eventid=171137&copyo
 wnerid=80257
UID:cfp970528-N@wikicfp.com
END:VEVENT
BEGIN:VEVENT
DTSTAMP:20260420T164708Z
DTSTART;VALUE=DATE:20231018
DTEND;VALUE=DATE:20231021
SUMMARY:SecDev 2023
DESCRIPTION:IEEE Secure Development Conference
URL:http://www.wikicfp.com/cfp/servlet/event.showcfp?eventid=171441&copyo
 wnerid=80257
UID:cfp970532-E@wikicfp.com
END:VEVENT
BEGIN:VEVENT
DTSTAMP:20260420T164708Z
DTSTART;VALUE=DATE:20230602
SUMMARY:SecDev 2023 Deadline
DESCRIPTION:IEEE Secure Development Conference
URL:http://www.wikicfp.com/cfp/servlet/event.showcfp?eventid=171441&copyo
 wnerid=80257
UID:cfp970532-D@wikicfp.com
END:VEVENT
BEGIN:VEVENT
DTSTAMP:20260420T164708Z
DTSTART;VALUE=DATE:20230804
SUMMARY:SecDev 2023 Notification Due
DESCRIPTION:IEEE Secure Development Conference
URL:http://www.wikicfp.com/cfp/servlet/event.showcfp?eventid=171441&copyo
 wnerid=80257
UID:cfp970532-N@wikicfp.com
END:VEVENT
BEGIN:VEVENT
DTSTAMP:20260420T164708Z
DTSTART;VALUE=DATE:20230908
SUMMARY:SecDev 2023 Final Version Due
DESCRIPTION:IEEE Secure Development Conference
URL:http://www.wikicfp.com/cfp/servlet/event.showcfp?eventid=171441&copyo
 wnerid=80257
UID:cfp970532-N@wikicfp.com
END:VEVENT
BEGIN:VEVENT
DTSTAMP:20260420T164708Z
DTSTART;VALUE=DATE:20231019
DTEND;VALUE=DATE:20231022
SUMMARY:EAI SecureComm 2023
DESCRIPTION:19th EAI International Conference on Security and Privacy in 
 Communication Networks
URL:http://www.wikicfp.com/cfp/servlet/event.showcfp?eventid=174218&copyo
 wnerid=80257
UID:cfp970525-E@wikicfp.com
END:VEVENT
BEGIN:VEVENT
DTSTAMP:20260420T164708Z
DTSTART;VALUE=DATE:20230620
SUMMARY:EAI SecureComm 2023 Deadline
DESCRIPTION:19th EAI International Conference on Security and Privacy in 
 Communication Networks
URL:http://www.wikicfp.com/cfp/servlet/event.showcfp?eventid=174218&copyo
 wnerid=80257
UID:cfp970525-D@wikicfp.com
END:VEVENT
BEGIN:VEVENT
DTSTAMP:20260420T164708Z
DTSTART;VALUE=DATE:20230720
SUMMARY:EAI SecureComm 2023 Notification Due
DESCRIPTION:19th EAI International Conference on Security and Privacy in 
 Communication Networks
URL:http://www.wikicfp.com/cfp/servlet/event.showcfp?eventid=174218&copyo
 wnerid=80257
UID:cfp970525-N@wikicfp.com
END:VEVENT
BEGIN:VEVENT
DTSTAMP:20260420T164708Z
DTSTART;VALUE=DATE:20230910
SUMMARY:EAI SecureComm 2023 Final Version Due
DESCRIPTION:19th EAI International Conference on Security and Privacy in 
 Communication Networks
URL:http://www.wikicfp.com/cfp/servlet/event.showcfp?eventid=174218&copyo
 wnerid=80257
UID:cfp970525-N@wikicfp.com
END:VEVENT
BEGIN:VEVENT
DTSTAMP:20260420T164708Z
DTSTART;VALUE=DATE:20231002
DTEND;VALUE=DATE:20231004
SUMMARY:SCAM 2023
DESCRIPTION:23nd IEEE International Working Conference on Source Code Ana
 lysis and Manipulation (SCAM)
URL:http://www.wikicfp.com/cfp/servlet/event.showcfp?eventid=173529&copyo
 wnerid=80257
UID:cfp970537-E@wikicfp.com
END:VEVENT
BEGIN:VEVENT
DTSTAMP:20260420T164708Z
DTSTART;VALUE=DATE:20230629
SUMMARY:SCAM 2023 Abstract Due
DESCRIPTION:23nd IEEE International Working Conference on Source Code Ana
 lysis and Manipulation (SCAM)
URL:http://www.wikicfp.com/cfp/servlet/event.showcfp?eventid=173529&copyo
 wnerid=80257
UID:cfp970537-A@wikicfp.com
END:VEVENT
BEGIN:VEVENT
DTSTAMP:20260420T164708Z
DTSTART;VALUE=DATE:20230706
SUMMARY:SCAM 2023 Deadline
DESCRIPTION:23nd IEEE International Working Conference on Source Code Ana
 lysis and Manipulation (SCAM)
URL:http://www.wikicfp.com/cfp/servlet/event.showcfp?eventid=173529&copyo
 wnerid=80257
UID:cfp970537-D@wikicfp.com
END:VEVENT
BEGIN:VEVENT
DTSTAMP:20260420T164708Z
DTSTART;VALUE=DATE:20230817
SUMMARY:SCAM 2023 Notification Due
DESCRIPTION:23nd IEEE International Working Conference on Source Code Ana
 lysis and Manipulation (SCAM)
URL:http://www.wikicfp.com/cfp/servlet/event.showcfp?eventid=173529&copyo
 wnerid=80257
UID:cfp970537-N@wikicfp.com
END:VEVENT
BEGIN:VEVENT
DTSTAMP:20260420T164708Z
DTSTART;VALUE=DATE:20230824
SUMMARY:SCAM 2023 Final Version Due
DESCRIPTION:23nd IEEE International Working Conference on Source Code Ana
 lysis and Manipulation (SCAM)
URL:http://www.wikicfp.com/cfp/servlet/event.showcfp?eventid=173529&copyo
 wnerid=80257
UID:cfp970537-N@wikicfp.com
END:VEVENT
BEGIN:VEVENT
DTSTAMP:20260420T164708Z
DTSTART;VALUE=DATE:20240520
DTEND;VALUE=DATE:20240524
SUMMARY:S&P 2024
DESCRIPTION:45th IEEE Symposium on Security and Privacy
URL:http://www.wikicfp.com/cfp/servlet/event.showcfp?eventid=175145&copyo
 wnerid=80257
UID:cfp972581-E@wikicfp.com
END:VEVENT
BEGIN:VEVENT
DTSTAMP:20260420T164708Z
DTSTART;VALUE=DATE:20230803
SUMMARY:S&P 2024 Deadline
DESCRIPTION:45th IEEE Symposium on Security and Privacy
URL:http://www.wikicfp.com/cfp/servlet/event.showcfp?eventid=175145&copyo
 wnerid=80257
UID:cfp972581-D@wikicfp.com
END:VEVENT
BEGIN:VEVENT
DTSTAMP:20260420T164708Z
DTSTART;VALUE=DATE:20230911
SUMMARY:S&P 2024 Notification Due
DESCRIPTION:45th IEEE Symposium on Security and Privacy
URL:http://www.wikicfp.com/cfp/servlet/event.showcfp?eventid=175145&copyo
 wnerid=80257
UID:cfp972581-N@wikicfp.com
END:VEVENT
BEGIN:VEVENT
DTSTAMP:20260420T164708Z
DTSTART;VALUE=DATE:20231208
SUMMARY:S&P 2024 Final Version Due
DESCRIPTION:45th IEEE Symposium on Security and Privacy
URL:http://www.wikicfp.com/cfp/servlet/event.showcfp?eventid=175145&copyo
 wnerid=80257
UID:cfp972581-N@wikicfp.com
END:VEVENT
BEGIN:VEVENT
DTSTAMP:20260420T164708Z
DTSTART;VALUE=DATE:20231215
DTEND;VALUE=DATE:20231218
SUMMARY:ICNS 2023
DESCRIPTION:2023 The 8th International Conference on Network Security (IC
 NS 2023)
URL:http://www.wikicfp.com/cfp/servlet/event.showcfp?eventid=172427&copyo
 wnerid=80257
UID:cfp970526-E@wikicfp.com
END:VEVENT
BEGIN:VEVENT
DTSTAMP:20260420T164708Z
DTSTART;VALUE=DATE:20231030
SUMMARY:ICNS 2023 Deadline
DESCRIPTION:2023 The 8th International Conference on Network Security (IC
 NS 2023)
URL:http://www.wikicfp.com/cfp/servlet/event.showcfp?eventid=172427&copyo
 wnerid=80257
UID:cfp970526-D@wikicfp.com
END:VEVENT
BEGIN:VEVENT
DTSTAMP:20260420T164708Z
DTSTART;VALUE=DATE:20240528
DTEND;VALUE=DATE:20240529
SUMMARY:InSTA 2024
DESCRIPTION:11th International Workshop on Software Test Architecture
URL:http://www.wikicfp.com/cfp/servlet/event.showcfp?eventid=177360&copyo
 wnerid=80257
UID:cfp979167-E@wikicfp.com
END:VEVENT
BEGIN:VEVENT
DTSTAMP:20260420T164708Z
DTSTART;VALUE=DATE:20240129
SUMMARY:InSTA 2024 Deadline
DESCRIPTION:11th International Workshop on Software Test Architecture
URL:http://www.wikicfp.com/cfp/servlet/event.showcfp?eventid=177360&copyo
 wnerid=80257
UID:cfp979167-D@wikicfp.com
END:VEVENT
BEGIN:VEVENT
DTSTAMP:20260420T164708Z
DTSTART;VALUE=DATE:20240226
SUMMARY:InSTA 2024 Notification Due
DESCRIPTION:11th International Workshop on Software Test Architecture
URL:http://www.wikicfp.com/cfp/servlet/event.showcfp?eventid=177360&copyo
 wnerid=80257
UID:cfp979167-N@wikicfp.com
END:VEVENT
BEGIN:VEVENT
DTSTAMP:20260420T164708Z
DTSTART;VALUE=DATE:20240301
SUMMARY:InSTA 2024 Final Version Due
DESCRIPTION:11th International Workshop on Software Test Architecture
URL:http://www.wikicfp.com/cfp/servlet/event.showcfp?eventid=177360&copyo
 wnerid=80257
UID:cfp979167-N@wikicfp.com
END:VEVENT
END:VCALENDAR
