BEGIN:VCALENDAR
PRODID:-//WikiCFP//megnar 1.0//EN
VERSION:2.0
CALSCALE:GREGORIAN
BEGIN:VEVENT
DTSTAMP:20260421T230222Z
DTSTART;VALUE=DATE:20150707
SUMMARY:SIASE 2015 Deadline
DESCRIPTION:Journal of Software Engineering: Special Issue on Automated S
 oftware Engineering
URL:http://www.wikicfp.com/cfp/servlet/event.showcfp?eventid=46760&copyow
 nerid=79641
UID:cfp538253-D@wikicfp.com
END:VEVENT
BEGIN:VEVENT
DTSTAMP:20260421T230222Z
DTSTART;VALUE=DATE:20150721
SUMMARY:SIASE 2015 Notification Due
DESCRIPTION:Journal of Software Engineering: Special Issue on Automated S
 oftware Engineering
URL:http://www.wikicfp.com/cfp/servlet/event.showcfp?eventid=46760&copyow
 nerid=79641
UID:cfp538253-N@wikicfp.com
END:VEVENT
BEGIN:VEVENT
DTSTAMP:20260421T230222Z
DTSTART;VALUE=DATE:20150730
SUMMARY:SIASE 2015 Final Version Due
DESCRIPTION:Journal of Software Engineering: Special Issue on Automated S
 oftware Engineering
URL:http://www.wikicfp.com/cfp/servlet/event.showcfp?eventid=46760&copyow
 nerid=79641
UID:cfp538253-N@wikicfp.com
END:VEVENT
BEGIN:VEVENT
DTSTAMP:20260421T230222Z
DTSTART;VALUE=DATE:20151103
DTEND;VALUE=DATE:20151107
SUMMARY:ACPR 2015
DESCRIPTION:3rd Asian Conference on Pattern Recognition
URL:http://www.wikicfp.com/cfp/servlet/event.showcfp?eventid=39134&copyow
 nerid=79641
UID:cfp538247-E@wikicfp.com
END:VEVENT
BEGIN:VEVENT
DTSTAMP:20260421T230222Z
DTSTART;VALUE=DATE:20150710
SUMMARY:ACPR 2015 Deadline
DESCRIPTION:3rd Asian Conference on Pattern Recognition
URL:http://www.wikicfp.com/cfp/servlet/event.showcfp?eventid=39134&copyow
 nerid=79641
UID:cfp538247-D@wikicfp.com
END:VEVENT
BEGIN:VEVENT
DTSTAMP:20260421T230222Z
DTSTART;VALUE=DATE:20150831
SUMMARY:ACPR 2015 Notification Due
DESCRIPTION:3rd Asian Conference on Pattern Recognition
URL:http://www.wikicfp.com/cfp/servlet/event.showcfp?eventid=39134&copyow
 nerid=79641
UID:cfp538247-N@wikicfp.com
END:VEVENT
BEGIN:VEVENT
DTSTAMP:20260421T230222Z
DTSTART;VALUE=DATE:20150925
SUMMARY:ACPR 2015 Final Version Due
DESCRIPTION:3rd Asian Conference on Pattern Recognition
URL:http://www.wikicfp.com/cfp/servlet/event.showcfp?eventid=39134&copyow
 nerid=79641
UID:cfp538247-N@wikicfp.com
END:VEVENT
BEGIN:VEVENT
DTSTAMP:20260421T230222Z
DTSTART;VALUE=DATE:20151113
DTEND;VALUE=DATE:20151116
SUMMARY:VRST 2015
DESCRIPTION:The 21st ACM Symposium on Virtual Reality Software and Techno
 logy
URL:http://www.wikicfp.com/cfp/servlet/event.showcfp?eventid=45344&copyow
 nerid=79641
UID:cfp538251-E@wikicfp.com
END:VEVENT
BEGIN:VEVENT
DTSTAMP:20260421T230222Z
DTSTART;VALUE=DATE:20150710
SUMMARY:VRST 2015 Deadline
DESCRIPTION:The 21st ACM Symposium on Virtual Reality Software and Techno
 logy
URL:http://www.wikicfp.com/cfp/servlet/event.showcfp?eventid=45344&copyow
 nerid=79641
UID:cfp538251-D@wikicfp.com
END:VEVENT
BEGIN:VEVENT
DTSTAMP:20260421T230222Z
DTSTART;VALUE=DATE:20150830
SUMMARY:VRST 2015 Notification Due
DESCRIPTION:The 21st ACM Symposium on Virtual Reality Software and Techno
 logy
URL:http://www.wikicfp.com/cfp/servlet/event.showcfp?eventid=45344&copyow
 nerid=79641
UID:cfp538251-N@wikicfp.com
END:VEVENT
BEGIN:VEVENT
DTSTAMP:20260421T230222Z
DTSTART;VALUE=DATE:20150915
SUMMARY:VRST 2015 Final Version Due
DESCRIPTION:The 21st ACM Symposium on Virtual Reality Software and Techno
 logy
URL:http://www.wikicfp.com/cfp/servlet/event.showcfp?eventid=45344&copyow
 nerid=79641
UID:cfp538251-N@wikicfp.com
END:VEVENT
BEGIN:VEVENT
DTSTAMP:20260421T230222Z
DTSTART;VALUE=DATE:20151102
DTEND;VALUE=DATE:20151104
SUMMARY:IEEE CGVIS 2015
DESCRIPTION:2015 IEEE International Conference  on Computer Graphics\, Vi
 sion and Information Security ( IEEE CGVIS)
URL:http://www.wikicfp.com/cfp/servlet/event.showcfp?eventid=45465&copyow
 nerid=79641
UID:cfp538252-E@wikicfp.com
END:VEVENT
BEGIN:VEVENT
DTSTAMP:20260421T230222Z
DTSTART;VALUE=DATE:20150710
SUMMARY:IEEE CGVIS 2015 Deadline
DESCRIPTION:2015 IEEE International Conference  on Computer Graphics\, Vi
 sion and Information Security ( IEEE CGVIS)
URL:http://www.wikicfp.com/cfp/servlet/event.showcfp?eventid=45465&copyow
 nerid=79641
UID:cfp538252-D@wikicfp.com
END:VEVENT
BEGIN:VEVENT
DTSTAMP:20260421T230222Z
DTSTART;VALUE=DATE:20150810
SUMMARY:IEEE CGVIS 2015 Notification Due
DESCRIPTION:2015 IEEE International Conference  on Computer Graphics\, Vi
 sion and Information Security ( IEEE CGVIS)
URL:http://www.wikicfp.com/cfp/servlet/event.showcfp?eventid=45465&copyow
 nerid=79641
UID:cfp538252-N@wikicfp.com
END:VEVENT
BEGIN:VEVENT
DTSTAMP:20260421T230222Z
DTSTART;VALUE=DATE:20150910
SUMMARY:IEEE CGVIS 2015 Final Version Due
DESCRIPTION:2015 IEEE International Conference  on Computer Graphics\, Vi
 sion and Information Security ( IEEE CGVIS)
URL:http://www.wikicfp.com/cfp/servlet/event.showcfp?eventid=45465&copyow
 nerid=79641
UID:cfp538252-N@wikicfp.com
END:VEVENT
BEGIN:VEVENT
DTSTAMP:20260421T230222Z
DTSTART;VALUE=DATE:20150905
SUMMARY:IJAIA 2015 Deadline
DESCRIPTION:International Journal of Artificial Intelligence & Applicatio
 ns
URL:http://www.wikicfp.com/cfp/servlet/event.showcfp?eventid=40497&copyow
 nerid=79641
UID:cfp538248-D@wikicfp.com
END:VEVENT
BEGIN:VEVENT
DTSTAMP:20260421T230222Z
DTSTART;VALUE=DATE:20151005
SUMMARY:IJAIA 2015 Notification Due
DESCRIPTION:International Journal of Artificial Intelligence & Applicatio
 ns
URL:http://www.wikicfp.com/cfp/servlet/event.showcfp?eventid=40497&copyow
 nerid=79641
UID:cfp538248-N@wikicfp.com
END:VEVENT
BEGIN:VEVENT
DTSTAMP:20260421T230222Z
DTSTART;VALUE=DATE:20151015
SUMMARY:IJAIA 2015 Final Version Due
DESCRIPTION:International Journal of Artificial Intelligence & Applicatio
 ns
URL:http://www.wikicfp.com/cfp/servlet/event.showcfp?eventid=40497&copyow
 nerid=79641
UID:cfp538248-N@wikicfp.com
END:VEVENT
BEGIN:VEVENT
DTSTAMP:20260421T230222Z
DTSTART;VALUE=DATE:20160213
SUMMARY:IJCSEIT 2016 Deadline
DESCRIPTION:International Journal of Computer Science\, Engineering and I
 nformation Technology
URL:http://www.wikicfp.com/cfp/servlet/event.showcfp?eventid=43910&copyow
 nerid=79641
UID:cfp538250-D@wikicfp.com
END:VEVENT
BEGIN:VEVENT
DTSTAMP:20260421T230222Z
DTSTART;VALUE=DATE:20160313
SUMMARY:IJCSEIT 2016 Notification Due
DESCRIPTION:International Journal of Computer Science\, Engineering and I
 nformation Technology
URL:http://www.wikicfp.com/cfp/servlet/event.showcfp?eventid=43910&copyow
 nerid=79641
UID:cfp538250-N@wikicfp.com
END:VEVENT
BEGIN:VEVENT
DTSTAMP:20260421T230222Z
DTSTART;VALUE=DATE:20160321
SUMMARY:IJCSEIT 2016 Final Version Due
DESCRIPTION:International Journal of Computer Science\, Engineering and I
 nformation Technology
URL:http://www.wikicfp.com/cfp/servlet/event.showcfp?eventid=43910&copyow
 nerid=79641
UID:cfp538250-N@wikicfp.com
END:VEVENT
BEGIN:VEVENT
DTSTAMP:20260421T230222Z
DTSTART;VALUE=DATE:20170429
SUMMARY:IJE 2017 Deadline
DESCRIPTION:International Journal of Education
URL:http://www.wikicfp.com/cfp/servlet/event.showcfp?eventid=45857&copyow
 nerid=79641
UID:cfp538246-D@wikicfp.com
END:VEVENT
BEGIN:VEVENT
DTSTAMP:20260421T230222Z
DTSTART;VALUE=DATE:20170529
SUMMARY:IJE 2017 Notification Due
DESCRIPTION:International Journal of Education
URL:http://www.wikicfp.com/cfp/servlet/event.showcfp?eventid=45857&copyow
 nerid=79641
UID:cfp538246-N@wikicfp.com
END:VEVENT
BEGIN:VEVENT
DTSTAMP:20260421T230222Z
DTSTART;VALUE=DATE:20170608
SUMMARY:IJE 2017 Final Version Due
DESCRIPTION:International Journal of Education
URL:http://www.wikicfp.com/cfp/servlet/event.showcfp?eventid=45857&copyow
 nerid=79641
UID:cfp538246-N@wikicfp.com
END:VEVENT
BEGIN:VEVENT
DTSTAMP:20260421T230222Z
DTSTART;VALUE=DATE:20181030
SUMMARY:IJCS 2018 Deadline
DESCRIPTION:International Journal of Computer Systems
URL:http://www.wikicfp.com/cfp/servlet/event.showcfp?eventid=41213&copyow
 nerid=79641
UID:cfp538249-D@wikicfp.com
END:VEVENT
END:VCALENDAR
