BEGIN:VCALENDAR
PRODID:-//WikiCFP//SFF4aA 1.0//EN
VERSION:2.0
CALSCALE:GREGORIAN
BEGIN:VEVENT
DTSTAMP:20260425T134022Z
DTSTART;VALUE=DATE:20151106
DTEND;VALUE=DATE:20151108
SUMMARY:SIAI  2015
DESCRIPTION:SOCIAL IMPLICATIONS OF ARTIFICIAL INTELLIGENCE â SEOUL CONF
 ERENCE
URL:http://www.wikicfp.com/cfp/servlet/event.showcfp?eventid=46969&copyow
 nerid=79426
UID:cfp536526-E@wikicfp.com
END:VEVENT
BEGIN:VEVENT
DTSTAMP:20260425T134022Z
DTSTART;VALUE=DATE:20150901
SUMMARY:SIAI  2015 Deadline
DESCRIPTION:SOCIAL IMPLICATIONS OF ARTIFICIAL INTELLIGENCE â SEOUL CONF
 ERENCE
URL:http://www.wikicfp.com/cfp/servlet/event.showcfp?eventid=46969&copyow
 nerid=79426
UID:cfp536526-D@wikicfp.com
END:VEVENT
BEGIN:VEVENT
DTSTAMP:20260425T134022Z
DTSTART;VALUE=DATE:20150930
SUMMARY:SIAI  2015 Notification Due
DESCRIPTION:SOCIAL IMPLICATIONS OF ARTIFICIAL INTELLIGENCE â SEOUL CONF
 ERENCE
URL:http://www.wikicfp.com/cfp/servlet/event.showcfp?eventid=46969&copyow
 nerid=79426
UID:cfp536526-N@wikicfp.com
END:VEVENT
BEGIN:VEVENT
DTSTAMP:20260425T134022Z
DTSTART;VALUE=DATE:20150901
SUMMARY:SIAI  2015 Final Version Due
DESCRIPTION:SOCIAL IMPLICATIONS OF ARTIFICIAL INTELLIGENCE â SEOUL CONF
 ERENCE
URL:http://www.wikicfp.com/cfp/servlet/event.showcfp?eventid=46969&copyow
 nerid=79426
UID:cfp536526-N@wikicfp.com
END:VEVENT
END:VCALENDAR
