BEGIN:VCALENDAR
PRODID:-//WikiCFP//Elect_1 1.0//EN
VERSION:2.0
CALSCALE:GREGORIAN
BEGIN:VEVENT
DTSTAMP:20260420T210047Z
DTSTART;VALUE=DATE:20160921
DTEND;VALUE=DATE:20160923
SUMMARY:RPG 2016
DESCRIPTION:The 5th International Conference on Renewable Power Generatio
 n
URL:http://www.wikicfp.com/cfp/servlet/event.showcfp?eventid=45651&copyow
 nerid=79330
UID:cfp536079-E@wikicfp.com
END:VEVENT
BEGIN:VEVENT
DTSTAMP:20260420T210047Z
DTSTART;VALUE=DATE:20151211
SUMMARY:RPG 2016 Deadline
DESCRIPTION:The 5th International Conference on Renewable Power Generatio
 n
URL:http://www.wikicfp.com/cfp/servlet/event.showcfp?eventid=45651&copyow
 nerid=79330
UID:cfp536079-D@wikicfp.com
END:VEVENT
BEGIN:VEVENT
DTSTAMP:20260420T210047Z
DTSTART;VALUE=DATE:20160304
SUMMARY:RPG 2016 Notification Due
DESCRIPTION:The 5th International Conference on Renewable Power Generatio
 n
URL:http://www.wikicfp.com/cfp/servlet/event.showcfp?eventid=45651&copyow
 nerid=79330
UID:cfp536079-N@wikicfp.com
END:VEVENT
BEGIN:VEVENT
DTSTAMP:20260420T210047Z
DTSTART;VALUE=DATE:20160422
SUMMARY:RPG 2016 Final Version Due
DESCRIPTION:The 5th International Conference on Renewable Power Generatio
 n
URL:http://www.wikicfp.com/cfp/servlet/event.showcfp?eventid=45651&copyow
 nerid=79330
UID:cfp536079-N@wikicfp.com
END:VEVENT
BEGIN:VEVENT
DTSTAMP:20260420T210047Z
DTSTART;VALUE=DATE:20160421
DTEND;VALUE=DATE:20160424
SUMMARY:EECEA 2016
DESCRIPTION:The Third International Conference on Electrical\, Electronic
 s\, Computer Engineering and their Applications
URL:http://www.wikicfp.com/cfp/servlet/event.showcfp?eventid=44746&copyow
 nerid=79330
UID:cfp536078-E@wikicfp.com
END:VEVENT
BEGIN:VEVENT
DTSTAMP:20260420T210047Z
DTSTART;VALUE=DATE:20160221
SUMMARY:EECEA 2016 Abstract Due
DESCRIPTION:The Third International Conference on Electrical\, Electronic
 s\, Computer Engineering and their Applications
URL:http://www.wikicfp.com/cfp/servlet/event.showcfp?eventid=44746&copyow
 nerid=79330
UID:cfp536078-A@wikicfp.com
END:VEVENT
BEGIN:VEVENT
DTSTAMP:20260420T210047Z
DTSTART;VALUE=DATE:20160321
SUMMARY:EECEA 2016 Deadline
DESCRIPTION:The Third International Conference on Electrical\, Electronic
 s\, Computer Engineering and their Applications
URL:http://www.wikicfp.com/cfp/servlet/event.showcfp?eventid=44746&copyow
 nerid=79330
UID:cfp536078-D@wikicfp.com
END:VEVENT
BEGIN:VEVENT
DTSTAMP:20260420T210047Z
DTSTART;VALUE=DATE:20160328
SUMMARY:EECEA 2016 Notification Due
DESCRIPTION:The Third International Conference on Electrical\, Electronic
 s\, Computer Engineering and their Applications
URL:http://www.wikicfp.com/cfp/servlet/event.showcfp?eventid=44746&copyow
 nerid=79330
UID:cfp536078-N@wikicfp.com
END:VEVENT
BEGIN:VEVENT
DTSTAMP:20260420T210047Z
DTSTART;VALUE=DATE:20160411
SUMMARY:EECEA 2016 Final Version Due
DESCRIPTION:The Third International Conference on Electrical\, Electronic
 s\, Computer Engineering and their Applications
URL:http://www.wikicfp.com/cfp/servlet/event.showcfp?eventid=44746&copyow
 nerid=79330
UID:cfp536078-N@wikicfp.com
END:VEVENT
END:VCALENDAR
