BEGIN:VCALENDAR
PRODID:-//WikiCFP//ctokyo 1.0//EN
VERSION:2.0
CALSCALE:GREGORIAN
BEGIN:VEVENT
DTSTAMP:20260421T075719Z
DTSTART;VALUE=DATE:20160411
DTEND;VALUE=DATE:20160416
SUMMARY:WWW 2016
DESCRIPTION:25th International World Wide Web Conference
URL:http://www.wikicfp.com/cfp/servlet/event.showcfp?eventid=47342&copyow
 nerid=79271
UID:cfp555374-E@wikicfp.com
END:VEVENT
BEGIN:VEVENT
DTSTAMP:20260421T075719Z
DTSTART;VALUE=DATE:20151010
SUMMARY:WWW 2016 Abstract Due
DESCRIPTION:25th International World Wide Web Conference
URL:http://www.wikicfp.com/cfp/servlet/event.showcfp?eventid=47342&copyow
 nerid=79271
UID:cfp555374-A@wikicfp.com
END:VEVENT
BEGIN:VEVENT
DTSTAMP:20260421T075719Z
DTSTART;VALUE=DATE:20151017
SUMMARY:WWW 2016 Deadline
DESCRIPTION:25th International World Wide Web Conference
URL:http://www.wikicfp.com/cfp/servlet/event.showcfp?eventid=47342&copyow
 nerid=79271
UID:cfp555374-D@wikicfp.com
END:VEVENT
BEGIN:VEVENT
DTSTAMP:20260421T075719Z
DTSTART;VALUE=DATE:20151215
SUMMARY:WWW 2016 Notification Due
DESCRIPTION:25th International World Wide Web Conference
URL:http://www.wikicfp.com/cfp/servlet/event.showcfp?eventid=47342&copyow
 nerid=79271
UID:cfp555374-N@wikicfp.com
END:VEVENT
BEGIN:VEVENT
DTSTAMP:20260421T075719Z
DTSTART;VALUE=DATE:20160207
SUMMARY:WWW 2016 Final Version Due
DESCRIPTION:25th International World Wide Web Conference
URL:http://www.wikicfp.com/cfp/servlet/event.showcfp?eventid=47342&copyow
 nerid=79271
UID:cfp555374-N@wikicfp.com
END:VEVENT
END:VCALENDAR
