BEGIN:VCALENDAR
PRODID:-//WikiCFP//pritirkpit 1.0//EN
VERSION:2.0
CALSCALE:GREGORIAN
BEGIN:VEVENT
DTSTAMP:20260422T122745Z
DTSTART;VALUE=DATE:20150909
DTEND;VALUE=DATE:20150912
SUMMARY:NICE 2015
DESCRIPTION:Nature-Inspired Computation in Engineering (NICE2015): An Int
 ernational Conference
URL:http://www.wikicfp.com/cfp/servlet/event.showcfp?eventid=44086&copyow
 nerid=79071
UID:cfp534345-E@wikicfp.com
END:VEVENT
BEGIN:VEVENT
DTSTAMP:20260422T122745Z
DTSTART;VALUE=DATE:20150615
SUMMARY:NICE 2015 Deadline
DESCRIPTION:Nature-Inspired Computation in Engineering (NICE2015): An Int
 ernational Conference
URL:http://www.wikicfp.com/cfp/servlet/event.showcfp?eventid=44086&copyow
 nerid=79071
UID:cfp534345-D@wikicfp.com
END:VEVENT
BEGIN:VEVENT
DTSTAMP:20260422T122745Z
DTSTART;VALUE=DATE:20150715
SUMMARY:NICE 2015 Notification Due
DESCRIPTION:Nature-Inspired Computation in Engineering (NICE2015): An Int
 ernational Conference
URL:http://www.wikicfp.com/cfp/servlet/event.showcfp?eventid=44086&copyow
 nerid=79071
UID:cfp534345-N@wikicfp.com
END:VEVENT
BEGIN:VEVENT
DTSTAMP:20260422T122745Z
DTSTART;VALUE=DATE:20150801
SUMMARY:NICE 2015 Final Version Due
DESCRIPTION:Nature-Inspired Computation in Engineering (NICE2015): An Int
 ernational Conference
URL:http://www.wikicfp.com/cfp/servlet/event.showcfp?eventid=44086&copyow
 nerid=79071
UID:cfp534345-N@wikicfp.com
END:VEVENT
BEGIN:VEVENT
DTSTAMP:20260422T122745Z
DTSTART;VALUE=DATE:20150909
DTEND;VALUE=DATE:20150912
SUMMARY:LCPC 2015
DESCRIPTION:The 28th International Workshop on  Languages and Compilers f
 or Parallel Computing
URL:http://www.wikicfp.com/cfp/servlet/event.showcfp?eventid=45042&copyow
 nerid=79071
UID:cfp534338-E@wikicfp.com
END:VEVENT
BEGIN:VEVENT
DTSTAMP:20260422T122745Z
DTSTART;VALUE=DATE:20150619
SUMMARY:LCPC 2015 Deadline
DESCRIPTION:The 28th International Workshop on  Languages and Compilers f
 or Parallel Computing
URL:http://www.wikicfp.com/cfp/servlet/event.showcfp?eventid=45042&copyow
 nerid=79071
UID:cfp534338-D@wikicfp.com
END:VEVENT
BEGIN:VEVENT
DTSTAMP:20260422T122745Z
DTSTART;VALUE=DATE:20150806
SUMMARY:LCPC 2015 Notification Due
DESCRIPTION:The 28th International Workshop on  Languages and Compilers f
 or Parallel Computing
URL:http://www.wikicfp.com/cfp/servlet/event.showcfp?eventid=45042&copyow
 nerid=79071
UID:cfp534338-N@wikicfp.com
END:VEVENT
BEGIN:VEVENT
DTSTAMP:20260422T122745Z
DTSTART;VALUE=DATE:20150828
SUMMARY:LCPC 2015 Final Version Due
DESCRIPTION:The 28th International Workshop on  Languages and Compilers f
 or Parallel Computing
URL:http://www.wikicfp.com/cfp/servlet/event.showcfp?eventid=45042&copyow
 nerid=79071
UID:cfp534338-N@wikicfp.com
END:VEVENT
BEGIN:VEVENT
DTSTAMP:20260422T122745Z
DTSTART;VALUE=DATE:20151102
DTEND;VALUE=DATE:20151105
SUMMARY:CASCON 2015
DESCRIPTION:25th Annual International Conference on Computer Science and 
 Software Engineering
URL:http://www.wikicfp.com/cfp/servlet/event.showcfp?eventid=46051&copyow
 nerid=79071
UID:cfp534348-E@wikicfp.com
END:VEVENT
BEGIN:VEVENT
DTSTAMP:20260422T122745Z
DTSTART;VALUE=DATE:20150612
SUMMARY:CASCON 2015 Abstract Due
DESCRIPTION:25th Annual International Conference on Computer Science and 
 Software Engineering
URL:http://www.wikicfp.com/cfp/servlet/event.showcfp?eventid=46051&copyow
 nerid=79071
UID:cfp534348-A@wikicfp.com
END:VEVENT
BEGIN:VEVENT
DTSTAMP:20260422T122745Z
DTSTART;VALUE=DATE:20150619
SUMMARY:CASCON 2015 Deadline
DESCRIPTION:25th Annual International Conference on Computer Science and 
 Software Engineering
URL:http://www.wikicfp.com/cfp/servlet/event.showcfp?eventid=46051&copyow
 nerid=79071
UID:cfp534348-D@wikicfp.com
END:VEVENT
BEGIN:VEVENT
DTSTAMP:20260422T122745Z
DTSTART;VALUE=DATE:20150724
SUMMARY:CASCON 2015 Notification Due
DESCRIPTION:25th Annual International Conference on Computer Science and 
 Software Engineering
URL:http://www.wikicfp.com/cfp/servlet/event.showcfp?eventid=46051&copyow
 nerid=79071
UID:cfp534348-N@wikicfp.com
END:VEVENT
BEGIN:VEVENT
DTSTAMP:20260422T122745Z
DTSTART;VALUE=DATE:20150821
SUMMARY:CASCON 2015 Final Version Due
DESCRIPTION:25th Annual International Conference on Computer Science and 
 Software Engineering
URL:http://www.wikicfp.com/cfp/servlet/event.showcfp?eventid=46051&copyow
 nerid=79071
UID:cfp534348-N@wikicfp.com
END:VEVENT
BEGIN:VEVENT
DTSTAMP:20260422T122745Z
DTSTART;VALUE=DATE:20151122
DTEND;VALUE=DATE:20151126
SUMMARY:SoNIC 2015
DESCRIPTION:Special Session on Nature Inspired Creative Computing 
URL:http://www.wikicfp.com/cfp/servlet/event.showcfp?eventid=44519&copyow
 nerid=79071
UID:cfp534341-E@wikicfp.com
END:VEVENT
BEGIN:VEVENT
DTSTAMP:20260422T122745Z
DTSTART;VALUE=DATE:20150701
SUMMARY:SoNIC 2015 Deadline
DESCRIPTION:Special Session on Nature Inspired Creative Computing 
URL:http://www.wikicfp.com/cfp/servlet/event.showcfp?eventid=44519&copyow
 nerid=79071
UID:cfp534341-D@wikicfp.com
END:VEVENT
BEGIN:VEVENT
DTSTAMP:20260422T122745Z
DTSTART;VALUE=DATE:20150901
SUMMARY:SoNIC 2015 Notification Due
DESCRIPTION:Special Session on Nature Inspired Creative Computing 
URL:http://www.wikicfp.com/cfp/servlet/event.showcfp?eventid=44519&copyow
 nerid=79071
UID:cfp534341-N@wikicfp.com
END:VEVENT
BEGIN:VEVENT
DTSTAMP:20260422T122745Z
DTSTART;VALUE=DATE:20150915
SUMMARY:SoNIC 2015 Final Version Due
DESCRIPTION:Special Session on Nature Inspired Creative Computing 
URL:http://www.wikicfp.com/cfp/servlet/event.showcfp?eventid=44519&copyow
 nerid=79071
UID:cfp534341-N@wikicfp.com
END:VEVENT
BEGIN:VEVENT
DTSTAMP:20260422T122745Z
DTSTART;VALUE=DATE:20151214
DTEND;VALUE=DATE:20151218
SUMMARY:ICPADS 2015
DESCRIPTION:21st IEEE International Conference on Parallel and Distribute
 d Systems 
URL:http://www.wikicfp.com/cfp/servlet/event.showcfp?eventid=44675&copyow
 nerid=79071
UID:cfp534340-E@wikicfp.com
END:VEVENT
BEGIN:VEVENT
DTSTAMP:20260422T122745Z
DTSTART;VALUE=DATE:20150701
SUMMARY:ICPADS 2015 Deadline
DESCRIPTION:21st IEEE International Conference on Parallel and Distribute
 d Systems 
URL:http://www.wikicfp.com/cfp/servlet/event.showcfp?eventid=44675&copyow
 nerid=79071
UID:cfp534340-D@wikicfp.com
END:VEVENT
BEGIN:VEVENT
DTSTAMP:20260422T122745Z
DTSTART;VALUE=DATE:20150902
SUMMARY:ICPADS 2015 Notification Due
DESCRIPTION:21st IEEE International Conference on Parallel and Distribute
 d Systems 
URL:http://www.wikicfp.com/cfp/servlet/event.showcfp?eventid=44675&copyow
 nerid=79071
UID:cfp534340-N@wikicfp.com
END:VEVENT
BEGIN:VEVENT
DTSTAMP:20260422T122745Z
DTSTART;VALUE=DATE:20151011
SUMMARY:ICPADS 2015 Final Version Due
DESCRIPTION:21st IEEE International Conference on Parallel and Distribute
 d Systems 
URL:http://www.wikicfp.com/cfp/servlet/event.showcfp?eventid=44675&copyow
 nerid=79071
UID:cfp534340-N@wikicfp.com
END:VEVENT
BEGIN:VEVENT
DTSTAMP:20260422T122745Z
DTSTART;VALUE=DATE:20151201
DTEND;VALUE=DATE:20151204
SUMMARY:NaBIC 2015
DESCRIPTION:7th World Congress on Nature and Biologically Inspired Comput
 ing
URL:http://www.wikicfp.com/cfp/servlet/event.showcfp?eventid=46034&copyow
 nerid=79071
UID:cfp534347-E@wikicfp.com
END:VEVENT
BEGIN:VEVENT
DTSTAMP:20260422T122745Z
DTSTART;VALUE=DATE:20150715
SUMMARY:NaBIC 2015 Deadline
DESCRIPTION:7th World Congress on Nature and Biologically Inspired Comput
 ing
URL:http://www.wikicfp.com/cfp/servlet/event.showcfp?eventid=46034&copyow
 nerid=79071
UID:cfp534347-D@wikicfp.com
END:VEVENT
BEGIN:VEVENT
DTSTAMP:20260422T122745Z
DTSTART;VALUE=DATE:20150815
SUMMARY:NaBIC 2015 Notification Due
DESCRIPTION:7th World Congress on Nature and Biologically Inspired Comput
 ing
URL:http://www.wikicfp.com/cfp/servlet/event.showcfp?eventid=46034&copyow
 nerid=79071
UID:cfp534347-N@wikicfp.com
END:VEVENT
BEGIN:VEVENT
DTSTAMP:20260422T122745Z
DTSTART;VALUE=DATE:20150915
SUMMARY:NaBIC 2015 Final Version Due
DESCRIPTION:7th World Congress on Nature and Biologically Inspired Comput
 ing
URL:http://www.wikicfp.com/cfp/servlet/event.showcfp?eventid=46034&copyow
 nerid=79071
UID:cfp534347-N@wikicfp.com
END:VEVENT
BEGIN:VEVENT
DTSTAMP:20260422T122745Z
DTSTART;VALUE=DATE:20151101
DTEND;VALUE=DATE:20151104
SUMMARY:IIT'15 2015
DESCRIPTION:11th International Conference on Innovations in Information T
 echnology 
URL:http://www.wikicfp.com/cfp/servlet/event.showcfp?eventid=43804&copyow
 nerid=79071
UID:cfp534343-E@wikicfp.com
END:VEVENT
BEGIN:VEVENT
DTSTAMP:20260422T122745Z
DTSTART;VALUE=DATE:20150809
SUMMARY:IIT'15 2015 Deadline
DESCRIPTION:11th International Conference on Innovations in Information T
 echnology 
URL:http://www.wikicfp.com/cfp/servlet/event.showcfp?eventid=43804&copyow
 nerid=79071
UID:cfp534343-D@wikicfp.com
END:VEVENT
BEGIN:VEVENT
DTSTAMP:20260422T122745Z
DTSTART;VALUE=DATE:20150830
SUMMARY:IIT'15 2015 Notification Due
DESCRIPTION:11th International Conference on Innovations in Information T
 echnology 
URL:http://www.wikicfp.com/cfp/servlet/event.showcfp?eventid=43804&copyow
 nerid=79071
UID:cfp534343-N@wikicfp.com
END:VEVENT
BEGIN:VEVENT
DTSTAMP:20260422T122745Z
DTSTART;VALUE=DATE:20150901
SUMMARY:IIT'15 2015 Final Version Due
DESCRIPTION:11th International Conference on Innovations in Information T
 echnology 
URL:http://www.wikicfp.com/cfp/servlet/event.showcfp?eventid=43804&copyow
 nerid=79071
UID:cfp534343-N@wikicfp.com
END:VEVENT
BEGIN:VEVENT
DTSTAMP:20260422T122745Z
DTSTART;VALUE=DATE:20150918
DTEND;VALUE=DATE:20150921
SUMMARY:ICIISCT 2015
DESCRIPTION:International Conference on Innovations in Intelligent System
 s and Computing Technologies (ICIISCT2015)
URL:http://www.wikicfp.com/cfp/servlet/event.showcfp?eventid=39407&copyow
 nerid=79071
UID:cfp534339-E@wikicfp.com
END:VEVENT
BEGIN:VEVENT
DTSTAMP:20260422T122745Z
DTSTART;VALUE=DATE:20150818
SUMMARY:ICIISCT 2015 Deadline
DESCRIPTION:International Conference on Innovations in Intelligent System
 s and Computing Technologies (ICIISCT2015)
URL:http://www.wikicfp.com/cfp/servlet/event.showcfp?eventid=39407&copyow
 nerid=79071
UID:cfp534339-D@wikicfp.com
END:VEVENT
BEGIN:VEVENT
DTSTAMP:20260422T122745Z
DTSTART;VALUE=DATE:20150905
SUMMARY:ICIISCT 2015 Final Version Due
DESCRIPTION:International Conference on Innovations in Intelligent System
 s and Computing Technologies (ICIISCT2015)
URL:http://www.wikicfp.com/cfp/servlet/event.showcfp?eventid=39407&copyow
 nerid=79071
UID:cfp534339-N@wikicfp.com
END:VEVENT
BEGIN:VEVENT
DTSTAMP:20260422T122745Z
DTSTART;VALUE=DATE:20150830
SUMMARY:AJSEA/MDASDP 2015 Deadline
DESCRIPTION:Model-Based Architecting and Model Driven Approaches in Syste
 m Development Process
URL:http://www.wikicfp.com/cfp/servlet/event.showcfp?eventid=41036&copyow
 nerid=79071
UID:cfp534342-D@wikicfp.com
END:VEVENT
END:VCALENDAR
