BEGIN:VCALENDAR
PRODID:-//WikiCFP//vibhor712 1.0//EN
VERSION:2.0
CALSCALE:GREGORIAN
BEGIN:VEVENT
DTSTAMP:20260420T023414Z
DTSTART;VALUE=DATE:20151123
DTEND;VALUE=DATE:20151128
SUMMARY:KARE 2015 2015
DESCRIPTION:8th IEEE International Workshop on Knowledge Acquisition\, Re
 use and Evaluation (KARE 2015)  
URL:http://www.wikicfp.com/cfp/servlet/event.showcfp?eventid=48378&copyow
 nerid=78816
UID:cfp555318-E@wikicfp.com
END:VEVENT
BEGIN:VEVENT
DTSTAMP:20260420T023414Z
DTSTART;VALUE=DATE:20150921
SUMMARY:KARE 2015 2015 Deadline
DESCRIPTION:8th IEEE International Workshop on Knowledge Acquisition\, Re
 use and Evaluation (KARE 2015)  
URL:http://www.wikicfp.com/cfp/servlet/event.showcfp?eventid=48378&copyow
 nerid=78816
UID:cfp555318-D@wikicfp.com
END:VEVENT
BEGIN:VEVENT
DTSTAMP:20260420T023414Z
DTSTART;VALUE=DATE:20151006
SUMMARY:KARE 2015 2015 Notification Due
DESCRIPTION:8th IEEE International Workshop on Knowledge Acquisition\, Re
 use and Evaluation (KARE 2015)  
URL:http://www.wikicfp.com/cfp/servlet/event.showcfp?eventid=48378&copyow
 nerid=78816
UID:cfp555318-N@wikicfp.com
END:VEVENT
BEGIN:VEVENT
DTSTAMP:20260420T023414Z
DTSTART;VALUE=DATE:20151015
SUMMARY:KARE 2015 2015 Final Version Due
DESCRIPTION:8th IEEE International Workshop on Knowledge Acquisition\, Re
 use and Evaluation (KARE 2015)  
URL:http://www.wikicfp.com/cfp/servlet/event.showcfp?eventid=48378&copyow
 nerid=78816
UID:cfp555318-N@wikicfp.com
END:VEVENT
END:VCALENDAR
