BEGIN:VCALENDAR
PRODID:-//WikiCFP//a_kulka 1.0//EN
VERSION:2.0
CALSCALE:GREGORIAN
BEGIN:VEVENT
DTSTAMP:20260420T050011Z
DTSTART;VALUE=DATE:20160215
DTEND;VALUE=DATE:20160219
SUMMARY:ICNC 2016
DESCRIPTION:International Conference on Computing\, Networking and Commun
 ications
URL:http://www.wikicfp.com/cfp/servlet/event.showcfp?eventid=44458&copyow
 nerid=78375
UID:cfp529943-E@wikicfp.com
END:VEVENT
BEGIN:VEVENT
DTSTAMP:20260420T050011Z
DTSTART;VALUE=DATE:20150705
SUMMARY:ICNC 2016 Deadline
DESCRIPTION:International Conference on Computing\, Networking and Commun
 ications
URL:http://www.wikicfp.com/cfp/servlet/event.showcfp?eventid=44458&copyow
 nerid=78375
UID:cfp529943-D@wikicfp.com
END:VEVENT
BEGIN:VEVENT
DTSTAMP:20260420T050011Z
DTSTART;VALUE=DATE:20150920
SUMMARY:ICNC 2016 Notification Due
DESCRIPTION:International Conference on Computing\, Networking and Commun
 ications
URL:http://www.wikicfp.com/cfp/servlet/event.showcfp?eventid=44458&copyow
 nerid=78375
UID:cfp529943-N@wikicfp.com
END:VEVENT
BEGIN:VEVENT
DTSTAMP:20260420T050011Z
DTSTART;VALUE=DATE:20151020
SUMMARY:ICNC 2016 Final Version Due
DESCRIPTION:International Conference on Computing\, Networking and Commun
 ications
URL:http://www.wikicfp.com/cfp/servlet/event.showcfp?eventid=44458&copyow
 nerid=78375
UID:cfp529943-N@wikicfp.com
END:VEVENT
BEGIN:VEVENT
DTSTAMP:20260420T050011Z
DTSTART;VALUE=DATE:20160410
DTEND;VALUE=DATE:20160416
SUMMARY:INFOCOM 2016
DESCRIPTION:IEEE Conference on Computer Communications
URL:http://www.wikicfp.com/cfp/servlet/event.showcfp?eventid=45050&copyow
 nerid=78375
UID:cfp529944-E@wikicfp.com
END:VEVENT
BEGIN:VEVENT
DTSTAMP:20260420T050011Z
DTSTART;VALUE=DATE:20150710
SUMMARY:INFOCOM 2016 Abstract Due
DESCRIPTION:IEEE Conference on Computer Communications
URL:http://www.wikicfp.com/cfp/servlet/event.showcfp?eventid=45050&copyow
 nerid=78375
UID:cfp529944-A@wikicfp.com
END:VEVENT
BEGIN:VEVENT
DTSTAMP:20260420T050011Z
DTSTART;VALUE=DATE:20150717
SUMMARY:INFOCOM 2016 Deadline
DESCRIPTION:IEEE Conference on Computer Communications
URL:http://www.wikicfp.com/cfp/servlet/event.showcfp?eventid=45050&copyow
 nerid=78375
UID:cfp529944-D@wikicfp.com
END:VEVENT
BEGIN:VEVENT
DTSTAMP:20260420T050011Z
DTSTART;VALUE=DATE:20151120
SUMMARY:INFOCOM 2016 Notification Due
DESCRIPTION:IEEE Conference on Computer Communications
URL:http://www.wikicfp.com/cfp/servlet/event.showcfp?eventid=45050&copyow
 nerid=78375
UID:cfp529944-N@wikicfp.com
END:VEVENT
BEGIN:VEVENT
DTSTAMP:20260420T050011Z
DTSTART;VALUE=DATE:20160115
SUMMARY:INFOCOM 2016 Final Version Due
DESCRIPTION:IEEE Conference on Computer Communications
URL:http://www.wikicfp.com/cfp/servlet/event.showcfp?eventid=45050&copyow
 nerid=78375
UID:cfp529944-N@wikicfp.com
END:VEVENT
END:VCALENDAR
