BEGIN:VCALENDAR
PRODID:-//WikiCFP//MITRunde 1.0//EN
VERSION:2.0
CALSCALE:GREGORIAN
BEGIN:VEVENT
DTSTAMP:20260420T221905Z
DTSTART;VALUE=DATE:20150609
DTEND;VALUE=DATE:20150613
SUMMARY:BSN 2015
DESCRIPTION:12th Body Sensor Networks Conference 2015
URL:http://www.wikicfp.com/cfp/servlet/event.showcfp?eventid=41824&copyow
 nerid=78271
UID:cfp529311-E@wikicfp.com
END:VEVENT
BEGIN:VEVENT
DTSTAMP:20260420T221905Z
DTSTART;VALUE=DATE:20150228
SUMMARY:BSN 2015 Deadline
DESCRIPTION:12th Body Sensor Networks Conference 2015
URL:http://www.wikicfp.com/cfp/servlet/event.showcfp?eventid=41824&copyow
 nerid=78271
UID:cfp529311-D@wikicfp.com
END:VEVENT
BEGIN:VEVENT
DTSTAMP:20260420T221905Z
DTSTART;VALUE=DATE:20150415
SUMMARY:BSN 2015 Notification Due
DESCRIPTION:12th Body Sensor Networks Conference 2015
URL:http://www.wikicfp.com/cfp/servlet/event.showcfp?eventid=41824&copyow
 nerid=78271
UID:cfp529311-N@wikicfp.com
END:VEVENT
BEGIN:VEVENT
DTSTAMP:20260420T221905Z
DTSTART;VALUE=DATE:20150825
DTEND;VALUE=DATE:20150830
SUMMARY:EMBC 2015
DESCRIPTION:37th Annual International Conference of the IEEE Engineering 
 in Medicine and Biology Society
URL:http://www.wikicfp.com/cfp/servlet/event.showcfp?eventid=40742&copyow
 nerid=78271
UID:cfp529314-E@wikicfp.com
END:VEVENT
BEGIN:VEVENT
DTSTAMP:20260420T221905Z
DTSTART;VALUE=DATE:20150315
SUMMARY:EMBC 2015 Deadline
DESCRIPTION:37th Annual International Conference of the IEEE Engineering 
 in Medicine and Biology Society
URL:http://www.wikicfp.com/cfp/servlet/event.showcfp?eventid=40742&copyow
 nerid=78271
UID:cfp529314-D@wikicfp.com
END:VEVENT
BEGIN:VEVENT
DTSTAMP:20260420T221905Z
DTSTART;VALUE=DATE:20150401
SUMMARY:EMBC 2015 Notification Due
DESCRIPTION:37th Annual International Conference of the IEEE Engineering 
 in Medicine and Biology Society
URL:http://www.wikicfp.com/cfp/servlet/event.showcfp?eventid=40742&copyow
 nerid=78271
UID:cfp529314-N@wikicfp.com
END:VEVENT
BEGIN:VEVENT
DTSTAMP:20260420T221905Z
DTSTART;VALUE=DATE:20150501
SUMMARY:EMBC 2015 Final Version Due
DESCRIPTION:37th Annual International Conference of the IEEE Engineering 
 in Medicine and Biology Society
URL:http://www.wikicfp.com/cfp/servlet/event.showcfp?eventid=40742&copyow
 nerid=78271
UID:cfp529314-N@wikicfp.com
END:VEVENT
BEGIN:VEVENT
DTSTAMP:20260420T221905Z
DTSTART;VALUE=DATE:20151014
DTEND;VALUE=DATE:20151017
SUMMARY:MOBIHEALTH 2015
DESCRIPTION:5th International Conference on Wireless Mobile Communication
  and Healthcare
URL:http://www.wikicfp.com/cfp/servlet/event.showcfp?eventid=45689&copyow
 nerid=78271
UID:cfp529312-E@wikicfp.com
END:VEVENT
BEGIN:VEVENT
DTSTAMP:20260420T221905Z
DTSTART;VALUE=DATE:20150601
SUMMARY:MOBIHEALTH 2015 Deadline
DESCRIPTION:5th International Conference on Wireless Mobile Communication
  and Healthcare
URL:http://www.wikicfp.com/cfp/servlet/event.showcfp?eventid=45689&copyow
 nerid=78271
UID:cfp529312-D@wikicfp.com
END:VEVENT
BEGIN:VEVENT
DTSTAMP:20260420T221905Z
DTSTART;VALUE=DATE:20150701
SUMMARY:MOBIHEALTH 2015 Notification Due
DESCRIPTION:5th International Conference on Wireless Mobile Communication
  and Healthcare
URL:http://www.wikicfp.com/cfp/servlet/event.showcfp?eventid=45689&copyow
 nerid=78271
UID:cfp529312-N@wikicfp.com
END:VEVENT
BEGIN:VEVENT
DTSTAMP:20260420T221905Z
DTSTART;VALUE=DATE:20150803
SUMMARY:MOBIHEALTH 2015 Final Version Due
DESCRIPTION:5th International Conference on Wireless Mobile Communication
  and Healthcare
URL:http://www.wikicfp.com/cfp/servlet/event.showcfp?eventid=45689&copyow
 nerid=78271
UID:cfp529312-N@wikicfp.com
END:VEVENT
END:VCALENDAR
