BEGIN:VCALENDAR
PRODID:-//WikiCFP//dallmann 1.0//EN
VERSION:2.0
CALSCALE:GREGORIAN
BEGIN:VEVENT
DTSTAMP:20260422T181212Z
DTSTART;VALUE=DATE:20141021
DTEND;VALUE=DATE:20141025
SUMMARY:KDIR 2014
DESCRIPTION:KDIR 6th International Conference on Knowledge Discovery and 
 Information Retrieval
URL:http://www.wikicfp.com/cfp/servlet/event.showcfp?eventid=38484&copyow
 nerid=77256
UID:cfp523108-E@wikicfp.com
END:VEVENT
BEGIN:VEVENT
DTSTAMP:20260422T181212Z
DTSTART;VALUE=DATE:20140623
SUMMARY:KDIR 2014 Deadline
DESCRIPTION:KDIR 6th International Conference on Knowledge Discovery and 
 Information Retrieval
URL:http://www.wikicfp.com/cfp/servlet/event.showcfp?eventid=38484&copyow
 nerid=77256
UID:cfp523108-D@wikicfp.com
END:VEVENT
BEGIN:VEVENT
DTSTAMP:20260422T181212Z
DTSTART;VALUE=DATE:20140714
SUMMARY:KDIR 2014 Notification Due
DESCRIPTION:KDIR 6th International Conference on Knowledge Discovery and 
 Information Retrieval
URL:http://www.wikicfp.com/cfp/servlet/event.showcfp?eventid=38484&copyow
 nerid=77256
UID:cfp523108-N@wikicfp.com
END:VEVENT
BEGIN:VEVENT
DTSTAMP:20260422T181212Z
DTSTART;VALUE=DATE:20140719
SUMMARY:KDIR 2014 Final Version Due
DESCRIPTION:KDIR 6th International Conference on Knowledge Discovery and 
 Information Retrieval
URL:http://www.wikicfp.com/cfp/servlet/event.showcfp?eventid=38484&copyow
 nerid=77256
UID:cfp523108-N@wikicfp.com
END:VEVENT
BEGIN:VEVENT
DTSTAMP:20260422T181212Z
DTSTART;VALUE=DATE:20150329
DTEND;VALUE=DATE:20150403
SUMMARY:ECIR 2015
DESCRIPTION:37th European Conference on Information Retrieval
URL:http://www.wikicfp.com/cfp/servlet/event.showcfp?eventid=37647&copyow
 nerid=77256
UID:cfp523104-E@wikicfp.com
END:VEVENT
BEGIN:VEVENT
DTSTAMP:20260422T181212Z
DTSTART;VALUE=DATE:20141001
SUMMARY:ECIR 2015 Deadline
DESCRIPTION:37th European Conference on Information Retrieval
URL:http://www.wikicfp.com/cfp/servlet/event.showcfp?eventid=37647&copyow
 nerid=77256
UID:cfp523104-D@wikicfp.com
END:VEVENT
BEGIN:VEVENT
DTSTAMP:20260422T181212Z
DTSTART;VALUE=DATE:20141201
SUMMARY:ECIR 2015 Notification Due
DESCRIPTION:37th European Conference on Information Retrieval
URL:http://www.wikicfp.com/cfp/servlet/event.showcfp?eventid=37647&copyow
 nerid=77256
UID:cfp523104-N@wikicfp.com
END:VEVENT
BEGIN:VEVENT
DTSTAMP:20260422T181212Z
DTSTART;VALUE=DATE:20150111
SUMMARY:ECIR 2015 Final Version Due
DESCRIPTION:37th European Conference on Information Retrieval
URL:http://www.wikicfp.com/cfp/servlet/event.showcfp?eventid=37647&copyow
 nerid=77256
UID:cfp523104-N@wikicfp.com
END:VEVENT
BEGIN:VEVENT
DTSTAMP:20260422T181212Z
DTSTART;VALUE=DATE:20150629
DTEND;VALUE=DATE:20150704
SUMMARY:DH 2015
DESCRIPTION:Digital Humanities 2015: Global Digital Humanities
URL:http://www.wikicfp.com/cfp/servlet/event.showcfp?eventid=40614&copyow
 nerid=77256
UID:cfp523098-E@wikicfp.com
END:VEVENT
BEGIN:VEVENT
DTSTAMP:20260422T181212Z
DTSTART;VALUE=DATE:20141103
SUMMARY:DH 2015 Deadline
DESCRIPTION:Digital Humanities 2015: Global Digital Humanities
URL:http://www.wikicfp.com/cfp/servlet/event.showcfp?eventid=40614&copyow
 nerid=77256
UID:cfp523098-D@wikicfp.com
END:VEVENT
BEGIN:VEVENT
DTSTAMP:20260422T181212Z
DTSTART;VALUE=DATE:20150131
SUMMARY:DH 2015 Notification Due
DESCRIPTION:Digital Humanities 2015: Global Digital Humanities
URL:http://www.wikicfp.com/cfp/servlet/event.showcfp?eventid=40614&copyow
 nerid=77256
UID:cfp523098-N@wikicfp.com
END:VEVENT
BEGIN:VEVENT
DTSTAMP:20260422T181212Z
DTSTART;VALUE=DATE:20150520
DTEND;VALUE=DATE:20150523
SUMMARY:WWW 2015
DESCRIPTION:International World Wide Web Conferences
URL:http://www.wikicfp.com/cfp/servlet/event.showcfp?eventid=38969&copyow
 nerid=77256
UID:cfp523100-E@wikicfp.com
END:VEVENT
BEGIN:VEVENT
DTSTAMP:20260422T181212Z
DTSTART;VALUE=DATE:20141103
SUMMARY:WWW 2015 Abstract Due
DESCRIPTION:International World Wide Web Conferences
URL:http://www.wikicfp.com/cfp/servlet/event.showcfp?eventid=38969&copyow
 nerid=77256
UID:cfp523100-A@wikicfp.com
END:VEVENT
BEGIN:VEVENT
DTSTAMP:20260422T181212Z
DTSTART;VALUE=DATE:20141110
SUMMARY:WWW 2015 Deadline
DESCRIPTION:International World Wide Web Conferences
URL:http://www.wikicfp.com/cfp/servlet/event.showcfp?eventid=38969&copyow
 nerid=77256
UID:cfp523100-D@wikicfp.com
END:VEVENT
BEGIN:VEVENT
DTSTAMP:20260422T181212Z
DTSTART;VALUE=DATE:20150117
SUMMARY:WWW 2015 Notification Due
DESCRIPTION:International World Wide Web Conferences
URL:http://www.wikicfp.com/cfp/servlet/event.showcfp?eventid=38969&copyow
 nerid=77256
UID:cfp523100-N@wikicfp.com
END:VEVENT
BEGIN:VEVENT
DTSTAMP:20260422T181212Z
DTSTART;VALUE=DATE:20150308
SUMMARY:WWW 2015 Final Version Due
DESCRIPTION:International World Wide Web Conferences
URL:http://www.wikicfp.com/cfp/servlet/event.showcfp?eventid=38969&copyow
 nerid=77256
UID:cfp523100-N@wikicfp.com
END:VEVENT
BEGIN:VEVENT
DTSTAMP:20260422T181212Z
DTSTART;VALUE=DATE:20150809
DTEND;VALUE=DATE:20150814
SUMMARY:SIGIR 2015
DESCRIPTION:ACM SIGIR Conference
URL:http://www.wikicfp.com/cfp/servlet/event.showcfp?eventid=40707&copyow
 nerid=77256
UID:cfp523106-E@wikicfp.com
END:VEVENT
BEGIN:VEVENT
DTSTAMP:20260422T181212Z
DTSTART;VALUE=DATE:20150128
SUMMARY:SIGIR 2015 Deadline
DESCRIPTION:ACM SIGIR Conference
URL:http://www.wikicfp.com/cfp/servlet/event.showcfp?eventid=40707&copyow
 nerid=77256
UID:cfp523106-D@wikicfp.com
END:VEVENT
BEGIN:VEVENT
DTSTAMP:20260422T181212Z
DTSTART;VALUE=DATE:20150810
DTEND;VALUE=DATE:20150814
SUMMARY:KDD 2015
DESCRIPTION:21th ACM SIGKDD Conference on Knowledge Discovery and Data Mi
 ning
URL:http://www.wikicfp.com/cfp/servlet/event.showcfp?eventid=40581&copyow
 nerid=77256
UID:cfp523101-E@wikicfp.com
END:VEVENT
BEGIN:VEVENT
DTSTAMP:20260422T181212Z
DTSTART;VALUE=DATE:20150220
SUMMARY:KDD 2015 Deadline
DESCRIPTION:21th ACM SIGKDD Conference on Knowledge Discovery and Data Mi
 ning
URL:http://www.wikicfp.com/cfp/servlet/event.showcfp?eventid=40581&copyow
 nerid=77256
UID:cfp523101-D@wikicfp.com
END:VEVENT
BEGIN:VEVENT
DTSTAMP:20260422T181212Z
DTSTART;VALUE=DATE:20150512
SUMMARY:KDD 2015 Notification Due
DESCRIPTION:21th ACM SIGKDD Conference on Knowledge Discovery and Data Mi
 ning
URL:http://www.wikicfp.com/cfp/servlet/event.showcfp?eventid=40581&copyow
 nerid=77256
UID:cfp523101-N@wikicfp.com
END:VEVENT
BEGIN:VEVENT
DTSTAMP:20260422T181212Z
DTSTART;VALUE=DATE:20150628
DTEND;VALUE=DATE:20150702
SUMMARY:WebSci 2015
DESCRIPTION:ACM Web Science
URL:http://www.wikicfp.com/cfp/servlet/event.showcfp?eventid=43394&copyow
 nerid=77256
UID:cfp523103-E@wikicfp.com
END:VEVENT
BEGIN:VEVENT
DTSTAMP:20260422T181212Z
DTSTART;VALUE=DATE:20150320
SUMMARY:WebSci 2015 Deadline
DESCRIPTION:ACM Web Science
URL:http://www.wikicfp.com/cfp/servlet/event.showcfp?eventid=43394&copyow
 nerid=77256
UID:cfp523103-D@wikicfp.com
END:VEVENT
BEGIN:VEVENT
DTSTAMP:20260422T181212Z
DTSTART;VALUE=DATE:20150430
SUMMARY:WebSci 2015 Notification Due
DESCRIPTION:ACM Web Science
URL:http://www.wikicfp.com/cfp/servlet/event.showcfp?eventid=43394&copyow
 nerid=77256
UID:cfp523103-N@wikicfp.com
END:VEVENT
BEGIN:VEVENT
DTSTAMP:20260422T181212Z
DTSTART;VALUE=DATE:20150515
SUMMARY:WebSci 2015 Final Version Due
DESCRIPTION:ACM Web Science
URL:http://www.wikicfp.com/cfp/servlet/event.showcfp?eventid=43394&copyow
 nerid=77256
UID:cfp523103-N@wikicfp.com
END:VEVENT
BEGIN:VEVENT
DTSTAMP:20260422T181212Z
DTSTART;VALUE=DATE:20150907
DTEND;VALUE=DATE:20150912
SUMMARY:ECML-PKDD 2015
DESCRIPTION:European Conference on Machine Learning and Principles and Pr
 actice of Knowledge Discovery in Databases
URL:http://www.wikicfp.com/cfp/servlet/event.showcfp?eventid=40580&copyow
 nerid=77256
UID:cfp523102-E@wikicfp.com
END:VEVENT
BEGIN:VEVENT
DTSTAMP:20260422T181212Z
DTSTART;VALUE=DATE:20150326
SUMMARY:ECML-PKDD 2015 Abstract Due
DESCRIPTION:European Conference on Machine Learning and Principles and Pr
 actice of Knowledge Discovery in Databases
URL:http://www.wikicfp.com/cfp/servlet/event.showcfp?eventid=40580&copyow
 nerid=77256
UID:cfp523102-A@wikicfp.com
END:VEVENT
BEGIN:VEVENT
DTSTAMP:20260422T181212Z
DTSTART;VALUE=DATE:20150402
SUMMARY:ECML-PKDD 2015 Deadline
DESCRIPTION:European Conference on Machine Learning and Principles and Pr
 actice of Knowledge Discovery in Databases
URL:http://www.wikicfp.com/cfp/servlet/event.showcfp?eventid=40580&copyow
 nerid=77256
UID:cfp523102-D@wikicfp.com
END:VEVENT
BEGIN:VEVENT
DTSTAMP:20260422T181212Z
DTSTART;VALUE=DATE:20150601
SUMMARY:ECML-PKDD 2015 Notification Due
DESCRIPTION:European Conference on Machine Learning and Principles and Pr
 actice of Knowledge Discovery in Databases
URL:http://www.wikicfp.com/cfp/servlet/event.showcfp?eventid=40580&copyow
 nerid=77256
UID:cfp523102-N@wikicfp.com
END:VEVENT
BEGIN:VEVENT
DTSTAMP:20260422T181212Z
DTSTART;VALUE=DATE:20150615
SUMMARY:ECML-PKDD 2015 Final Version Due
DESCRIPTION:European Conference on Machine Learning and Principles and Pr
 actice of Knowledge Discovery in Databases
URL:http://www.wikicfp.com/cfp/servlet/event.showcfp?eventid=40580&copyow
 nerid=77256
UID:cfp523102-N@wikicfp.com
END:VEVENT
BEGIN:VEVENT
DTSTAMP:20260422T181212Z
DTSTART;VALUE=DATE:20151112
DTEND;VALUE=DATE:20151115
SUMMARY:KDIR 2015
DESCRIPTION:International Conference on Knowledge Discovery and Informati
 on Retrieval
URL:http://www.wikicfp.com/cfp/servlet/event.showcfp?eventid=45471&copyow
 nerid=77256
UID:cfp523109-E@wikicfp.com
END:VEVENT
BEGIN:VEVENT
DTSTAMP:20260422T181212Z
DTSTART;VALUE=DATE:20150602
SUMMARY:KDIR 2015 Deadline
DESCRIPTION:International Conference on Knowledge Discovery and Informati
 on Retrieval
URL:http://www.wikicfp.com/cfp/servlet/event.showcfp?eventid=45471&copyow
 nerid=77256
UID:cfp523109-D@wikicfp.com
END:VEVENT
BEGIN:VEVENT
DTSTAMP:20260422T181212Z
DTSTART;VALUE=DATE:20150901
SUMMARY:KDIR 2015 Notification Due
DESCRIPTION:International Conference on Knowledge Discovery and Informati
 on Retrieval
URL:http://www.wikicfp.com/cfp/servlet/event.showcfp?eventid=45471&copyow
 nerid=77256
UID:cfp523109-N@wikicfp.com
END:VEVENT
BEGIN:VEVENT
DTSTAMP:20260422T181212Z
DTSTART;VALUE=DATE:20150930
SUMMARY:KDIR 2015 Final Version Due
DESCRIPTION:International Conference on Knowledge Discovery and Informati
 on Retrieval
URL:http://www.wikicfp.com/cfp/servlet/event.showcfp?eventid=45471&copyow
 nerid=77256
UID:cfp523109-N@wikicfp.com
END:VEVENT
BEGIN:VEVENT
DTSTAMP:20260422T181212Z
DTSTART;VALUE=DATE:20160313
DTEND;VALUE=DATE:20160318
SUMMARY:CHIIR 2016
DESCRIPTION:1st annual ACM SIGIR Conference on Human Information Interact
 ion and Retrieval
URL:http://www.wikicfp.com/cfp/servlet/event.showcfp?eventid=44376&copyow
 nerid=77256
UID:cfp523107-E@wikicfp.com
END:VEVENT
BEGIN:VEVENT
DTSTAMP:20260422T181212Z
DTSTART;VALUE=DATE:20150901
SUMMARY:CHIIR 2016 Deadline
DESCRIPTION:1st annual ACM SIGIR Conference on Human Information Interact
 ion and Retrieval
URL:http://www.wikicfp.com/cfp/servlet/event.showcfp?eventid=44376&copyow
 nerid=77256
UID:cfp523107-D@wikicfp.com
END:VEVENT
BEGIN:VEVENT
DTSTAMP:20260422T181212Z
DTSTART;VALUE=DATE:20151113
SUMMARY:CHIIR 2016 Notification Due
DESCRIPTION:1st annual ACM SIGIR Conference on Human Information Interact
 ion and Retrieval
URL:http://www.wikicfp.com/cfp/servlet/event.showcfp?eventid=44376&copyow
 nerid=77256
UID:cfp523107-N@wikicfp.com
END:VEVENT
END:VCALENDAR
