BEGIN:VCALENDAR
PRODID:-//WikiCFP//muhaochen 1.0//EN
VERSION:2.0
CALSCALE:GREGORIAN
BEGIN:VEVENT
DTSTAMP:20260421T082759Z
DTSTART;VALUE=DATE:20151013
DTEND;VALUE=DATE:20151016
SUMMARY:COSIT 2015
DESCRIPTION:12th International Conference on Spatial Information Theory
URL:http://www.wikicfp.com/cfp/servlet/event.showcfp?eventid=45363&copyow
 nerid=77062
UID:cfp521583-E@wikicfp.com
END:VEVENT
BEGIN:VEVENT
DTSTAMP:20260421T082759Z
DTSTART;VALUE=DATE:20150406
SUMMARY:COSIT 2015 Deadline
DESCRIPTION:12th International Conference on Spatial Information Theory
URL:http://www.wikicfp.com/cfp/servlet/event.showcfp?eventid=45363&copyow
 nerid=77062
UID:cfp521583-D@wikicfp.com
END:VEVENT
BEGIN:VEVENT
DTSTAMP:20260421T082759Z
DTSTART;VALUE=DATE:20150525
SUMMARY:COSIT 2015 Notification Due
DESCRIPTION:12th International Conference on Spatial Information Theory
URL:http://www.wikicfp.com/cfp/servlet/event.showcfp?eventid=45363&copyow
 nerid=77062
UID:cfp521583-N@wikicfp.com
END:VEVENT
BEGIN:VEVENT
DTSTAMP:20260421T082759Z
DTSTART;VALUE=DATE:20150615
SUMMARY:COSIT 2015 Final Version Due
DESCRIPTION:12th International Conference on Spatial Information Theory
URL:http://www.wikicfp.com/cfp/servlet/event.showcfp?eventid=45363&copyow
 nerid=77062
UID:cfp521583-N@wikicfp.com
END:VEVENT
BEGIN:VEVENT
DTSTAMP:20260421T082759Z
DTSTART;VALUE=DATE:20190603
DTEND;VALUE=DATE:20190606
SUMMARY:AIKE DC Award 2019
DESCRIPTION:IEEE AIKE Doctoral Consortium and Young Researchers Travel Aw
 ards
URL:http://www.wikicfp.com/cfp/servlet/event.showcfp?eventid=87976&copyow
 nerid=77062
UID:cfp779957-E@wikicfp.com
END:VEVENT
BEGIN:VEVENT
DTSTAMP:20260421T082759Z
DTSTART;VALUE=DATE:20190425
SUMMARY:AIKE DC Award 2019 Deadline
DESCRIPTION:IEEE AIKE Doctoral Consortium and Young Researchers Travel Aw
 ards
URL:http://www.wikicfp.com/cfp/servlet/event.showcfp?eventid=87976&copyow
 nerid=77062
UID:cfp779957-D@wikicfp.com
END:VEVENT
BEGIN:VEVENT
DTSTAMP:20260421T082759Z
DTSTART;VALUE=DATE:20190427
SUMMARY:AIKE DC Award 2019 Notification Due
DESCRIPTION:IEEE AIKE Doctoral Consortium and Young Researchers Travel Aw
 ards
URL:http://www.wikicfp.com/cfp/servlet/event.showcfp?eventid=87976&copyow
 nerid=77062
UID:cfp779957-N@wikicfp.com
END:VEVENT
BEGIN:VEVENT
DTSTAMP:20260421T082759Z
DTSTART;VALUE=DATE:20190427
SUMMARY:AIKE DC Award 2019 Final Version Due
DESCRIPTION:IEEE AIKE Doctoral Consortium and Young Researchers Travel Aw
 ards
URL:http://www.wikicfp.com/cfp/servlet/event.showcfp?eventid=87976&copyow
 nerid=77062
UID:cfp779957-N@wikicfp.com
END:VEVENT
BEGIN:VEVENT
DTSTAMP:20260421T082759Z
DTSTART;VALUE=DATE:20220101
DTEND;VALUE=DATE:20220102
SUMMARY:Frontiers in Big Data 2022
DESCRIPTION:Frontiers in Big Data Journal - Special Issue on Representati
 on and Learning for Structured Knowledge
URL:http://www.wikicfp.com/cfp/servlet/event.showcfp?eventid=148430&copyo
 wnerid=77062
UID:cfp908144-E@wikicfp.com
END:VEVENT
BEGIN:VEVENT
DTSTAMP:20260421T082759Z
DTSTART;VALUE=DATE:20211130
SUMMARY:Frontiers in Big Data 2022 Deadline
DESCRIPTION:Frontiers in Big Data Journal - Special Issue on Representati
 on and Learning for Structured Knowledge
URL:http://www.wikicfp.com/cfp/servlet/event.showcfp?eventid=148430&copyo
 wnerid=77062
UID:cfp908144-D@wikicfp.com
END:VEVENT
END:VCALENDAR
