BEGIN:VCALENDAR
PRODID:-//WikiCFP//lwj0012 1.0//EN
VERSION:2.0
CALSCALE:GREGORIAN
BEGIN:VEVENT
DTSTAMP:20260420T214536Z
DTSTART;VALUE=DATE:20151205
DTEND;VALUE=DATE:20151210
SUMMARY:MICRO 2015
DESCRIPTION:The 48th International Symposium on Microarchitecture
URL:http://www.wikicfp.com/cfp/servlet/event.showcfp?eventid=45112&copyow
 nerid=76752
UID:cfp519067-E@wikicfp.com
END:VEVENT
BEGIN:VEVENT
DTSTAMP:20260420T214536Z
DTSTART;VALUE=DATE:20150515
SUMMARY:MICRO 2015 Abstract Due
DESCRIPTION:The 48th International Symposium on Microarchitecture
URL:http://www.wikicfp.com/cfp/servlet/event.showcfp?eventid=45112&copyow
 nerid=76752
UID:cfp519067-A@wikicfp.com
END:VEVENT
BEGIN:VEVENT
DTSTAMP:20260420T214536Z
DTSTART;VALUE=DATE:20150522
SUMMARY:MICRO 2015 Deadline
DESCRIPTION:The 48th International Symposium on Microarchitecture
URL:http://www.wikicfp.com/cfp/servlet/event.showcfp?eventid=45112&copyow
 nerid=76752
UID:cfp519067-D@wikicfp.com
END:VEVENT
BEGIN:VEVENT
DTSTAMP:20260420T214536Z
DTSTART;VALUE=DATE:20150903
SUMMARY:MICRO 2015 Notification Due
DESCRIPTION:The 48th International Symposium on Microarchitecture
URL:http://www.wikicfp.com/cfp/servlet/event.showcfp?eventid=45112&copyow
 nerid=76752
UID:cfp519067-N@wikicfp.com
END:VEVENT
END:VCALENDAR
