BEGIN:VCALENDAR
PRODID:-//WikiCFP//lietal 1.0//EN
VERSION:2.0
CALSCALE:GREGORIAN
BEGIN:VEVENT
DTSTAMP:20260421T191606Z
DTSTART;VALUE=DATE:20150519
DTEND;VALUE=DATE:20150523
SUMMARY:PAKDD 2015
DESCRIPTION:Pacific-Asia Conference on Knowledge Discovery and Data Minin
 g
URL:http://www.wikicfp.com/cfp/servlet/event.showcfp?eventid=40000&copyow
 nerid=76706
UID:cfp518859-E@wikicfp.com
END:VEVENT
BEGIN:VEVENT
DTSTAMP:20260421T191606Z
DTSTART;VALUE=DATE:20141128
SUMMARY:PAKDD 2015 Deadline
DESCRIPTION:Pacific-Asia Conference on Knowledge Discovery and Data Minin
 g
URL:http://www.wikicfp.com/cfp/servlet/event.showcfp?eventid=40000&copyow
 nerid=76706
UID:cfp518859-D@wikicfp.com
END:VEVENT
BEGIN:VEVENT
DTSTAMP:20260421T191606Z
DTSTART;VALUE=DATE:20150130
SUMMARY:PAKDD 2015 Notification Due
DESCRIPTION:Pacific-Asia Conference on Knowledge Discovery and Data Minin
 g
URL:http://www.wikicfp.com/cfp/servlet/event.showcfp?eventid=40000&copyow
 nerid=76706
UID:cfp518859-N@wikicfp.com
END:VEVENT
BEGIN:VEVENT
DTSTAMP:20260421T191606Z
DTSTART;VALUE=DATE:20150220
SUMMARY:PAKDD 2015 Final Version Due
DESCRIPTION:Pacific-Asia Conference on Knowledge Discovery and Data Minin
 g
URL:http://www.wikicfp.com/cfp/servlet/event.showcfp?eventid=40000&copyow
 nerid=76706
UID:cfp518859-N@wikicfp.com
END:VEVENT
BEGIN:VEVENT
DTSTAMP:20260421T191606Z
DTSTART;VALUE=DATE:20150608
DTEND;VALUE=DATE:20150611
SUMMARY:WAIM 2015
DESCRIPTION:The 16th International conference on Web-Age Information Mana
 gement (WAIM2015)
URL:http://www.wikicfp.com/cfp/servlet/event.showcfp?eventid=42066&copyow
 nerid=76706
UID:cfp518857-E@wikicfp.com
END:VEVENT
BEGIN:VEVENT
DTSTAMP:20260421T191606Z
DTSTART;VALUE=DATE:20150116
SUMMARY:WAIM 2015 Abstract Due
DESCRIPTION:The 16th International conference on Web-Age Information Mana
 gement (WAIM2015)
URL:http://www.wikicfp.com/cfp/servlet/event.showcfp?eventid=42066&copyow
 nerid=76706
UID:cfp518857-A@wikicfp.com
END:VEVENT
BEGIN:VEVENT
DTSTAMP:20260421T191606Z
DTSTART;VALUE=DATE:20150123
SUMMARY:WAIM 2015 Deadline
DESCRIPTION:The 16th International conference on Web-Age Information Mana
 gement (WAIM2015)
URL:http://www.wikicfp.com/cfp/servlet/event.showcfp?eventid=42066&copyow
 nerid=76706
UID:cfp518857-D@wikicfp.com
END:VEVENT
BEGIN:VEVENT
DTSTAMP:20260421T191606Z
DTSTART;VALUE=DATE:20150314
SUMMARY:WAIM 2015 Notification Due
DESCRIPTION:The 16th International conference on Web-Age Information Mana
 gement (WAIM2015)
URL:http://www.wikicfp.com/cfp/servlet/event.showcfp?eventid=42066&copyow
 nerid=76706
UID:cfp518857-N@wikicfp.com
END:VEVENT
BEGIN:VEVENT
DTSTAMP:20260421T191606Z
DTSTART;VALUE=DATE:20150324
SUMMARY:WAIM 2015 Final Version Due
DESCRIPTION:The 16th International conference on Web-Age Information Mana
 gement (WAIM2015)
URL:http://www.wikicfp.com/cfp/servlet/event.showcfp?eventid=42066&copyow
 nerid=76706
UID:cfp518857-N@wikicfp.com
END:VEVENT
BEGIN:VEVENT
DTSTAMP:20260421T191606Z
DTSTART;VALUE=DATE:20150706
DTEND;VALUE=DATE:20150712
SUMMARY:ICML 2015
DESCRIPTION:International Conference on Machine Learning 2015
URL:http://www.wikicfp.com/cfp/servlet/event.showcfp?eventid=40054&copyow
 nerid=76706
UID:cfp518860-E@wikicfp.com
END:VEVENT
BEGIN:VEVENT
DTSTAMP:20260421T191606Z
DTSTART;VALUE=DATE:20150206
SUMMARY:ICML 2015 Deadline
DESCRIPTION:International Conference on Machine Learning 2015
URL:http://www.wikicfp.com/cfp/servlet/event.showcfp?eventid=40054&copyow
 nerid=76706
UID:cfp518860-D@wikicfp.com
END:VEVENT
BEGIN:VEVENT
DTSTAMP:20260421T191606Z
DTSTART;VALUE=DATE:20150424
SUMMARY:ICML 2015 Notification Due
DESCRIPTION:International Conference on Machine Learning 2015
URL:http://www.wikicfp.com/cfp/servlet/event.showcfp?eventid=40054&copyow
 nerid=76706
UID:cfp518860-N@wikicfp.com
END:VEVENT
BEGIN:VEVENT
DTSTAMP:20260421T191606Z
DTSTART;VALUE=DATE:20150907
DTEND;VALUE=DATE:20150912
SUMMARY:ECML-PKDD 2015
DESCRIPTION:European Conference on Machine Learning and Principles and Pr
 actice of Knowledge Discovery in Databases
URL:http://www.wikicfp.com/cfp/servlet/event.showcfp?eventid=40580&copyow
 nerid=76706
UID:cfp518852-E@wikicfp.com
END:VEVENT
BEGIN:VEVENT
DTSTAMP:20260421T191606Z
DTSTART;VALUE=DATE:20150326
SUMMARY:ECML-PKDD 2015 Abstract Due
DESCRIPTION:European Conference on Machine Learning and Principles and Pr
 actice of Knowledge Discovery in Databases
URL:http://www.wikicfp.com/cfp/servlet/event.showcfp?eventid=40580&copyow
 nerid=76706
UID:cfp518852-A@wikicfp.com
END:VEVENT
BEGIN:VEVENT
DTSTAMP:20260421T191606Z
DTSTART;VALUE=DATE:20150402
SUMMARY:ECML-PKDD 2015 Deadline
DESCRIPTION:European Conference on Machine Learning and Principles and Pr
 actice of Knowledge Discovery in Databases
URL:http://www.wikicfp.com/cfp/servlet/event.showcfp?eventid=40580&copyow
 nerid=76706
UID:cfp518852-D@wikicfp.com
END:VEVENT
BEGIN:VEVENT
DTSTAMP:20260421T191606Z
DTSTART;VALUE=DATE:20150601
SUMMARY:ECML-PKDD 2015 Notification Due
DESCRIPTION:European Conference on Machine Learning and Principles and Pr
 actice of Knowledge Discovery in Databases
URL:http://www.wikicfp.com/cfp/servlet/event.showcfp?eventid=40580&copyow
 nerid=76706
UID:cfp518852-N@wikicfp.com
END:VEVENT
BEGIN:VEVENT
DTSTAMP:20260421T191606Z
DTSTART;VALUE=DATE:20150615
SUMMARY:ECML-PKDD 2015 Final Version Due
DESCRIPTION:European Conference on Machine Learning and Principles and Pr
 actice of Knowledge Discovery in Databases
URL:http://www.wikicfp.com/cfp/servlet/event.showcfp?eventid=40580&copyow
 nerid=76706
UID:cfp518852-N@wikicfp.com
END:VEVENT
BEGIN:VEVENT
DTSTAMP:20260421T191606Z
DTSTART;VALUE=DATE:20150726
DTEND;VALUE=DATE:20150801
SUMMARY:ACL-IJCNLP Short 2015
DESCRIPTION:Meeting of the Association for Computational Linguistics
URL:http://www.wikicfp.com/cfp/servlet/event.showcfp?eventid=42923&copyow
 nerid=76706
UID:cfp518861-E@wikicfp.com
END:VEVENT
BEGIN:VEVENT
DTSTAMP:20260421T191606Z
DTSTART;VALUE=DATE:20150430
SUMMARY:ACL-IJCNLP Short 2015 Deadline
DESCRIPTION:Meeting of the Association for Computational Linguistics
URL:http://www.wikicfp.com/cfp/servlet/event.showcfp?eventid=42923&copyow
 nerid=76706
UID:cfp518861-D@wikicfp.com
END:VEVENT
BEGIN:VEVENT
DTSTAMP:20260421T191606Z
DTSTART;VALUE=DATE:20150608
SUMMARY:ACL-IJCNLP Short 2015 Notification Due
DESCRIPTION:Meeting of the Association for Computational Linguistics
URL:http://www.wikicfp.com/cfp/servlet/event.showcfp?eventid=42923&copyow
 nerid=76706
UID:cfp518861-N@wikicfp.com
END:VEVENT
BEGIN:VEVENT
DTSTAMP:20260421T191606Z
DTSTART;VALUE=DATE:20150621
SUMMARY:ACL-IJCNLP Short 2015 Final Version Due
DESCRIPTION:Meeting of the Association for Computational Linguistics
URL:http://www.wikicfp.com/cfp/servlet/event.showcfp?eventid=42923&copyow
 nerid=76706
UID:cfp518861-N@wikicfp.com
END:VEVENT
BEGIN:VEVENT
DTSTAMP:20260421T191606Z
DTSTART;VALUE=DATE:20151019
DTEND;VALUE=DATE:20151024
SUMMARY:CIKM 2015
DESCRIPTION:Conference on Information and Knowledge Management
URL:http://www.wikicfp.com/cfp/servlet/event.showcfp?eventid=38972&copyow
 nerid=76706
UID:cfp518855-E@wikicfp.com
END:VEVENT
BEGIN:VEVENT
DTSTAMP:20260421T191606Z
DTSTART;VALUE=DATE:20150501
SUMMARY:CIKM 2015 Abstract Due
DESCRIPTION:Conference on Information and Knowledge Management
URL:http://www.wikicfp.com/cfp/servlet/event.showcfp?eventid=38972&copyow
 nerid=76706
UID:cfp518855-A@wikicfp.com
END:VEVENT
BEGIN:VEVENT
DTSTAMP:20260421T191606Z
DTSTART;VALUE=DATE:20150508
SUMMARY:CIKM 2015 Deadline
DESCRIPTION:Conference on Information and Knowledge Management
URL:http://www.wikicfp.com/cfp/servlet/event.showcfp?eventid=38972&copyow
 nerid=76706
UID:cfp518855-D@wikicfp.com
END:VEVENT
BEGIN:VEVENT
DTSTAMP:20260421T191606Z
DTSTART;VALUE=DATE:20150703
SUMMARY:CIKM 2015 Notification Due
DESCRIPTION:Conference on Information and Knowledge Management
URL:http://www.wikicfp.com/cfp/servlet/event.showcfp?eventid=38972&copyow
 nerid=76706
UID:cfp518855-N@wikicfp.com
END:VEVENT
BEGIN:VEVENT
DTSTAMP:20260421T191606Z
DTSTART;VALUE=DATE:20150731
SUMMARY:CIKM 2015 Final Version Due
DESCRIPTION:Conference on Information and Knowledge Management
URL:http://www.wikicfp.com/cfp/servlet/event.showcfp?eventid=38972&copyow
 nerid=76706
UID:cfp518855-N@wikicfp.com
END:VEVENT
BEGIN:VEVENT
DTSTAMP:20260421T191606Z
DTSTART;VALUE=DATE:20150917
DTEND;VALUE=DATE:20150922
SUMMARY:EMNLP 2015
DESCRIPTION:Empirical Methods in Natural Language Processing
URL:http://www.wikicfp.com/cfp/servlet/event.showcfp?eventid=41616&copyow
 nerid=76706
UID:cfp518851-E@wikicfp.com
END:VEVENT
BEGIN:VEVENT
DTSTAMP:20260421T191606Z
DTSTART;VALUE=DATE:20150531
SUMMARY:EMNLP 2015 Deadline
DESCRIPTION:Empirical Methods in Natural Language Processing
URL:http://www.wikicfp.com/cfp/servlet/event.showcfp?eventid=41616&copyow
 nerid=76706
UID:cfp518851-D@wikicfp.com
END:VEVENT
BEGIN:VEVENT
DTSTAMP:20260421T191606Z
DTSTART;VALUE=DATE:20150724
SUMMARY:EMNLP 2015 Notification Due
DESCRIPTION:Empirical Methods in Natural Language Processing
URL:http://www.wikicfp.com/cfp/servlet/event.showcfp?eventid=41616&copyow
 nerid=76706
UID:cfp518851-N@wikicfp.com
END:VEVENT
BEGIN:VEVENT
DTSTAMP:20260421T191606Z
DTSTART;VALUE=DATE:20150814
SUMMARY:EMNLP 2015 Final Version Due
DESCRIPTION:Empirical Methods in Natural Language Processing
URL:http://www.wikicfp.com/cfp/servlet/event.showcfp?eventid=41616&copyow
 nerid=76706
UID:cfp518851-N@wikicfp.com
END:VEVENT
BEGIN:VEVENT
DTSTAMP:20260421T191606Z
DTSTART;VALUE=DATE:20151114
DTEND;VALUE=DATE:20151118
SUMMARY:ICDM 2015
DESCRIPTION:International Conference on Data Mining
URL:http://www.wikicfp.com/cfp/servlet/event.showcfp?eventid=42705&copyow
 nerid=76706
UID:cfp518856-E@wikicfp.com
END:VEVENT
BEGIN:VEVENT
DTSTAMP:20260421T191606Z
DTSTART;VALUE=DATE:20150603
SUMMARY:ICDM 2015 Deadline
DESCRIPTION:International Conference on Data Mining
URL:http://www.wikicfp.com/cfp/servlet/event.showcfp?eventid=42705&copyow
 nerid=76706
UID:cfp518856-D@wikicfp.com
END:VEVENT
BEGIN:VEVENT
DTSTAMP:20260421T191606Z
DTSTART;VALUE=DATE:20151207
DTEND;VALUE=DATE:20151213
SUMMARY:NIPS 2015
DESCRIPTION:Neural Information Processing Systems Conference
URL:http://www.wikicfp.com/cfp/servlet/event.showcfp?eventid=44553&copyow
 nerid=76706
UID:cfp518854-E@wikicfp.com
END:VEVENT
BEGIN:VEVENT
DTSTAMP:20260421T191606Z
DTSTART;VALUE=DATE:20150605
SUMMARY:NIPS 2015 Deadline
DESCRIPTION:Neural Information Processing Systems Conference
URL:http://www.wikicfp.com/cfp/servlet/event.showcfp?eventid=44553&copyow
 nerid=76706
UID:cfp518854-D@wikicfp.com
END:VEVENT
BEGIN:VEVENT
DTSTAMP:20260421T191606Z
DTSTART;VALUE=DATE:20160212
DTEND;VALUE=DATE:20160218
SUMMARY:AAAI 2016
DESCRIPTION:Thirtieth AAAI Conference on Artificial Intelligence
URL:http://www.wikicfp.com/cfp/servlet/event.showcfp?eventid=45094&copyow
 nerid=76706
UID:cfp518853-E@wikicfp.com
END:VEVENT
BEGIN:VEVENT
DTSTAMP:20260421T191606Z
DTSTART;VALUE=DATE:20150910
SUMMARY:AAAI 2016 Abstract Due
DESCRIPTION:Thirtieth AAAI Conference on Artificial Intelligence
URL:http://www.wikicfp.com/cfp/servlet/event.showcfp?eventid=45094&copyow
 nerid=76706
UID:cfp518853-A@wikicfp.com
END:VEVENT
BEGIN:VEVENT
DTSTAMP:20260421T191606Z
DTSTART;VALUE=DATE:20150915
SUMMARY:AAAI 2016 Deadline
DESCRIPTION:Thirtieth AAAI Conference on Artificial Intelligence
URL:http://www.wikicfp.com/cfp/servlet/event.showcfp?eventid=45094&copyow
 nerid=76706
UID:cfp518853-D@wikicfp.com
END:VEVENT
BEGIN:VEVENT
DTSTAMP:20260421T191606Z
DTSTART;VALUE=DATE:20151112
SUMMARY:AAAI 2016 Notification Due
DESCRIPTION:Thirtieth AAAI Conference on Artificial Intelligence
URL:http://www.wikicfp.com/cfp/servlet/event.showcfp?eventid=45094&copyow
 nerid=76706
UID:cfp518853-N@wikicfp.com
END:VEVENT
BEGIN:VEVENT
DTSTAMP:20260421T191606Z
DTSTART;VALUE=DATE:20180423
DTEND;VALUE=DATE:20180428
SUMMARY:WWW 2018
DESCRIPTION:World Wide Web (The Web Conference)
URL:http://www.wikicfp.com/cfp/servlet/event.showcfp?eventid=63231&copyow
 nerid=76706
UID:cfp684777-E@wikicfp.com
END:VEVENT
BEGIN:VEVENT
DTSTAMP:20260421T191606Z
DTSTART;VALUE=DATE:20171027
SUMMARY:WWW 2018 Abstract Due
DESCRIPTION:World Wide Web (The Web Conference)
URL:http://www.wikicfp.com/cfp/servlet/event.showcfp?eventid=63231&copyow
 nerid=76706
UID:cfp684777-A@wikicfp.com
END:VEVENT
BEGIN:VEVENT
DTSTAMP:20260421T191606Z
DTSTART;VALUE=DATE:20171031
SUMMARY:WWW 2018 Deadline
DESCRIPTION:World Wide Web (The Web Conference)
URL:http://www.wikicfp.com/cfp/servlet/event.showcfp?eventid=63231&copyow
 nerid=76706
UID:cfp684777-D@wikicfp.com
END:VEVENT
BEGIN:VEVENT
DTSTAMP:20260421T191606Z
DTSTART;VALUE=DATE:20171222
SUMMARY:WWW 2018 Notification Due
DESCRIPTION:World Wide Web (The Web Conference)
URL:http://www.wikicfp.com/cfp/servlet/event.showcfp?eventid=63231&copyow
 nerid=76706
UID:cfp684777-N@wikicfp.com
END:VEVENT
BEGIN:VEVENT
DTSTAMP:20260421T191606Z
DTSTART;VALUE=DATE:20180214
SUMMARY:WWW 2018 Final Version Due
DESCRIPTION:World Wide Web (The Web Conference)
URL:http://www.wikicfp.com/cfp/servlet/event.showcfp?eventid=63231&copyow
 nerid=76706
UID:cfp684777-N@wikicfp.com
END:VEVENT
BEGIN:VEVENT
DTSTAMP:20260421T191606Z
DTSTART;VALUE=DATE:20180601
DTEND;VALUE=DATE:20180607
SUMMARY:NAACL HLT 2018
DESCRIPTION:The 16th Annual Conference of the North American Chapter of t
 he Association for Computational Linguistics: Human Language Technologie
 s
URL:http://www.wikicfp.com/cfp/servlet/event.showcfp?eventid=67397&copyow
 nerid=76706
UID:cfp684778-E@wikicfp.com
END:VEVENT
BEGIN:VEVENT
DTSTAMP:20260421T191606Z
DTSTART;VALUE=DATE:20171215
SUMMARY:NAACL HLT 2018 Deadline
DESCRIPTION:The 16th Annual Conference of the North American Chapter of t
 he Association for Computational Linguistics: Human Language Technologie
 s
URL:http://www.wikicfp.com/cfp/servlet/event.showcfp?eventid=67397&copyow
 nerid=76706
UID:cfp684778-D@wikicfp.com
END:VEVENT
BEGIN:VEVENT
DTSTAMP:20260421T191606Z
DTSTART;VALUE=DATE:20180213
SUMMARY:NAACL HLT 2018 Notification Due
DESCRIPTION:The 16th Annual Conference of the North American Chapter of t
 he Association for Computational Linguistics: Human Language Technologie
 s
URL:http://www.wikicfp.com/cfp/servlet/event.showcfp?eventid=67397&copyow
 nerid=76706
UID:cfp684778-N@wikicfp.com
END:VEVENT
END:VCALENDAR
